PDS_VERSION_ID = PDS3
/* FILE DATA ELEMENTS */
RECORD_TYPE = UNDEFINED
/* POINTERS TO DATA OBJECTS */
^IMAGE = ("HC717_0000_S24.TIF")
/* IDENTIFICATION DATA ELEMENTS */
DATA_SET_ID = "MEX-M-HRSC-4-REFDR-MAPPROJECT-EXT4-V4.0"
DATA_SET_NAME = "MARS EXPRESS HRSC MAP PROJECTED REFDR EXTENSION4 V4.0"
DETECTOR_ID = MEX_HRSC_S2
EVENT_TYPE = "MARS-REGIONAL-MAPPING-Im-Fl-Mw"
INSTRUMENT_HOST_ID = MEX
INSTRUMENT_HOST_NAME = "MARS EXPRESS"
INSTRUMENT_ID = HRSC
INSTRUMENT_NAME = "HIGH RESOLUTION STEREO CAMERA"
MISSION_NAME = "MARS EXPRESS"
MISSION_PHASE_NAME = ME_Phase_29
PROCESSING_LEVEL_ID = 4
PRODUCT_CREATION_TIME = 2023-01-31T11:51:40.000Z
PRODUCT_ID = "HC717_0000_S24.TIF"
RELEASE_ID = 0003
REVISION_ID = 0000
/* QUALITY DATA ELEMENTS */
DATA_QUALITY_ID = 1
DATA_QUALITY_DESC = "Data calculated based on original SPICE kernels"
/* TIME DATA ELEMENTS */
SPACECRAFT_CLOCK_START_COUNT = "1/0336863374.09044"
SPACECRAFT_CLOCK_STOP_COUNT = "1/0336863646.64373"
START_TIME = 2014-01-03T21:09:38.853Z
STOP_TIME = 2014-01-03T21:12:43.555Z
/* ORBITAL DATA ELEMENTS */
ASCENDING_NODE_LONGITUDE = 335.01
MAXIMUM_RESOLUTION = 0.0293
FOOTPRINT_POINT_LATITUDE = (-43.7237,-43.6847,-43.6414,-43.584, -43.5824,-43.5321,-43.2077,-42.9915, -42.6677,-42.4512,-42.1263,-41.6935, -41.4761,-41.2594,-41.0432,-40.7189, -40.5026,-39.9625,-39.53,-39.1481, -38.7612,-38.3739,-38.1157,-37.729, -37.4707,-37.2127,-36.9545,-36.6969, -36.4392,-36.1823,-35.7974,-35.4113, -35.153,-34.8971,-34.6434,-34.3872, -34.1317,-33.8749,-33.6212,-33.3649, -32.9731,-32.7106,-32.4477,-32.0531, -31.7872,-31.517,-31.3822,-31.3465, -31.371,-31.4032,-31.425,-31.4468, -31.4623,-31.463,-31.4639,-31.7336, -32.1368,-32.4012,-32.7974,-33.0561, -33.3191,-33.5798,-33.8371,-34.0908, -34.3504,-34.6076,-34.9935,-35.3776, -35.6346,-35.8895,-36.1467,-36.4044, -36.6627,-37.0499,-37.3087,-37.5669, -37.8261,-38.089,-38.3526,-38.6045, -38.8604,-39.1185,-39.377,-39.6358, -40.0695,-40.3945,-40.6113,-40.828, -41.0449,-41.3703,-41.587,-41.9136, -42.1319,-42.4559,-42.6722,-42.8894, -43.2139,-43.5353,-43.6435,-43.7237)
FOOTPRINT_POINT_LONGITUDE = (177.163,176.656,176.138,175.505, 175.488,175.435,175.458,175.472,175.495 ,175.508,175.529,175.555,175.567, 175.579,175.592,175.61,175.622,175.65, 175.672,175.69,175.708,175.725,175.736, 175.752,175.761,175.771,175.78,175.789, 175.798,175.808,175.821,175.833,175.84, 175.848,175.858,175.865,175.872,175.879 ,175.887,175.893,175.9,175.906,175.911, 175.918,175.923,175.926,175.928,175.929 ,176.244,176.709,177.048,177.4,177.664, 177.681,177.687,177.678,177.666,177.658 ,177.645,177.636,177.627,177.619,177.61 ,177.6,177.592,177.582,177.568,177.553, 177.543,177.533,177.523,177.512,177.502 ,177.486,177.475,177.464,177.453, 177.443,177.432,177.42,177.407,177.395, 177.383,177.371,177.349,177.333,177.322 ,177.311,177.3,177.283,177.271,177.254, 177.242,177.224,177.211,177.199,177.18, 177.16,177.153,177.163)
ORBIT_NUMBER = 12717
ORBITAL_ECCENTRICITY = 0.577
ORBITAL_INCLINATION = 86.9
ORBITAL_SEMIMAJOR_AXIS = 8785.89
PERIAPSIS_ALTITUDE = 330.82
PERIAPSIS_ARGUMENT_ANGLE = 304.87
PERIAPSIS_TIME = 2014-01-03T21:07:16.000Z
SPACECRAFT_ORIENTATION = (0.0,1.0,0.0)
^MEX_ORIENTATION_DESC = "MEX_ORIENTATION_DESC.TXT"
SPACECRAFT_POINTING_MODE = ACROSSTRACK
^MEX_POINTING_DESC = "MEX_POINTING_DESC.TXT"
RIGHT_ASCENSION = -1e+32
DECLINATION = -1e+32
OFFSET_ANGLE = 0.98
SPACECRAFT_SOLAR_DISTANCE = 2.49239e+08
TARGET_NAME = MARS
/* CAMERA DATA ELEMENTS */
DETECTOR_TEMPERATURE = 18.3705
FOCAL_PLANE_TEMPERATURE = 7.9716
INST_CMPRS_NAME = "DISCRETE COSINE TRANSFORMATION (DCT)"
INST_CMPRS_RATIO = 6.01681
INST_CMPRS_QUALITY = 0
INST_CMPRS_QUANTZ_TBL_ID = 0
INSTRUMENT_TEMPERATURE = 11.6418
LENS_TEMPERATURE = 8.7872
MACROPIXEL_SIZE = 2
MISSING_FRAMES = 0
PIXEL_SUBSAMPLING_FLAG = N
SIGNAL_CHAIN_ID = 1
/* RADIOMETRIC DATA ELEMENTS */
BANDWIDTH = 178.0
CENTER_FILTER_WAVELENGTH = 679.0
RADIANCE_OFFSET = 0.257578
RADIANCE_SCALING_FACTOR = 0.0150394
REFLECTANCE_SCALING_FACTOR = 0.000494757
MEX:REFLECTANCE_OFFSET = 0.00847364
/* IMAGE OBJECT DEFINITIONS */
OBJECT = IMAGE
  INTERCHANGE_FORMAT = BINARY
  LINES = 29034
  LINE_SAMPLES = 4200
  SAMPLE_TYPE = UNSIGNED_INTEGER
  SAMPLE_BITS = 8
  BANDS = 1
  BAND_STORAGE_TYPE = BAND_SEQUENTIAL
  MAXIMUM = 255
  MEAN = 99.4177
  MINIMUM = 1
  STANDARD_DEVIATION = 23.4452
END_OBJECT = IMAGE
/* MAP OBJECT DEFINITIONS */
OBJECT = IMAGE_MAP_PROJECTION
  ^DATA_SET_MAP_PROJECTION_CATALOG= "DSMAP.CAT"
  A_AXIS_RADIUS = 3396.0
  B_AXIS_RADIUS = 3396.0
  C_AXIS_RADIUS = 3396.0
  CENTER_LATITUDE = 0.0
  CENTER_LONGITUDE = 177.0
  COORDINATE_SYSTEM_NAME = PLANETOGRAPHIC
  COORDINATE_SYSTEM_TYPE = "BODY-FIXED ROTATING"
  EASTERNMOST_LONGITUDE = 177.687
  FIRST_STANDARD_PARALLEL = "N/A"
  LINE_FIRST_PIXEL = 1
  LINE_LAST_PIXEL = 29034
  LINE_PROJECTION_OFFSET = -74340.25
  MAP_PROJECTION_ROTATION = 0.0
  MAP_PROJECTION_TYPE = SINUSOIDAL
  MAP_RESOLUTION = 2370.85521546667
  MAP_SCALE = 0.025
  MAXIMUM_LATITUDE = -31.3465
  MINIMUM_LATITUDE = -43.7237
  POSITIVE_LONGITUDE_DIRECTION = EAST
  REFERENCE_LATITUDE = "N/A"
  REFERENCE_LONGITUDE = "N/A"
  SAMPLE_FIRST_PIXEL = 1
  SAMPLE_LAST_PIXEL = 4200
  SAMPLE_PROJECTION_OFFSET = 2711.75
  SECOND_STANDARD_PARALLEL = "N/A"
  WESTERNMOST_LONGITUDE = 175.435
END_OBJECT = IMAGE_MAP_PROJECTION
END
