PDS_VERSION_ID = PDS3
/* FILE DATA ELEMENTS */
RECORD_TYPE = UNDEFINED
/* POINTERS TO DATA OBJECTS */
^IMAGE = ("HC710_0009_S24.TIF")
/* IDENTIFICATION DATA ELEMENTS */
DATA_SET_ID = "MEX-M-HRSC-4-REFDR-MAPPROJECT-EXT4-V4.0"
DATA_SET_NAME = "MARS EXPRESS HRSC MAP PROJECTED REFDR EXTENSION4 V4.0"
DETECTOR_ID = MEX_HRSC_S2
EVENT_TYPE = "MARS-REGIONAL-MAPPING-Im-Fl"
INSTRUMENT_HOST_ID = MEX
INSTRUMENT_HOST_NAME = "MARS EXPRESS"
INSTRUMENT_ID = HRSC
INSTRUMENT_NAME = "HIGH RESOLUTION STEREO CAMERA"
MISSION_NAME = "MARS EXPRESS"
MISSION_PHASE_NAME = ME_Phase_29
PROCESSING_LEVEL_ID = 4
PRODUCT_CREATION_TIME = 2023-01-31T11:51:40.000Z
PRODUCT_ID = "HC710_0009_S24.TIF"
RELEASE_ID = 0003
REVISION_ID = 0000
/* QUALITY DATA ELEMENTS */
DATA_QUALITY_ID = 1
DATA_QUALITY_DESC = "Data calculated based on original SPICE kernels"
/* TIME DATA ELEMENTS */
SPACECRAFT_CLOCK_START_COUNT = "1/0336687394.09055"
SPACECRAFT_CLOCK_STOP_COUNT = "1/0336687637.64292"
START_TIME = 2014-01-01T20:16:38.804Z
STOP_TIME = 2014-01-01T20:19:02.335Z
/* ORBITAL DATA ELEMENTS */
ASCENDING_NODE_LONGITUDE = 335.14
MAXIMUM_RESOLUTION = 0.0326
FOOTPRINT_POINT_LATITUDE = (-35.0016,-34.9953,-34.9882,-34.9803, -34.9715,-34.9619,-34.9472,-34.9465, -34.9043,-34.6349,-34.4555,-34.098, -33.8297,-33.3839,-33.1148,-32.936, -32.668,-32.2212,-31.7758,-31.5957, -31.321,-31.1379,-30.8631,-30.6798, -30.4966,-30.2165,-30.0287,-29.7475, -29.466,-29.2784,-29.0868,-28.7999, -28.608,-28.4068,-28.2152,-28.0211, -27.8332,-27.5357,-27.337,-27.1475, -26.9493,-26.7479,-26.4464,-26.247, -26.0424,-25.8373,-25.6333,-25.5295, -25.5069,-25.5143,-25.5243,-25.5299, -25.5344,-25.5393,-25.5405,-25.5406, -25.5413,-25.7481,-26.0592,-26.2609, -26.461,-26.6619,-26.8638,-27.0658, -27.2642,-27.4603,-27.6562,-27.9502, -28.1473,-28.3419,-28.5338,-28.7261, -28.9188,-29.2062,-29.3957,-29.5834, -29.7715,-30.0533,-30.2416,-30.5239, -30.7993,-30.9828,-31.1661,-31.3499, -31.5333,-31.8079,-31.9869,-32.3355, -32.6989,-32.8814,-33.2378,-33.4168, -33.5958,-33.7757,-33.9556,-34.3127, -34.5821,-34.8507,-34.9404,-35.0016)
FOOTPRINT_POINT_LONGITUDE = (173.71,173.461,173.212,172.962,172.711 ,172.459,172.111,172.095,172.069, 172.074,172.077,172.083,172.087,172.094 ,172.097,172.1,172.103,172.107,172.112, 172.113,172.115,172.117,172.118,172.119 ,172.12,172.121,172.121,172.122,172.122 ,172.122,172.123,172.123,172.123, 172.118,172.118,172.118,172.121,172.118 ,172.116,172.119,172.118,172.117, 172.114,172.113,172.111,172.109,172.107 ,172.106,172.105,172.334,172.736, 173.084,173.345,173.605,173.882,173.899 ,173.905,173.902,173.897,173.894, 173.891,173.888,173.884,173.881,173.878 ,173.874,173.871,173.866,173.863,173.86 ,173.856,173.853,173.849,173.844, 173.841,173.837,173.834,173.828,173.824 ,173.819,173.813,173.809,173.805, 173.802,173.798,173.792,173.788,173.782 ,173.773,173.768,173.76,173.756,173.752 ,173.747,173.743,173.734,173.727, 173.721,173.718,173.71)
ORBIT_NUMBER = 12710
ORBITAL_ECCENTRICITY = 0.577
ORBITAL_INCLINATION = 86.9
ORBITAL_SEMIMAJOR_AXIS = 8787.95
PERIAPSIS_ALTITUDE = 331.08
PERIAPSIS_ARGUMENT_ANGLE = 306.06
PERIAPSIS_TIME = 2014-01-01T20:12:22.000Z
SPACECRAFT_ORIENTATION = (0.0,1.0,0.0)
^MEX_ORIENTATION_DESC = "MEX_ORIENTATION_DESC.TXT"
SPACECRAFT_POINTING_MODE = ACROSSTRACK
^MEX_POINTING_DESC = "MEX_POINTING_DESC.TXT"
RIGHT_ASCENSION = -1e+32
DECLINATION = -1e+32
OFFSET_ANGLE = 0.33
SPACECRAFT_SOLAR_DISTANCE = 2.49238e+08
TARGET_NAME = MARS
/* CAMERA DATA ELEMENTS */
DETECTOR_TEMPERATURE = 19.39
FOCAL_PLANE_TEMPERATURE = 8.9911
INST_CMPRS_NAME = "DISCRETE COSINE TRANSFORMATION (DCT)"
INST_CMPRS_RATIO = 6.69697
INST_CMPRS_QUALITY = 0
INST_CMPRS_QUANTZ_TBL_ID = 0
INSTRUMENT_TEMPERATURE = 12.6613
LENS_TEMPERATURE = 8.3794
MACROPIXEL_SIZE = 2
MISSING_FRAMES = 0
PIXEL_SUBSAMPLING_FLAG = N
SIGNAL_CHAIN_ID = 1
/* RADIOMETRIC DATA ELEMENTS */
BANDWIDTH = 178.0
CENTER_FILTER_WAVELENGTH = 679.0
RADIANCE_OFFSET = 0.315049
RADIANCE_SCALING_FACTOR = 0.0225133
REFLECTANCE_SCALING_FACTOR = 0.00074063
MEX:REFLECTANCE_OFFSET = 0.0103643
/* IMAGE OBJECT DEFINITIONS */
OBJECT = IMAGE
  INTERCHANGE_FORMAT = BINARY
  LINES = 22388
  LINE_SAMPLES = 4089
  SAMPLE_TYPE = UNSIGNED_INTEGER
  SAMPLE_BITS = 8
  BANDS = 1
  BAND_STORAGE_TYPE = BAND_SEQUENTIAL
  MAXIMUM = 255
  MEAN = 94.113
  MINIMUM = 1
  STANDARD_DEVIATION = 26.793
END_OBJECT = IMAGE
/* MAP OBJECT DEFINITIONS */
OBJECT = IMAGE_MAP_PROJECTION
  ^DATA_SET_MAP_PROJECTION_CATALOG= "DSMAP.CAT"
  A_AXIS_RADIUS = 3396.0
  B_AXIS_RADIUS = 3396.0
  C_AXIS_RADIUS = 3396.0
  CENTER_LATITUDE = 0.0
  CENTER_LONGITUDE = 173.0
  COORDINATE_SYSTEM_NAME = PLANETOGRAPHIC
  COORDINATE_SYSTEM_TYPE = "BODY-FIXED ROTATING"
  EASTERNMOST_LONGITUDE = 173.905
  FIRST_STANDARD_PARALLEL = "N/A"
  LINE_FIRST_PIXEL = 1
  LINE_LAST_PIXEL = 22388
  LINE_PROJECTION_OFFSET = -60405.75
  MAP_PROJECTION_ROTATION = 0.0
  MAP_PROJECTION_TYPE = SINUSOIDAL
  MAP_RESOLUTION = 2370.85521546667
  MAP_SCALE = 0.025
  MAXIMUM_LATITUDE = -25.5069
  MINIMUM_LATITUDE = -35.0016
  POSITIVE_LONGITUDE_DIRECTION = EAST
  REFERENCE_LATITUDE = "N/A"
  REFERENCE_LONGITUDE = "N/A"
  SAMPLE_FIRST_PIXEL = 1
  SAMPLE_LAST_PIXEL = 4089
  SAMPLE_PROJECTION_OFFSET = 2033.75
  SECOND_STANDARD_PARALLEL = "N/A"
  WESTERNMOST_LONGITUDE = 172.069
END_OBJECT = IMAGE_MAP_PROJECTION
END
