PDS_VERSION_ID = PDS3
/* FILE DATA ELEMENTS */
RECORD_TYPE = UNDEFINED
/* POINTERS TO DATA OBJECTS */
^IMAGE = ("HC707_0000_S24.TIF")
/* IDENTIFICATION DATA ELEMENTS */
DATA_SET_ID = "MEX-M-HRSC-4-REFDR-MAPPROJECT-EXT4-V4.0"
DATA_SET_NAME = "MARS EXPRESS HRSC MAP PROJECTED REFDR EXTENSION4 V4.0"
DETECTOR_ID = MEX_HRSC_S2
EVENT_TYPE = "MARS-REGIONAL-STEREO-Im-Gl-Pf"
INSTRUMENT_HOST_ID = MEX
INSTRUMENT_HOST_NAME = "MARS EXPRESS"
INSTRUMENT_ID = HRSC
INSTRUMENT_NAME = "HIGH RESOLUTION STEREO CAMERA"
MISSION_NAME = "MARS EXPRESS"
MISSION_PHASE_NAME = ME_Phase_29
PROCESSING_LEVEL_ID = 4
PRODUCT_CREATION_TIME = 2023-01-31T11:51:40.000Z
PRODUCT_ID = "HC707_0000_S24.TIF"
RELEASE_ID = 0003
REVISION_ID = 0000
/* QUALITY DATA ELEMENTS */
DATA_QUALITY_ID = 1
DATA_QUALITY_DESC = "Data calculated based on original SPICE kernels"
/* TIME DATA ELEMENTS */
SPACECRAFT_CLOCK_START_COUNT = "1/0336611945.07340"
SPACECRAFT_CLOCK_STOP_COUNT = "1/0336612182.07080"
START_TIME = 2013-12-31T23:19:09.778Z
STOP_TIME = 2013-12-31T23:21:24.640Z
/* ORBITAL DATA ELEMENTS */
ASCENDING_NODE_LONGITUDE = 335.2
MAXIMUM_RESOLUTION = 0.0167
FOOTPRINT_POINT_LATITUDE = (-33.0582,-33.0532,-33.0475,-33.0409, -33.0333,-33.0249,-33.0132,-33.0125, -32.9832,-32.5654,-32.2375,-31.906, -31.5749,-31.3268,-30.9951,-30.6569, -30.4835,-30.3143,-30.0618,-29.7232, -29.5504,-29.3762,-29.2025,-29.0285, -28.8545,-28.5935,-28.4173,-28.2387, -28.0607,-27.8833,-27.7056,-27.4393, -27.166,-26.8929,-26.7108,-26.5292, -26.3462,-26.1604,-25.8817,-25.6958, -25.5103,-25.227,-24.9437,-24.6592, -24.4694,-24.2763,-24.1793,-24.1641, -24.1713,-24.1794,-24.1843,-24.1882, -24.1911,-24.1927,-24.1928,-24.1931, -24.3875,-24.5799,-24.77,-24.9603, -25.1508,-25.341,-25.5289,-25.7146, -25.9938,-26.18,-26.4589,-26.6404, -26.8226,-27.0049,-27.1867,-27.3691, -27.5491,-27.7269,-27.9948,-28.1738, -28.3517,-28.6178,-28.7915,-28.9656, -29.1399,-29.4014,-29.576,-29.749, -29.919,-30.0891,-30.2594,-30.4295, -30.5996,-30.7698,-30.9399,-31.1885, -31.5209,-31.9362,-32.1854,-32.4347, -32.684,-32.933,-33.0162,-33.0582)
FOOTPRINT_POINT_LONGITUDE = (120.416,120.162,119.907,119.651, 119.395,119.137,118.814,118.798,118.777 ,118.78,118.785,118.788,118.791,118.793 ,118.794,118.795,118.795,118.795, 118.797,118.798,118.798,118.798,118.798 ,118.798,118.798,118.798,118.797, 118.797,118.796,118.796,118.795,118.794 ,118.793,118.791,118.79,118.788,118.787 ,118.786,118.783,118.782,118.78,118.777 ,118.774,118.771,118.768,118.766, 118.765,118.764,119.07,119.429,119.732, 120.035,120.302,120.55,120.568,120.576, 120.574,120.571,120.568,120.566,120.563 ,120.56,120.558,120.555,120.551,120.548 ,120.544,120.541,120.539,120.536, 120.533,120.53,120.527,120.524,120.52, 120.517,120.514,120.509,120.506,120.503 ,120.5,120.495,120.492,120.489,120.486, 120.483,120.48,120.476,120.473,120.47, 120.466,120.461,120.455,120.446,120.441 ,120.435,120.43,120.425,120.423, 120.416)
ORBIT_NUMBER = 12707
ORBITAL_ECCENTRICITY = 0.578
ORBITAL_INCLINATION = 86.89
ORBITAL_SEMIMAJOR_AXIS = 8792.44
PERIAPSIS_ALTITUDE = 330.43
PERIAPSIS_ARGUMENT_ANGLE = 306.56
PERIAPSIS_TIME = 2013-12-31T23:14:32.000Z
SPACECRAFT_ORIENTATION = (0.0,1.0,0.0)
^MEX_ORIENTATION_DESC = "MEX_ORIENTATION_DESC.TXT"
SPACECRAFT_POINTING_MODE = ACROSSTRACK
^MEX_POINTING_DESC = "MEX_POINTING_DESC.TXT"
RIGHT_ASCENSION = -1e+32
DECLINATION = -1e+32
OFFSET_ANGLE = 0.269
SPACECRAFT_SOLAR_DISTANCE = 2.49236e+08
TARGET_NAME = MARS
/* CAMERA DATA ELEMENTS */
DETECTOR_TEMPERATURE = 18.7783
FOCAL_PLANE_TEMPERATURE = 8.1755
INST_CMPRS_NAME = "DISCRETE COSINE TRANSFORMATION (DCT)"
INST_CMPRS_RATIO = 6.3941
INST_CMPRS_QUALITY = 0
INST_CMPRS_QUANTZ_TBL_ID = 0
INSTRUMENT_TEMPERATURE = 11.4379
LENS_TEMPERATURE = 9.195
MACROPIXEL_SIZE = 1
MISSING_FRAMES = 0
PIXEL_SUBSAMPLING_FLAG = N
SIGNAL_CHAIN_ID = 1
/* RADIOMETRIC DATA ELEMENTS */
BANDWIDTH = 178.0
CENTER_FILTER_WAVELENGTH = 679.0
RADIANCE_OFFSET = 0.371349
RADIANCE_SCALING_FACTOR = 0.0187991
REFLECTANCE_SCALING_FACTOR = 0.000618429
MEX:REFLECTANCE_OFFSET = 0.0122162
/* IMAGE OBJECT DEFINITIONS */
OBJECT = IMAGE
  INTERCHANGE_FORMAT = BINARY
  LINES = 41902
  LINE_SAMPLES = 8318
  SAMPLE_TYPE = UNSIGNED_INTEGER
  SAMPLE_BITS = 8
  BANDS = 1
  BAND_STORAGE_TYPE = BAND_SEQUENTIAL
  MAXIMUM = 255
  MEAN = 123.806
  MINIMUM = 1
  STANDARD_DEVIATION = 20.4852
END_OBJECT = IMAGE
/* MAP OBJECT DEFINITIONS */
OBJECT = IMAGE_MAP_PROJECTION
  ^DATA_SET_MAP_PROJECTION_CATALOG= "DSMAP.CAT"
  A_AXIS_RADIUS = 3396.0
  B_AXIS_RADIUS = 3396.0
  C_AXIS_RADIUS = 3396.0
  CENTER_LATITUDE = 0.0
  CENTER_LONGITUDE = 120.0
  COORDINATE_SYSTEM_NAME = PLANETOGRAPHIC
  COORDINATE_SYSTEM_TYPE = "BODY-FIXED ROTATING"
  EASTERNMOST_LONGITUDE = 120.576
  FIRST_STANDARD_PARALLEL = "N/A"
  LINE_FIRST_PIXEL = 1
  LINE_LAST_PIXEL = 41902
  LINE_PROJECTION_OFFSET = -114542.0
  MAP_PROJECTION_ROTATION = 0.0
  MAP_PROJECTION_TYPE = SINUSOIDAL
  MAP_RESOLUTION = 4741.71043093333
  MAP_SCALE = 0.0125
  MAXIMUM_LATITUDE = -24.1641
  MINIMUM_LATITUDE = -33.0582
  POSITIVE_LONGITUDE_DIRECTION = EAST
  REFERENCE_LATITUDE = "N/A"
  REFERENCE_LONGITUDE = "N/A"
  SAMPLE_FIRST_PIXEL = 1
  SAMPLE_LAST_PIXEL = 8318
  SAMPLE_PROJECTION_OFFSET = 5585.0
  SECOND_STANDARD_PARALLEL = "N/A"
  WESTERNMOST_LONGITUDE = 118.764
END_OBJECT = IMAGE_MAP_PROJECTION
END
