PDS_VERSION_ID = PDS3
/* FILE DATA ELEMENTS */
RECORD_TYPE = UNDEFINED
/* POINTERS TO DATA OBJECTS */
^IMAGE = ("HC705_0000_RE4.TIF")
/* IDENTIFICATION DATA ELEMENTS */
DATA_SET_ID = "MEX-M-HRSC-4-REFDR-MAPPROJECT-EXT4-V4.0"
DATA_SET_NAME = "MARS EXPRESS HRSC MAP PROJECTED REFDR EXTENSION4 V4.0"
DETECTOR_ID = MEX_HRSC_RED
EVENT_TYPE = "MARS-REGIONAL-STEREO-Im-Fl"
INSTRUMENT_HOST_ID = MEX
INSTRUMENT_HOST_NAME = "MARS EXPRESS"
INSTRUMENT_ID = HRSC
INSTRUMENT_NAME = "HIGH RESOLUTION STEREO CAMERA"
MISSION_NAME = "MARS EXPRESS"
MISSION_PHASE_NAME = ME_Phase_29
PROCESSING_LEVEL_ID = 4
PRODUCT_CREATION_TIME = 2023-01-31T11:51:40.000Z
PRODUCT_ID = "HC705_0000_RE4.TIF"
RELEASE_ID = 0003
REVISION_ID = 0000
/* QUALITY DATA ELEMENTS */
DATA_QUALITY_ID = 1
DATA_QUALITY_DESC = "Data calculated based on original SPICE kernels"
/* TIME DATA ELEMENTS */
SPACECRAFT_CLOCK_START_COUNT = "1/0336561597.07320"
SPACECRAFT_CLOCK_STOP_COUNT = "1/0336561823.63304"
START_TIME = 2013-12-31T09:20:07.656Z
STOP_TIME = 2013-12-31T09:22:19.328Z
/* ORBITAL DATA ELEMENTS */
ASCENDING_NODE_LONGITUDE = 335.24
MAXIMUM_RESOLUTION = 0.1284
FOOTPRINT_POINT_LATITUDE = (-35.0367,-35.0153,-34.9928,-34.9692, -34.9443,-34.9181,-34.8745,-34.8727, -34.8381,-34.5965,-34.2761,-34.1129, -33.8686,-33.5517,-33.309,-32.9861, -32.7449,-32.4237,-32.1796,-32.0146, -31.8499,-31.6853,-31.5206,-31.3556, -31.1909,-30.9444,-30.7752,-30.6069, -30.4383,-30.2695,-30.0173,-29.8489, -29.6806,-29.5054,-29.3328,-29.1641, -28.9868,-28.8147,-28.648,-28.3857, -28.2095,-27.9452,-27.7692,-27.5933, -27.4175,-27.2379,-27.058,-26.7886, -26.609,-26.4288,-26.338,-26.2932, -26.3217,-26.3479,-26.3746,-26.3956, -26.4092,-26.4369,-26.438,-26.4408, -26.7144,-26.8925,-27.0643,-27.2426, -27.423,-27.6068,-27.8772,-28.0532, -28.3164,-28.4914,-28.7528,-28.9219, -29.0947,-29.2708,-29.535,-29.7079, -29.8803,-30.2091,-30.376,-30.5447, -30.7139,-30.8859,-31.0553,-31.2218, -31.4719,-31.7195,-31.885,-32.0513, -32.3001,-32.7001,-33.0232,-33.2688, -33.4337,-33.5964,-33.9219,-34.2445, -34.5708,-34.8838,-34.9627,-35.0367)
FOOTPRINT_POINT_LONGITUDE = (323.154,322.911,322.665,322.413, 322.158,321.898,321.48,321.463,321.412, 321.422,321.438,321.441,321.446,321.464 ,321.471,321.48,321.488,321.498,321.504 ,321.509,321.514,321.519,321.523, 321.527,321.531,321.538,321.541,321.546 ,321.55,321.553,321.559,321.563,321.566 ,321.566,321.569,321.577,321.574, 321.577,321.587,321.59,321.593,321.596, 321.599,321.601,321.603,321.606,321.608 ,321.611,321.613,321.614,321.615, 321.615,321.937,322.254,322.584,322.857 ,323.042,323.423,323.439,323.45,323.443 ,323.436,323.428,323.421,323.416, 323.412,323.407,323.401,323.392,323.385 ,323.376,323.369,323.363,323.359, 323.352,323.346,323.341,323.325,323.318 ,323.311,323.305,323.301,323.295, 323.289,323.281,323.271,323.265,323.259 ,323.25,323.231,323.218,323.21,323.205, 323.199,323.187,323.173,323.16,323.14, 323.135,323.154)
ORBIT_NUMBER = 12705
ORBITAL_ECCENTRICITY = 0.577
ORBITAL_INCLINATION = 86.91
ORBITAL_SEMIMAJOR_AXIS = 8787.76
PERIAPSIS_ALTITUDE = 330.74
PERIAPSIS_ARGUMENT_ANGLE = 306.91
PERIAPSIS_TIME = 2013-12-31T09:16:00.000Z
SPACECRAFT_ORIENTATION = (0.0,1.0,0.0)
^MEX_ORIENTATION_DESC = "MEX_ORIENTATION_DESC.TXT"
SPACECRAFT_POINTING_MODE = ACROSSTRACK
^MEX_POINTING_DESC = "MEX_POINTING_DESC.TXT"
RIGHT_ASCENSION = -1e+32
DECLINATION = -1e+32
OFFSET_ANGLE = 1.616
SPACECRAFT_SOLAR_DISTANCE = 2.49234e+08
TARGET_NAME = MARS
/* CAMERA DATA ELEMENTS */
DETECTOR_TEMPERATURE = 19.5939
FOCAL_PLANE_TEMPERATURE = 8.5833
INST_CMPRS_NAME = "DISCRETE COSINE TRANSFORMATION (DCT)"
INST_CMPRS_RATIO = 10.3538
INST_CMPRS_QUALITY = 0
INST_CMPRS_QUANTZ_TBL_ID = 0
INSTRUMENT_TEMPERATURE = 11.4379
LENS_TEMPERATURE = 8.7872
MACROPIXEL_SIZE = 8
MISSING_FRAMES = 0
PIXEL_SUBSAMPLING_FLAG = N
SIGNAL_CHAIN_ID = 2
/* RADIOMETRIC DATA ELEMENTS */
BANDWIDTH = 48.0
CENTER_FILTER_WAVELENGTH = 748.0
RADIANCE_OFFSET = 0.0280294
RADIANCE_SCALING_FACTOR = 0.00357237
REFLECTANCE_SCALING_FACTOR = 0.000506406
MEX:REFLECTANCE_OFFSET = 0.00397334
/* IMAGE OBJECT DEFINITIONS */
OBJECT = IMAGE
  INTERCHANGE_FORMAT = BINARY
  LINES = 5086
  LINE_SAMPLES = 1101
  SAMPLE_TYPE = UNSIGNED_INTEGER
  SAMPLE_BITS = 8
  BANDS = 1
  BAND_STORAGE_TYPE = BAND_SEQUENTIAL
  MAXIMUM = 255
  MEAN = 120.451
  MINIMUM = 1
  STANDARD_DEVIATION = 20.3185
END_OBJECT = IMAGE
/* MAP OBJECT DEFINITIONS */
OBJECT = IMAGE_MAP_PROJECTION
  ^DATA_SET_MAP_PROJECTION_CATALOG= "DSMAP.CAT"
  A_AXIS_RADIUS = 3396.0
  B_AXIS_RADIUS = 3396.0
  C_AXIS_RADIUS = 3396.0
  CENTER_LATITUDE = 0.0
  CENTER_LONGITUDE = 322.0
  COORDINATE_SYSTEM_NAME = PLANETOGRAPHIC
  COORDINATE_SYSTEM_TYPE = "BODY-FIXED ROTATING"
  EASTERNMOST_LONGITUDE = 323.45
  FIRST_STANDARD_PARALLEL = "N/A"
  LINE_FIRST_PIXEL = 1
  LINE_LAST_PIXEL = 5086
  LINE_PROJECTION_OFFSET = -15617.3125
  MAP_PROJECTION_ROTATION = 0.0
  MAP_PROJECTION_TYPE = SINUSOIDAL
  MAP_RESOLUTION = 592.713803866667
  MAP_SCALE = 0.1
  MAXIMUM_LATITUDE = -26.2932
  MINIMUM_LATITUDE = -35.0367
  POSITIVE_LONGITUDE_DIRECTION = EAST
  REFERENCE_LATITUDE = "N/A"
  REFERENCE_LONGITUDE = "N/A"
  SAMPLE_FIRST_PIXEL = 1
  SAMPLE_LAST_PIXEL = 1101
  SAMPLE_PROJECTION_OFFSET = 302.9375
  SECOND_STANDARD_PARALLEL = "N/A"
  WESTERNMOST_LONGITUDE = 321.412
END_OBJECT = IMAGE_MAP_PROJECTION
END
