PDS_VERSION_ID = PDS3
/* FILE DATA ELEMENTS */
RECORD_TYPE = UNDEFINED
/* POINTERS TO DATA OBJECTS */
^IMAGE = ("HC705_0000_P14.TIF")
/* IDENTIFICATION DATA ELEMENTS */
DATA_SET_ID = "MEX-M-HRSC-4-REFDR-MAPPROJECT-EXT4-V4.0"
DATA_SET_NAME = "MARS EXPRESS HRSC MAP PROJECTED REFDR EXTENSION4 V4.0"
DETECTOR_ID = MEX_HRSC_P1
EVENT_TYPE = "MARS-REGIONAL-STEREO-Im-Fl"
INSTRUMENT_HOST_ID = MEX
INSTRUMENT_HOST_NAME = "MARS EXPRESS"
INSTRUMENT_ID = HRSC
INSTRUMENT_NAME = "HIGH RESOLUTION STEREO CAMERA"
MISSION_NAME = "MARS EXPRESS"
MISSION_PHASE_NAME = ME_Phase_29
PROCESSING_LEVEL_ID = 4
PRODUCT_CREATION_TIME = 2023-01-31T11:51:40.000Z
PRODUCT_ID = "HC705_0000_P14.TIF"
RELEASE_ID = 0003
REVISION_ID = 0000
/* QUALITY DATA ELEMENTS */
DATA_QUALITY_ID = 1
DATA_QUALITY_DESC = "Data calculated based on original SPICE kernels"
/* TIME DATA ELEMENTS */
SPACECRAFT_CLOCK_START_COUNT = "1/0336561597.07320"
SPACECRAFT_CLOCK_STOP_COUNT = "1/0336561823.63304"
START_TIME = 2013-12-31T09:21:03.553Z
STOP_TIME = 2013-12-31T09:23:28.131Z
/* ORBITAL DATA ELEMENTS */
ASCENDING_NODE_LONGITUDE = 335.24
MAXIMUM_RESOLUTION = 0.0337
FOOTPRINT_POINT_LATITUDE = (-34.8505,-34.8577,-34.8647,-34.8713, -34.8776,-34.8835,-34.8912,-34.8915, -34.9144,-34.6769,-34.3537,-33.8748, -33.7121,-33.4694,-33.3061,-33.1426, -32.8977,-32.7342,-32.4892,-32.3234, -32.1568,-31.9069,-31.7404,-31.574, -31.3232,-31.0689,-30.8992,-30.73, -30.4764,-30.304,-30.0453,-29.8732, -29.7012,-29.5312,-29.3531,-29.1777, -29.0051,-28.8296,-28.6527,-28.4747, -28.2969,-28.1191,-27.9417,-27.7623, -27.5814,-27.4009,-27.2203,-26.9482, -26.7645,-26.5815,-26.4901,-26.3998, -26.3942,-26.3872,-26.3773,-26.3609, -26.3454,-26.3327,-26.3321,-26.3324, -26.5165,-26.6993,-26.8844,-27.1635, -27.346,-27.5261,-27.7927,-27.9703, -28.1491,-28.3288,-28.5981,-28.7766, -28.9532,-29.1283,-29.3012,-29.5591, -29.731,-29.9035,-30.0784,-30.2588, -30.4321,-30.6016,-30.771,-30.9387, -31.1087,-31.2769,-31.5281,-31.7781, -32.0273,-32.1938,-32.3621,-32.6134, -32.7785,-33.1053,-33.5096,-33.8271, -34.2296,-34.7133,-34.796,-34.8505)
FOOTPRINT_POINT_LONGITUDE = (323.216,322.947,322.673,322.394,322.11 ,321.821,321.413,321.394,321.342, 321.353,321.367,321.377,321.386,321.396 ,321.4,321.404,321.41,321.415,321.422, 321.426,321.429,321.435,321.44,321.444, 321.449,321.454,321.458,321.461,321.466 ,321.469,321.474,321.477,321.479, 321.478,321.485,321.488,321.486,321.49, 321.495,321.496,321.498,321.5,321.501, 321.503,321.505,321.506,321.507,321.509 ,321.51,321.51,321.51,321.511,321.696, 321.921,322.243,322.736,323.179,323.52, 323.539,323.545,323.539,323.533,323.527 ,323.514,323.507,323.501,323.494, 323.488,323.482,323.474,323.464,323.456 ,323.449,323.442,323.437,323.43,323.423 ,323.417,323.409,323.398,323.391, 323.384,323.377,323.371,323.364,323.359 ,323.349,323.338,323.328,323.322, 323.314,323.3,323.292,323.278,323.263, 323.252,323.233,323.209,323.203, 323.216)
ORBIT_NUMBER = 12705
ORBITAL_ECCENTRICITY = 0.577
ORBITAL_INCLINATION = 86.91
ORBITAL_SEMIMAJOR_AXIS = 8787.76
PERIAPSIS_ALTITUDE = 330.74
PERIAPSIS_ARGUMENT_ANGLE = 306.91
PERIAPSIS_TIME = 2013-12-31T09:16:00.000Z
SPACECRAFT_ORIENTATION = (0.0,1.0,0.0)
^MEX_ORIENTATION_DESC = "MEX_ORIENTATION_DESC.TXT"
SPACECRAFT_POINTING_MODE = ACROSSTRACK
^MEX_POINTING_DESC = "MEX_POINTING_DESC.TXT"
RIGHT_ASCENSION = -1e+32
DECLINATION = -1e+32
OFFSET_ANGLE = 1.616
SPACECRAFT_SOLAR_DISTANCE = 2.49234e+08
TARGET_NAME = MARS
/* CAMERA DATA ELEMENTS */
DETECTOR_TEMPERATURE = 17.7588
FOCAL_PLANE_TEMPERATURE = 8.5833
INST_CMPRS_NAME = "DISCRETE COSINE TRANSFORMATION (DCT)"
INST_CMPRS_RATIO = 9.71805
INST_CMPRS_QUALITY = 0
INST_CMPRS_QUANTZ_TBL_ID = 0
INSTRUMENT_TEMPERATURE = 11.4379
LENS_TEMPERATURE = 8.7872
MACROPIXEL_SIZE = 2
MISSING_FRAMES = 0
PIXEL_SUBSAMPLING_FLAG = N
SIGNAL_CHAIN_ID = 3
/* RADIOMETRIC DATA ELEMENTS */
BANDWIDTH = 174.0
CENTER_FILTER_WAVELENGTH = 675.0
RADIANCE_OFFSET = 0.203929
RADIANCE_SCALING_FACTOR = 0.0137552
REFLECTANCE_SCALING_FACTOR = 0.000459587
MEX:REFLECTANCE_OFFSET = 0.00681365
/* IMAGE OBJECT DEFINITIONS */
OBJECT = IMAGE
  INTERCHANGE_FORMAT = BINARY
  LINES = 20342
  LINE_SAMPLES = 4402
  SAMPLE_TYPE = UNSIGNED_INTEGER
  SAMPLE_BITS = 8
  BANDS = 1
  BAND_STORAGE_TYPE = BAND_SEQUENTIAL
  MAXIMUM = 255
  MEAN = 118.077
  MINIMUM = 1
  STANDARD_DEVIATION = 20.0144
END_OBJECT = IMAGE
/* MAP OBJECT DEFINITIONS */
OBJECT = IMAGE_MAP_PROJECTION
  ^DATA_SET_MAP_PROJECTION_CATALOG= "DSMAP.CAT"
  A_AXIS_RADIUS = 3396.0
  B_AXIS_RADIUS = 3396.0
  C_AXIS_RADIUS = 3396.0
  CENTER_LATITUDE = 0.0
  CENTER_LONGITUDE = 322.0
  COORDINATE_SYSTEM_NAME = PLANETOGRAPHIC
  COORDINATE_SYSTEM_TYPE = "BODY-FIXED ROTATING"
  EASTERNMOST_LONGITUDE = 323.545
  FIRST_STANDARD_PARALLEL = "N/A"
  LINE_FIRST_PIXEL = 1
  LINE_LAST_PIXEL = 20342
  LINE_PROJECTION_OFFSET = -62467.75
  MAP_PROJECTION_ROTATION = 0.0
  MAP_PROJECTION_TYPE = SINUSOIDAL
  MAP_RESOLUTION = 2370.85521546667
  MAP_SCALE = 0.025
  MAXIMUM_LATITUDE = -26.3321
  MINIMUM_LATITUDE = -34.9144
  POSITIVE_LONGITUDE_DIRECTION = EAST
  REFERENCE_LATITUDE = "N/A"
  REFERENCE_LONGITUDE = "N/A"
  SAMPLE_FIRST_PIXEL = 1
  SAMPLE_LAST_PIXEL = 4402
  SAMPLE_PROJECTION_OFFSET = 1213.25
  SECOND_STANDARD_PARALLEL = "N/A"
  WESTERNMOST_LONGITUDE = 321.342
END_OBJECT = IMAGE_MAP_PROJECTION
END
