PDS_VERSION_ID = PDS3
/* FILE DATA ELEMENTS */
RECORD_TYPE = UNDEFINED
/* POINTERS TO DATA OBJECTS */
^IMAGE = ("HC694_0000_GR4.TIF")
/* IDENTIFICATION DATA ELEMENTS */
DATA_SET_ID = "MEX-M-HRSC-4-REFDR-MAPPROJECT-EXT4-V4.0"
DATA_SET_NAME = "MARS EXPRESS HRSC MAP PROJECTED REFDR EXTENSION4 V4.0"
DETECTOR_ID = MEX_HRSC_GREEN
EVENT_TYPE = "MARS-CLOUD-VARIABLE-Ot-At"
INSTRUMENT_HOST_ID = MEX
INSTRUMENT_HOST_NAME = "MARS EXPRESS"
INSTRUMENT_ID = HRSC
INSTRUMENT_NAME = "HIGH RESOLUTION STEREO CAMERA"
MISSION_NAME = "MARS EXPRESS"
MISSION_PHASE_NAME = ME_Phase_29
PROCESSING_LEVEL_ID = 4
PRODUCT_CREATION_TIME = 2023-01-31T11:51:40.000Z
PRODUCT_ID = "HC694_0000_GR4.TIF"
RELEASE_ID = 0003
REVISION_ID = 0000
/* QUALITY DATA ELEMENTS */
DATA_QUALITY_ID = 1
DATA_QUALITY_DESC = "Data calculated based on original SPICE kernels"
/* TIME DATA ELEMENTS */
SPACECRAFT_CLOCK_START_COUNT = "1/0336285101.07324"
SPACECRAFT_CLOCK_STOP_COUNT = "1/0336286005.27990"
START_TIME = 2013-12-28T04:32:36.622Z
STOP_TIME = 2013-12-28T04:46:48.289Z
/* ORBITAL DATA ELEMENTS */
ASCENDING_NODE_LONGITUDE = 335.45
MAXIMUM_RESOLUTION = 0.0875
FOOTPRINT_POINT_LATITUDE = (-19.2233,-19.2339,-19.2376,-19.2377, -19.2381,-17.8661,-16.4516,-15.7286, -14.9922,-14.2446,-13.4843,-12.7107, -11.9239,-11.1237,-10.308,-9.47771, -8.63192,-7.76995,-6.89157,-5.99532, -5.08114,-3.70914,-2.80627,-1.91417, -1.03006,-0.156509,0.707633,1.562, 2.4067,3.24207,4.06811,4.88469,5.69155, 6.48897,7.27747,8.05653,8.82684,9.58837 ,10.3408,11.0844,11.8193,12.5456, 13.9726,15.3651,16.7285,18.0574,19.3553 ,19.6748,19.7013,19.7662,19.806,19.863, 19.9054,19.9477,19.9489,19.9481,18.6447 ,17.3118,15.9468,14.5499,13.1193, 12.3912,11.6548,10.9099,10.1561,9.39372 ,8.62248,7.84225,7.0532,6.2546,5.4471, 4.63017,3.80405,2.96849,2.12365,1.26915 ,0.405324,-0.467733,-1.35071,-2.24325, -3.14548,-4.05763,-4.97927,-6.35094, -7.24249,-8.11648,-8.97447,-9.81657, -10.6433,-11.4547,-12.2516,-13.0368, -13.8052,-14.5625,-15.3078,-16.0387, -17.4701,-18.8563,-19.1963,-19.2233)
FOOTPRINT_POINT_LONGITUDE = (9.49774,8.33723,7.51325,7.49449, 7.48641,7.44467,7.39907,7.37294,7.34521 ,7.31598,7.28469,7.25158,7.21701, 7.18032,7.14067,7.09933,7.05521,7.00928 ,6.96048,6.90955,6.85498,6.76764,6.7084 ,6.64596,6.58529,6.52174,6.45735, 6.39143,6.32408,6.25582,6.18661,6.11609 ,6.04374,5.96994,5.89546,5.81931, 5.74256,5.66502,5.58601,5.50587,5.4245, 5.34221,5.17439,5.00032,4.8281,4.64734, 4.46239,4.41526,4.41151,5.52038,6.2959, 7.56874,8.73359,10.2922,10.3481,10.3667 ,10.3032,10.2402,10.1821,10.1264, 10.0753,10.0512,10.0274,10.0042,9.98197 ,9.96021,9.93902,9.91861,9.8984,9.87977 ,9.86119,9.84358,9.82631,9.80975,9.7934 ,9.77795,9.76258,9.74697,9.73243, 9.71817,9.70435,9.69136,9.67828,9.65931 ,9.64751,9.63551,9.62459,9.61411, 9.60331,9.59363,9.58438,9.57699,9.56619 ,9.55582,9.5501,9.5385,9.52103,9.50471, 9.50036,9.49774)
ORBIT_NUMBER = 12694
ORBITAL_ECCENTRICITY = 0.578
ORBITAL_INCLINATION = 86.89
ORBITAL_SEMIMAJOR_AXIS = 8793.81
PERIAPSIS_ALTITUDE = 331.19
PERIAPSIS_ARGUMENT_ANGLE = 308.77
PERIAPSIS_TIME = 2013-12-28T04:24:03.000Z
SPACECRAFT_ORIENTATION = (0.0,1.0,0.0)
^MEX_ORIENTATION_DESC = "MEX_ORIENTATION_DESC.TXT"
SPACECRAFT_POINTING_MODE = NADIR
^MEX_POINTING_DESC = "MEX_POINTING_DESC.TXT"
RIGHT_ASCENSION = -1e+32
DECLINATION = -1e+32
OFFSET_ANGLE = -1e+32
SPACECRAFT_SOLAR_DISTANCE = 2.49214e+08
TARGET_NAME = MARS
/* CAMERA DATA ELEMENTS */
DETECTOR_TEMPERATURE = 18.5744
FOCAL_PLANE_TEMPERATURE = 8.5833
INST_CMPRS_NAME = "DISCRETE COSINE TRANSFORMATION (DCT)"
INST_CMPRS_RATIO = 20.0266
INST_CMPRS_QUALITY = 0
INST_CMPRS_QUANTZ_TBL_ID = 0
INSTRUMENT_TEMPERATURE = 11.6418
LENS_TEMPERATURE = 8.7872
MACROPIXEL_SIZE = 4
MISSING_FRAMES = 0
PIXEL_SUBSAMPLING_FLAG = N
SIGNAL_CHAIN_ID = 2
/* RADIOMETRIC DATA ELEMENTS */
BANDWIDTH = 88.0
CENTER_FILTER_WAVELENGTH = 538.0
RADIANCE_OFFSET = 0.605885
RADIANCE_SCALING_FACTOR = 0.00825355
REFLECTANCE_SCALING_FACTOR = 0.000441341
MEX:REFLECTANCE_OFFSET = 0.0323984
/* IMAGE OBJECT DEFINITIONS */
OBJECT = IMAGE
  INTERCHANGE_FORMAT = BINARY
  LINES = 23225
  LINE_SAMPLES = 3070
  SAMPLE_TYPE = UNSIGNED_INTEGER
  SAMPLE_BITS = 8
  BANDS = 1
  BAND_STORAGE_TYPE = BAND_SEQUENTIAL
  MAXIMUM = 255
  MEAN = 136.016
  MINIMUM = 1
  STANDARD_DEVIATION = 44.8012
END_OBJECT = IMAGE
/* MAP OBJECT DEFINITIONS */
OBJECT = IMAGE_MAP_PROJECTION
  ^DATA_SET_MAP_PROJECTION_CATALOG= "DSMAP.CAT"
  A_AXIS_RADIUS = 3396.0
  B_AXIS_RADIUS = 3396.0
  C_AXIS_RADIUS = 3396.0
  CENTER_LATITUDE = 0.0
  CENTER_LONGITUDE = 8.0
  COORDINATE_SYSTEM_NAME = PLANETOGRAPHIC
  COORDINATE_SYSTEM_TYPE = "BODY-FIXED ROTATING"
  EASTERNMOST_LONGITUDE = 10.3667
  FIRST_STANDARD_PARALLEL = "N/A"
  LINE_FIRST_PIXEL = 1
  LINE_LAST_PIXEL = 23225
  LINE_PROJECTION_OFFSET = 11828.0
  MAP_PROJECTION_ROTATION = 0.0
  MAP_PROJECTION_TYPE = SINUSOIDAL
  MAP_RESOLUTION = 592.713803866667
  MAP_SCALE = 0.1
  MAXIMUM_LATITUDE = 19.9489
  MINIMUM_LATITUDE = -19.2381
  POSITIVE_LONGITUDE_DIRECTION = EAST
  REFERENCE_LATITUDE = "N/A"
  REFERENCE_LONGITUDE = "N/A"
  SAMPLE_FIRST_PIXEL = 1
  SAMPLE_LAST_PIXEL = 3070
  SAMPLE_PROJECTION_OFFSET = 1875.0
  SECOND_STANDARD_PARALLEL = "N/A"
  WESTERNMOST_LONGITUDE = 4.41151
END_OBJECT = IMAGE_MAP_PROJECTION
END
