PDS_VERSION_ID = PDS3
/* FILE DATA ELEMENTS */
RECORD_TYPE = UNDEFINED
/* POINTERS TO DATA OBJECTS */
^IMAGE = ("HC686_0000_S14.TIF")
/* IDENTIFICATION DATA ELEMENTS */
DATA_SET_ID = "MEX-M-HRSC-4-REFDR-MAPPROJECT-EXT4-V4.0"
DATA_SET_NAME = "MARS EXPRESS HRSC MAP PROJECTED REFDR EXTENSION4 V4.0"
DETECTOR_ID = MEX_HRSC_S1
EVENT_TYPE = "MARS-REGIONAL-STEREO-Im-Gl-Pf"
INSTRUMENT_HOST_ID = MEX
INSTRUMENT_HOST_NAME = "MARS EXPRESS"
INSTRUMENT_ID = HRSC
INSTRUMENT_NAME = "HIGH RESOLUTION STEREO CAMERA"
MISSION_NAME = "MARS EXPRESS"
MISSION_PHASE_NAME = ME_Phase_29
PROCESSING_LEVEL_ID = 4
PRODUCT_CREATION_TIME = 2023-01-31T11:51:40.000Z
PRODUCT_ID = "HC686_0000_S14.TIF"
RELEASE_ID = 0003
REVISION_ID = 0000
/* QUALITY DATA ELEMENTS */
DATA_QUALITY_ID = 1
DATA_QUALITY_DESC = "Data calculated based on original SPICE kernels"
/* TIME DATA ELEMENTS */
SPACECRAFT_CLOCK_START_COUNT = "1/0336083626.09057"
SPACECRAFT_CLOCK_STOP_COUNT = "1/0336083807.49753"
START_TIME = 2013-12-25T20:35:03.177Z
STOP_TIME = 2013-12-25T20:36:50.419Z
/* ORBITAL DATA ELEMENTS */
ASCENDING_NODE_LONGITUDE = 335.59
MAXIMUM_RESOLUTION = 0.0174
FOOTPRINT_POINT_LATITUDE = (-32.0029,-32.0024,-32.0018,-32.0006, -31.9988,-31.997,-31.9957,-31.9932, -31.9931,-32.0182,-31.722,-31.3637, -31.1853,-31.0065,-30.6464,-30.4032, -30.1598,-29.9171,-29.6728,-29.5493, -29.4257,-29.2401,-29.0549,-28.9315, -28.8086,-28.6832,-28.5567,-28.3682, -28.2421,-28.1167,-27.9908,-27.8655, -27.7374,-27.6093,-27.4813,-27.3535, -27.2257,-27.0986,-26.9708,-26.7753, -26.645,-26.5151,-26.3207,-26.1908, -26.0597,-25.8619,-25.796,-25.7753, -25.7752,-25.775,-25.7752,-25.7744, -25.7747,-25.7741,-25.7737,-25.7735, -25.7718,-25.7717,-25.7719,-25.9707, -26.1695,-26.2991,-26.4291,-26.559, -26.6891,-26.8194,-26.9504,-27.0781, -27.2063,-27.3341,-27.4621,-27.5903, -27.7186,-27.847,-27.9727,-28.0989, -28.2241,-28.413,-28.5389,-28.6652, -28.792,-28.9153,-29.0387,-29.2238, -29.4101,-29.5343,-29.6589,-29.7819, -30.0242,-30.1461,-30.3288,-30.5115, -30.6333,-30.8143,-31.1716,-31.5296, -31.7712,-31.949,-32.0076,-32.0029)
FOOTPRINT_POINT_LONGITUDE = (106.883,106.701,106.536,106.288, 105.974,105.71,105.528,105.231,105.214, 105.197,105.198,105.198,105.198,105.198 ,105.198,105.197,105.197,105.196, 105.195,105.195,105.194,105.193,105.192 ,105.191,105.19,105.19,105.189,105.187, 105.187,105.186,105.185,105.184,105.183 ,105.181,105.18,105.179,105.178,105.176 ,105.175,105.173,105.171,105.169, 105.167,105.165,105.164,105.161,105.16, 105.159,105.506,105.688,105.834,106.034 ,106.198,106.435,106.58,106.744,106.981 ,106.999,107.008,107.005,107.002,107.0, 106.997,106.995,106.993,106.99,106.988, 106.986,106.984,106.982,106.979,106.977 ,106.975,106.972,106.97,106.968,106.966 ,106.962,106.96,106.957,106.955,106.953 ,106.951,106.947,106.944,106.941, 106.939,106.937,106.932,106.929,106.926 ,106.922,106.92,106.916,106.908,106.901 ,106.897,106.893,106.891,106.883)
ORBIT_NUMBER = 12686
ORBITAL_ECCENTRICITY = 0.578
ORBITAL_INCLINATION = 86.89
ORBITAL_SEMIMAJOR_AXIS = 8798.72
PERIAPSIS_ALTITUDE = 330.5
PERIAPSIS_ARGUMENT_ANGLE = 310.13
PERIAPSIS_TIME = 2013-12-25T20:29:52.000Z
SPACECRAFT_ORIENTATION = (0.0,1.0,0.0)
^MEX_ORIENTATION_DESC = "MEX_ORIENTATION_DESC.TXT"
SPACECRAFT_POINTING_MODE = NADIR
^MEX_POINTING_DESC = "MEX_POINTING_DESC.TXT"
RIGHT_ASCENSION = -1e+32
DECLINATION = -1e+32
OFFSET_ANGLE = -1e+32
SPACECRAFT_SOLAR_DISTANCE = 2.4919e+08
TARGET_NAME = MARS
/* CAMERA DATA ELEMENTS */
DETECTOR_TEMPERATURE = 17.7588
FOCAL_PLANE_TEMPERATURE = 8.7872
INST_CMPRS_NAME = "DISCRETE COSINE TRANSFORMATION (DCT)"
INST_CMPRS_RATIO = 7.84632
INST_CMPRS_QUALITY = 0
INST_CMPRS_QUANTZ_TBL_ID = 0
INSTRUMENT_TEMPERATURE = 12.2535
LENS_TEMPERATURE = 8.7872
MACROPIXEL_SIZE = 1
MISSING_FRAMES = 0
PIXEL_SUBSAMPLING_FLAG = N
SIGNAL_CHAIN_ID = 2
/* RADIOMETRIC DATA ELEMENTS */
BANDWIDTH = 180.0
CENTER_FILTER_WAVELENGTH = 677.0
RADIANCE_OFFSET = 0.562772
RADIANCE_SCALING_FACTOR = 0.0165521
REFLECTANCE_SCALING_FACTOR = 0.000536236
MEX:REFLECTANCE_OFFSET = 0.018232
/* IMAGE OBJECT DEFINITIONS */
OBJECT = IMAGE
  INTERCHANGE_FORMAT = BINARY
  LINES = 29705
  LINE_SAMPLES = 7335
  SAMPLE_TYPE = UNSIGNED_INTEGER
  SAMPLE_BITS = 8
  BANDS = 1
  BAND_STORAGE_TYPE = BAND_SEQUENTIAL
  MAXIMUM = 255
  MEAN = 106.081
  MINIMUM = 1
  STANDARD_DEVIATION = 16.8387
END_OBJECT = IMAGE
/* MAP OBJECT DEFINITIONS */
OBJECT = IMAGE_MAP_PROJECTION
  ^DATA_SET_MAP_PROJECTION_CATALOG= "DSMAP.CAT"
  A_AXIS_RADIUS = 3396.0
  B_AXIS_RADIUS = 3396.0
  C_AXIS_RADIUS = 3396.0
  CENTER_LATITUDE = 0.0
  CENTER_LONGITUDE = 106.0
  COORDINATE_SYSTEM_NAME = PLANETOGRAPHIC
  COORDINATE_SYSTEM_TYPE = "BODY-FIXED ROTATING"
  EASTERNMOST_LONGITUDE = 107.008
  FIRST_STANDARD_PARALLEL = "N/A"
  LINE_FIRST_PIXEL = 1
  LINE_LAST_PIXEL = 29705
  LINE_PROJECTION_OFFSET = -122228.0
  MAP_PROJECTION_ROTATION = 0.0
  MAP_PROJECTION_TYPE = SINUSOIDAL
  MAP_RESOLUTION = 4741.71043093333
  MAP_SCALE = 0.0125
  MAXIMUM_LATITUDE = -25.7717
  MINIMUM_LATITUDE = -32.0182
  POSITIVE_LONGITUDE_DIRECTION = EAST
  REFERENCE_LATITUDE = "N/A"
  REFERENCE_LONGITUDE = "N/A"
  SAMPLE_FIRST_PIXEL = 1
  SAMPLE_LAST_PIXEL = 7335
  SAMPLE_PROJECTION_OFFSET = 3330.0
  SECOND_STANDARD_PARALLEL = "N/A"
  WESTERNMOST_LONGITUDE = 105.159
END_OBJECT = IMAGE_MAP_PROJECTION
END
