PDS_VERSION_ID = PDS3
/* FILE DATA ELEMENTS */
RECORD_TYPE = UNDEFINED
/* POINTERS TO DATA OBJECTS */
^IMAGE = ("HC685_0000_P14.TIF")
/* IDENTIFICATION DATA ELEMENTS */
DATA_SET_ID = "MEX-M-HRSC-4-REFDR-MAPPROJECT-EXT4-V4.0"
DATA_SET_NAME = "MARS EXPRESS HRSC MAP PROJECTED REFDR EXTENSION4 V4.0"
DETECTOR_ID = MEX_HRSC_P1
EVENT_TYPE = "MARS-REGIONAL-MAPPING-Fl-Lc-Ot"
INSTRUMENT_HOST_ID = MEX
INSTRUMENT_HOST_NAME = "MARS EXPRESS"
INSTRUMENT_ID = HRSC
INSTRUMENT_NAME = "HIGH RESOLUTION STEREO CAMERA"
MISSION_NAME = "MARS EXPRESS"
MISSION_PHASE_NAME = ME_Phase_29
PROCESSING_LEVEL_ID = 4
PRODUCT_CREATION_TIME = 2023-01-31T11:51:40.000Z
PRODUCT_ID = "HC685_0000_P14.TIF"
RELEASE_ID = 0003
REVISION_ID = 0000
/* QUALITY DATA ELEMENTS */
DATA_QUALITY_ID = 1
DATA_QUALITY_DESC = "Data calculated based on original SPICE kernels"
/* TIME DATA ELEMENTS */
SPACECRAFT_CLOCK_START_COUNT = "1/0336058214.09055"
SPACECRAFT_CLOCK_STOP_COUNT = "1/0336058409.56427"
START_TIME = 2013-12-25T13:31:07.789Z
STOP_TIME = 2013-12-25T13:33:21.315Z
/* ORBITAL DATA ELEMENTS */
ASCENDING_NODE_LONGITUDE = 335.61
MAXIMUM_RESOLUTION = 0.027 <m/pixel>
FOOTPRINT_POINT_LATITUDE = (-48.5352,-48.5242,-48.5135,-48.5063, -48.4921,-48.4915,-48.5207,-48.2637, -48.0916,-47.8346,-47.499,-47.3281, -47.1569,-46.98,-46.6452,-46.4746, -46.3031,-46.129,-45.7899,-45.6199, -45.4498,-45.2795,-45.1095,-44.939, -44.5995,-44.4287,-44.0973,-43.7535, -43.5751,-43.4006,-43.2257,-42.9648, -42.7905,-42.617,-42.3577,-42.0974, -41.9238,-41.7506,-41.4894,-41.2289, -41.0551,-40.8818,-40.7086,-40.5355, -40.3627,-40.1901,-40.0173,-39.9309, -39.9065,-39.9122,-39.921,-39.9272, -39.9335,-39.9337,-39.9342,-40.1069, -40.3664,-40.54,-40.7996,-40.973, -41.2333,-41.4068,-41.5812,-41.8417, -42.0157,-42.1898,-42.364,-42.5384, -42.7127,-42.9747,-43.1496,-43.324, -43.499,-43.6732,-43.848,-44.0181, -44.1879,-44.3577,-44.5277,-44.6977, -44.8678,-45.0378,-45.2081,-45.5474, -45.7184,-45.8897,-46.2299,-46.4055, -46.5776,-46.9135,-47.1701,-47.3412, -47.5124,-47.7706,-47.9432,-48.1151, -48.2868,-48.4584,-48.5441,-48.5352)
FOOTPRINT_POINT_LONGITUDE = (208.565,208.057,207.631,207.37,206.895 ,206.879,206.85,206.87,206.883,206.903, 206.922,206.934,206.946,206.963,206.98, 206.991,207.003,207.017,207.036,207.046 ,207.056,207.066,207.076,207.086, 207.104,207.114,207.126,207.147,207.158 ,207.166,207.174,207.186,207.193, 207.201,207.21,207.221,207.228,207.234, 207.245,207.255,207.261,207.268,207.274 ,207.28,207.286,207.291,207.297,207.3, 207.3,207.563,208.012,208.399,208.88, 208.895,208.901,208.896,208.889,208.884 ,208.876,208.871,208.863,208.857, 208.852,208.844,208.838,208.833,208.827 ,208.821,208.815,208.807,208.801, 208.795,208.789,208.782,208.777,208.771 ,208.765,208.759,208.753,208.746,208.74 ,208.734,208.727,208.713,208.707, 208.701,208.686,208.682,208.676,208.658 ,208.647,208.64,208.632,208.621,208.615 ,208.607,208.599,208.592,208.587, 208.565)
ORBIT_NUMBER = 12685
ORBITAL_ECCENTRICITY = 0.578
ORBITAL_INCLINATION = 86.9
ORBITAL_SEMIMAJOR_AXIS = 8794.07
PERIAPSIS_ALTITUDE = 330.85
PERIAPSIS_ARGUMENT_ANGLE = 310.31
PERIAPSIS_TIME = 2013-12-25T13:30:33.000Z
SPACECRAFT_ORIENTATION = (0.0,1.0,0.0)
^MEX_ORIENTATION_DESC = "MEX_ORIENTATION_DESC.TXT"
SPACECRAFT_POINTING_MODE = NADIR
^MEX_POINTING_DESC = "MEX_POINTING_DESC.TXT"
RIGHT_ASCENSION = -1e+32
DECLINATION = -1e+32
OFFSET_ANGLE = -1e+32
SPACECRAFT_SOLAR_DISTANCE = 2.49186e+08
TARGET_NAME = MARS
/* CAMERA DATA ELEMENTS */
DETECTOR_TEMPERATURE = 18.1666 <degC>
FOCAL_PLANE_TEMPERATURE = 9.6028 <degC>
INST_CMPRS_NAME = "DISCRETE COSINE TRANSFORMATION (DCT)"
INST_CMPRS_RATIO = 3.94905
INST_CMPRS_QUALITY = 0
INST_CMPRS_QUANTZ_TBL_ID = 0
INSTRUMENT_TEMPERATURE = 12.2535 <degC>
LENS_TEMPERATURE = 10.4184 <degC>
MACROPIXEL_SIZE = 2
MISSING_FRAMES = 0
PIXEL_SUBSAMPLING_FLAG = N
SIGNAL_CHAIN_ID = 3
/* RADIOMETRIC DATA ELEMENTS */
BANDWIDTH = 174.0 <nm>
CENTER_FILTER_WAVELENGTH = 675.0 <nm>
RADIANCE_OFFSET = 0.0201111 <W*m**-2*sr**-1>
RADIANCE_SCALING_FACTOR = 0.0170353 <W*m**-2*sr**-1>
REFLECTANCE_SCALING_FACTOR = 0.000568962
MEX:REFLECTANCE_OFFSET = 0.000671691
/* IMAGE OBJECT DEFINITIONS */
OBJECT = IMAGE
  INTERCHANGE_FORMAT = BINARY
  LINES = 20532
  LINE_SAMPLES = 3414
  SAMPLE_TYPE = UNSIGNED_INTEGER
  SAMPLE_BITS = 8
  BANDS = 1
  BAND_STORAGE_TYPE = BAND_SEQUENTIAL
  MAXIMUM = 255
  MEAN = 66.8475
  MINIMUM = 1
  STANDARD_DEVIATION = 23.596
END_OBJECT = IMAGE
/* MAP OBJECT DEFINITIONS */
OBJECT = IMAGE_MAP_PROJECTION
  ^DATA_SET_MAP_PROJECTION_CATALOG= "DSMAP.CAT"
  A_AXIS_RADIUS = 3396.0 <km>
  B_AXIS_RADIUS = 3396.0 <km>
  C_AXIS_RADIUS = 3396.0 <km>
  CENTER_LATITUDE = 0.0
  CENTER_LONGITUDE = 208.0
  COORDINATE_SYSTEM_NAME = PLANETOGRAPHIC
  COORDINATE_SYSTEM_TYPE = "BODY-FIXED ROTATING"
  EASTERNMOST_LONGITUDE = 208.901
  FIRST_STANDARD_PARALLEL = "N/A"
  LINE_FIRST_PIXEL = 1
  LINE_LAST_PIXEL = 20532
  LINE_PROJECTION_OFFSET = -94646.75
  MAP_PROJECTION_ROTATION = 0.0
  MAP_PROJECTION_TYPE = SINUSOIDAL
  MAP_RESOLUTION = 2370.85521546667 <pixel/degree>
  MAP_SCALE = 0.025 <km/pixel>
  MAXIMUM_LATITUDE = -39.9065
  MINIMUM_LATITUDE = -48.5441
  POSITIVE_LONGITUDE_DIRECTION = EAST
  REFERENCE_LATITUDE = "N/A"
  REFERENCE_LONGITUDE = "N/A"
  SAMPLE_FIRST_PIXEL = 1
  SAMPLE_LAST_PIXEL = 3414
  SAMPLE_PROJECTION_OFFSET = 1807.25
  SECOND_STANDARD_PARALLEL = "N/A"
  WESTERNMOST_LONGITUDE = 206.85
END_OBJECT = IMAGE_MAP_PROJECTION
END
