PDS_VERSION_ID = PDS3
/* FILE DATA ELEMENTS */
RECORD_TYPE = UNDEFINED
/* POINTERS TO DATA OBJECTS */
^IMAGE = ("HC682_0000_RE4.TIF")
/* IDENTIFICATION DATA ELEMENTS */
DATA_SET_ID = "MEX-M-HRSC-4-REFDR-MAPPROJECT-EXT4-V4.0"
DATA_SET_NAME = "MARS EXPRESS HRSC MAP PROJECTED REFDR EXTENSION4 V4.0"
DETECTOR_ID = MEX_HRSC_RED
EVENT_TYPE = "MARS-REGIONAL-MAPPING-Im-Fl"
INSTRUMENT_HOST_ID = MEX
INSTRUMENT_HOST_NAME = "MARS EXPRESS"
INSTRUMENT_ID = HRSC
INSTRUMENT_NAME = "HIGH RESOLUTION STEREO CAMERA"
MISSION_NAME = "MARS EXPRESS"
MISSION_PHASE_NAME = ME_Phase_29
PROCESSING_LEVEL_ID = 4
PRODUCT_CREATION_TIME = 2023-01-31T11:51:40.000Z
PRODUCT_ID = "HC682_0000_RE4.TIF"
RELEASE_ID = 0003
REVISION_ID = 0000
/* QUALITY DATA ELEMENTS */
DATA_QUALITY_ID = 1
DATA_QUALITY_DESC = "Data calculated based on original SPICE kernels"
/* TIME DATA ELEMENTS */
SPACECRAFT_CLOCK_START_COUNT = "1/0335983121.07281"
SPACECRAFT_CLOCK_STOP_COUNT = "1/0335983360.08048"
START_TIME = 2013-12-24T16:38:52.482Z
STOP_TIME = 2013-12-24T16:40:55.779Z
/* ORBITAL DATA ELEMENTS */
ASCENDING_NODE_LONGITUDE = 335.67
MAXIMUM_RESOLUTION = 0.1473
FOOTPRINT_POINT_LATITUDE = (-23.4181,-23.4256,-23.4324,-23.4384, -23.4437,-23.4482,-23.454,-23.4541, -23.4408,-22.9346,-22.6461,-22.2041, -21.9057,-21.684,-21.3854,-21.1589, -21.0082,-20.8577,-20.7068,-20.5553, -20.4018,-20.0993,-19.9459,-19.7924, -19.638,-19.4808,-19.3231,-19.1662, -19.0093,-18.8527,-18.6135,-18.4534, -18.2937,-18.1343,-17.9745,-17.8114, -17.6485,-17.4861,-17.3235,-17.1611, -16.9958,-16.8302,-16.5819,-16.4163, -16.2505,-16.0023,-15.8366,-15.6709, -15.5885,-15.5732,-15.5709,-15.566, -15.5601,-15.5555,-15.5418,-15.5332, -15.5264,-15.5168,-15.5161,-15.5186, -15.6805,-15.8456,-16.0117,-16.1847, -16.3534,-16.5183,-16.7649,-16.932, -17.0976,-17.2601,-17.4231,-17.6676, -17.8318,-17.9947,-18.1549,-18.3148, -18.4749,-18.7149,-18.8706,-19.1059, -19.2631,-19.4971,-19.6557,-19.8883, -20.0445,-20.2752,-20.4293,-20.5827, -20.8091,-20.9604,-21.1108,-21.2617, -21.6358,-21.931,-22.3011,-22.5954, -23.0265,-23.3146,-23.3867,-23.4181)
FOOTPRINT_POINT_LONGITUDE = (156.213,155.959,155.707,155.455, 155.205,154.956,154.569,154.554,154.544 ,154.535,154.53,154.521,154.515,154.51, 154.504,154.499,154.496,154.492,154.489 ,154.486,154.482,154.476,154.472, 154.468,154.465,154.461,154.457,154.453 ,154.449,154.445,154.438,154.434,154.43 ,154.425,154.421,154.416,154.412, 154.407,154.403,154.398,154.393,154.388 ,154.381,154.376,154.371,154.363, 154.358,154.352,154.35,154.349,154.506, 154.737,155.022,155.236,155.524,155.723 ,155.904,156.23,156.249,156.261,156.262 ,156.261,156.26,156.255,156.253,156.253 ,156.253,156.251,156.251,156.251,156.25 ,156.249,156.247,156.246,156.245, 156.245,156.244,156.243,156.244,156.243 ,156.242,156.242,156.24,156.238,156.236 ,156.235,156.234,156.234,156.233, 156.232,156.231,156.231,156.229,156.228 ,156.226,156.225,156.225,156.224, 156.224,156.213)
ORBIT_NUMBER = 12682
ORBITAL_ECCENTRICITY = 0.578
ORBITAL_INCLINATION = 86.89
ORBITAL_SEMIMAJOR_AXIS = 8797.38
PERIAPSIS_ALTITUDE = 331.89
PERIAPSIS_ARGUMENT_ANGLE = 310.85
PERIAPSIS_TIME = 2013-12-24T16:32:47.000Z
SPACECRAFT_ORIENTATION = (0.0,1.0,0.0)
^MEX_ORIENTATION_DESC = "MEX_ORIENTATION_DESC.TXT"
SPACECRAFT_POINTING_MODE = ACROSSTRACK
^MEX_POINTING_DESC = "MEX_POINTING_DESC.TXT"
RIGHT_ASCENSION = -1e+32
DECLINATION = -1e+32
OFFSET_ANGLE = -0.46
SPACECRAFT_SOLAR_DISTANCE = 2.49175e+08
TARGET_NAME = MARS
/* CAMERA DATA ELEMENTS */
DETECTOR_TEMPERATURE = 19.5939
FOCAL_PLANE_TEMPERATURE = 9.8067
INST_CMPRS_NAME = "DISCRETE COSINE TRANSFORMATION (DCT)"
INST_CMPRS_RATIO = 5.64559
INST_CMPRS_QUALITY = 0
INST_CMPRS_QUANTZ_TBL_ID = 0
INSTRUMENT_TEMPERATURE = 12.2535
LENS_TEMPERATURE = 10.0106
MACROPIXEL_SIZE = 8
MISSING_FRAMES = 0
PIXEL_SUBSAMPLING_FLAG = N
SIGNAL_CHAIN_ID = 2
/* RADIOMETRIC DATA ELEMENTS */
BANDWIDTH = 48.0
CENTER_FILTER_WAVELENGTH = 748.0
RADIANCE_OFFSET = 0.163215
RADIANCE_SCALING_FACTOR = 0.006696
REFLECTANCE_SCALING_FACTOR = 0.000948741
MEX:REFLECTANCE_OFFSET = 0.0231256
/* IMAGE OBJECT DEFINITIONS */
OBJECT = IMAGE
  INTERCHANGE_FORMAT = BINARY
  LINES = 4671
  LINE_SAMPLES = 1171
  SAMPLE_TYPE = UNSIGNED_INTEGER
  SAMPLE_BITS = 8
  BANDS = 1
  BAND_STORAGE_TYPE = BAND_SEQUENTIAL
  MAXIMUM = 255
  MEAN = 116.46
  MINIMUM = 1
  STANDARD_DEVIATION = 34.1127
END_OBJECT = IMAGE
/* MAP OBJECT DEFINITIONS */
OBJECT = IMAGE_MAP_PROJECTION
  ^DATA_SET_MAP_PROJECTION_CATALOG= "DSMAP.CAT"
  A_AXIS_RADIUS = 3396.0
  B_AXIS_RADIUS = 3396.0
  C_AXIS_RADIUS = 3396.0
  CENTER_LATITUDE = 0.0
  CENTER_LONGITUDE = 155.0
  COORDINATE_SYSTEM_NAME = PLANETOGRAPHIC
  COORDINATE_SYSTEM_TYPE = "BODY-FIXED ROTATING"
  EASTERNMOST_LONGITUDE = 156.262
  FIRST_STANDARD_PARALLEL = "N/A"
  LINE_FIRST_PIXEL = 1
  LINE_LAST_PIXEL = 4671
  LINE_PROJECTION_OFFSET = -9215.3125
  MAP_PROJECTION_ROTATION = 0.0
  MAP_PROJECTION_TYPE = SINUSOIDAL
  MAP_RESOLUTION = 592.713803866667
  MAP_SCALE = 0.1
  MAXIMUM_LATITUDE = -15.5161
  MINIMUM_LATITUDE = -23.4541
  POSITIVE_LONGITUDE_DIRECTION = EAST
  REFERENCE_LATITUDE = "N/A"
  REFERENCE_LONGITUDE = "N/A"
  SAMPLE_FIRST_PIXEL = 1
  SAMPLE_LAST_PIXEL = 1171
  SAMPLE_PROJECTION_OFFSET = 417.6875
  SECOND_STANDARD_PARALLEL = "N/A"
  WESTERNMOST_LONGITUDE = 154.349
END_OBJECT = IMAGE_MAP_PROJECTION
END
