PDS_VERSION_ID = PDS3
/* FILE DATA ELEMENTS */
RECORD_TYPE = UNDEFINED
/* POINTERS TO DATA OBJECTS */
^IMAGE = ("HC668_0000_S24.TIF")
/* IDENTIFICATION DATA ELEMENTS */
DATA_SET_ID = "MEX-M-HRSC-4-REFDR-MAPPROJECT-EXT4-V4.0"
DATA_SET_NAME = "MARS EXPRESS HRSC MAP PROJECTED REFDR EXTENSION4 V4.0"
DETECTOR_ID = MEX_HRSC_S2
EVENT_TYPE = "MARS-LOCAL-STEREO-Vo-Ot"
INSTRUMENT_HOST_ID = MEX
INSTRUMENT_HOST_NAME = "MARS EXPRESS"
INSTRUMENT_ID = HRSC
INSTRUMENT_NAME = "HIGH RESOLUTION STEREO CAMERA"
MISSION_NAME = "MARS EXPRESS"
MISSION_PHASE_NAME = ME_Phase_29
PROCESSING_LEVEL_ID = 4
PRODUCT_CREATION_TIME = 2023-01-31T11:51:40.000Z
PRODUCT_ID = "HC668_0000_S24.TIF"
RELEASE_ID = 0003
REVISION_ID = 0000
/* QUALITY DATA ELEMENTS */
DATA_QUALITY_ID = 1
DATA_QUALITY_DESC = "Data calculated based on original SPICE kernels"
/* TIME DATA ELEMENTS */
SPACECRAFT_CLOCK_START_COUNT = "1/0335631194.09045"
SPACECRAFT_CLOCK_STOP_COUNT = "1/0335631630.40197"
START_TIME = 2013-12-20T14:53:18.765Z
STOP_TIME = 2013-12-20T14:56:13.766Z
/* ORBITAL DATA ELEMENTS */
ASCENDING_NODE_LONGITUDE = 335.93
MAXIMUM_RESOLUTION = 0.0285
FOOTPRINT_POINT_LATITUDE = (-3.28069,-3.26588,-3.24977,-3.23224, -3.21315,-3.19251,-3.16449,-3.16303, -3.15014,-2.93866,-2.72117,-2.5051, -2.29236,-2.08121,-1.76464,-1.44891, -1.13386,-0.818779,-0.609183,-0.400113, -0.191518,0.0160842,0.2252,0.433758, 0.641382,0.849464,1.05699,1.26378, 1.47154,1.67814,1.88452,2.19421,2.40023 ,2.60588,3.11974,3.529,3.93713,4.3434, 4.74975,5.15499,5.55896,5.96235,6.36481 ,6.66515,7.07077,7.17056,7.1935,7.18509 ,7.17726,7.16963,7.15919,7.15234, 7.14591,7.14009,7.13434,7.12946,7.12513 ,7.12102,7.11715,7.11667,7.11617,6.7092 ,6.40716,6.00366,5.59916,5.19359, 4.78697,4.37943,3.97083,3.56094,3.35491 ,2.94383,2.5319,2.32554,2.01617,1.809, 1.60111,1.39343,1.18469,0.974898, 0.661988,0.453036,0.242969,0.0332782, -0.174045,-0.383643,-0.593818,-0.805197 ,-1.12084,-1.33115,-1.54108,-1.75269, -1.96499,-2.17671,-2.38976,-2.60212, -2.81428,-3.1325,-3.23952,-3.28069)
FOOTPRINT_POINT_LONGITUDE = (144.951,144.581,144.207,143.828, 143.444,143.055,142.56,142.535,142.515, 142.505,142.49,142.477,142.465,142.454, 142.438,142.422,142.405,142.388,142.377 ,142.365,142.354,142.343,142.331, 142.319,142.307,142.295,142.283,142.271 ,142.258,142.246,142.233,142.214, 142.201,142.188,142.155,142.128,142.101 ,142.074,142.046,142.018,141.99,141.96, 141.931,141.909,141.878,141.871,141.869 ,142.125,142.38,142.634,143.01,143.259, 143.507,143.753,143.999,144.242,144.485 ,144.726,144.967,144.997,145.011, 145.009,145.007,145.005,145.003,145.0, 144.998,144.996,144.993,144.991,144.99, 144.988,144.985,144.984,144.982,144.981 ,144.98,144.978,144.977,144.976,144.974 ,144.973,144.972,144.97,144.969,144.968 ,144.966,144.965,144.963,144.962,144.96 ,144.959,144.957,144.956,144.955, 144.953,144.952,144.949,144.948, 144.951)
ORBIT_NUMBER = 12668
ORBITAL_ECCENTRICITY = 0.578
ORBITAL_INCLINATION = 86.88
ORBITAL_SEMIMAJOR_AXIS = 8802.5
PERIAPSIS_ALTITUDE = 331.99
PERIAPSIS_ARGUMENT_ANGLE = 313.23
PERIAPSIS_TIME = 2013-12-20T14:42:40.000Z
SPACECRAFT_ORIENTATION = (0.0,1.0,0.0)
^MEX_ORIENTATION_DESC = "MEX_ORIENTATION_DESC.TXT"
SPACECRAFT_POINTING_MODE = ACROSSTRACK
^MEX_POINTING_DESC = "MEX_POINTING_DESC.TXT"
RIGHT_ASCENSION = -1e+32
DECLINATION = -1e+32
OFFSET_ANGLE = 1.65
SPACECRAFT_SOLAR_DISTANCE = 2.49106e+08
TARGET_NAME = MARS
/* CAMERA DATA ELEMENTS */
DETECTOR_TEMPERATURE = 18.5744
FOCAL_PLANE_TEMPERATURE = 8.7872
INST_CMPRS_NAME = "DISCRETE COSINE TRANSFORMATION (DCT)"
INST_CMPRS_RATIO = 7.50541
INST_CMPRS_QUALITY = 0
INST_CMPRS_QUANTZ_TBL_ID = 0
INSTRUMENT_TEMPERATURE = 11.8457
LENS_TEMPERATURE = 9.195
MACROPIXEL_SIZE = 1
MISSING_FRAMES = 2
PIXEL_SUBSAMPLING_FLAG = N
SIGNAL_CHAIN_ID = 1
/* RADIOMETRIC DATA ELEMENTS */
BANDWIDTH = 178.0
CENTER_FILTER_WAVELENGTH = 679.0
RADIANCE_OFFSET = 3.3647
RADIANCE_SCALING_FACTOR = 0.0187661
REFLECTANCE_SCALING_FACTOR = 0.000616694
MEX:REFLECTANCE_OFFSET = 0.110571
/* IMAGE OBJECT DEFINITIONS */
OBJECT = IMAGE
  INTERCHANGE_FORMAT = BINARY
  LINES = 24731
  LINE_SAMPLES = 8281
  SAMPLE_TYPE = UNSIGNED_INTEGER
  SAMPLE_BITS = 8
  BANDS = 1
  BAND_STORAGE_TYPE = BAND_SEQUENTIAL
  MAXIMUM = 255
  MEAN = 145.749
  MINIMUM = 1
  STANDARD_DEVIATION = 14.3456
END_OBJECT = IMAGE
/* MAP OBJECT DEFINITIONS */
OBJECT = IMAGE_MAP_PROJECTION
  ^DATA_SET_MAP_PROJECTION_CATALOG= "DSMAP.CAT"
  A_AXIS_RADIUS = 3396.0
  B_AXIS_RADIUS = 3396.0
  C_AXIS_RADIUS = 3396.0
  CENTER_LATITUDE = 0.0
  CENTER_LONGITUDE = 144.0
  COORDINATE_SYSTEM_NAME = PLANETOGRAPHIC
  COORDINATE_SYSTEM_TYPE = "BODY-FIXED ROTATING"
  EASTERNMOST_LONGITUDE = 145.011
  FIRST_STANDARD_PARALLEL = "N/A"
  LINE_FIRST_PIXEL = 1
  LINE_LAST_PIXEL = 24731
  LINE_PROJECTION_OFFSET = 17051.0
  MAP_PROJECTION_ROTATION = 0.0
  MAP_PROJECTION_TYPE = SINUSOIDAL
  MAP_RESOLUTION = 2370.85521546667
  MAP_SCALE = 0.025
  MAXIMUM_LATITUDE = 7.1935
  MINIMUM_LATITUDE = -3.28069
  POSITIVE_LONGITUDE_DIRECTION = EAST
  REFERENCE_LATITUDE = "N/A"
  REFERENCE_LONGITUDE = "N/A"
  SAMPLE_FIRST_PIXEL = 1
  SAMPLE_LAST_PIXEL = 8281
  SAMPLE_PROJECTION_OFFSET = 5400.0
  SECOND_STANDARD_PARALLEL = "N/A"
  WESTERNMOST_LONGITUDE = 141.869
END_OBJECT = IMAGE_MAP_PROJECTION
END
