PDS_VERSION_ID = PDS3
/* FILE DATA ELEMENTS */
RECORD_TYPE = UNDEFINED
/* POINTERS TO DATA OBJECTS */
^IMAGE = ("HC665_0009_S24.TIF")
/* IDENTIFICATION DATA ELEMENTS */
DATA_SET_ID = "MEX-M-HRSC-4-REFDR-MAPPROJECT-EXT4-V4.0"
DATA_SET_NAME = "MARS EXPRESS HRSC MAP PROJECTED REFDR EXTENSION4 V4.0"
DETECTOR_ID = MEX_HRSC_S2
EVENT_TYPE = "MARS-REGIONAL-STEREO-Vo-Fl"
INSTRUMENT_HOST_ID = MEX
INSTRUMENT_HOST_NAME = "MARS EXPRESS"
INSTRUMENT_ID = HRSC
INSTRUMENT_NAME = "HIGH RESOLUTION STEREO CAMERA"
MISSION_NAME = "MARS EXPRESS"
MISSION_PHASE_NAME = ME_Phase_29
PROCESSING_LEVEL_ID = 4
PRODUCT_CREATION_TIME = 2023-01-31T11:51:40.000Z
PRODUCT_ID = "HC665_0009_S24.TIF"
RELEASE_ID = 0003
REVISION_ID = 0000
/* QUALITY DATA ELEMENTS */
DATA_QUALITY_ID = 1
DATA_QUALITY_DESC = "Data calculated based on original SPICE kernels"
/* TIME DATA ELEMENTS */
SPACECRAFT_CLOCK_START_COUNT = "1/0335555166.09033"
SPACECRAFT_CLOCK_STOP_COUNT = "1/0335555331.02187"
START_TIME = 2013-12-19T17:46:10.772Z
STOP_TIME = 2013-12-19T17:47:45.504Z
/* ORBITAL DATA ELEMENTS */
ASCENDING_NODE_LONGITUDE = 335.99
MAXIMUM_RESOLUTION = 0.0144
FOOTPRINT_POINT_LATITUDE = (-38.5598,-38.542,-38.5233,-38.5037, -38.4829,-38.4611,-38.4324,-38.4309, -38.3513,-38.1648,-38.0404,-37.9157, -37.729,-37.6044,-37.4182,-37.1688, -37.0424,-36.8516,-36.6663,-36.541, -36.4152,-36.2308,-36.1064,-35.9774, -35.7301,-35.5499,-35.4249,-35.3002, -35.1133,-34.9883,-34.8632,-34.7386, -34.4899,-34.3656,-34.2407,-34.1151, -33.9899,-33.8653,-33.6164,-33.4915, -33.367,-33.1172,-32.8681,-32.7429, -32.5561,-32.4314,-32.1813,-32.12, -32.1099,-32.1272,-32.1574,-32.1779, -32.1974,-32.208,-32.2275,-32.2283, -32.229,-32.354,-32.5412,-32.6659, -32.7912,-32.9792,-33.1046,-33.2292, -33.3546,-33.4792,-33.6045,-33.7296, -33.9172,-34.0425,-34.1679,-34.2931, -34.4178,-34.6005,-34.7876,-35.0944, -35.2875,-35.4183,-35.5436,-35.6692, -35.7936,-35.9789,-36.2288,-36.4195, -36.5445,-36.7319,-36.8564,-36.9815, -37.1063,-37.2312,-37.3557,-37.4807, -37.6053,-37.7924,-37.9175,-38.1047, -38.23,-38.4177,-38.4798,-38.5598)
FOOTPRINT_POINT_LONGITUDE = (91.5876,91.3555,91.1202,90.8818, 90.6405,90.3958,90.0847,90.069,89.9883, 89.9986,90.0054,90.0118,90.0218,90.0282 ,90.0383,90.0506,90.0551,90.0607, 90.0711,90.0764,90.0812,90.0922,90.0981 ,90.0999,90.1128,90.127,90.1321,90.1374 ,90.1453,90.1501,90.1549,90.16,90.1705, 90.1757,90.1803,90.1843,90.1885,90.1933 ,90.2027,90.207,90.2115,90.2198,90.2285 ,90.2321,90.2383,90.2423,90.2494, 90.2522,90.2525,90.4561,90.8266,91.0849 ,91.34,91.4883,91.767,91.7815,91.7886, 91.7849,91.7792,91.7754,91.7717,91.7661 ,91.7623,91.7584,91.7545,91.7505, 91.7466,91.7427,91.7367,91.7327,91.7287 ,91.7246,91.7204,91.7131,91.7067, 91.6948,91.6896,91.6865,91.6822,91.678, 91.6734,91.6662,91.6572,91.651,91.6465, 91.6395,91.6347,91.63,91.6252,91.6205, 91.6156,91.6108,91.6058,91.5984,91.5935 ,91.5861,91.5811,91.5736,91.571, 91.5876)
ORBIT_NUMBER = 12665
ORBITAL_ECCENTRICITY = 0.578
ORBITAL_INCLINATION = 86.89
ORBITAL_SEMIMAJOR_AXIS = 8804.59
PERIAPSIS_ALTITUDE = 330.57
PERIAPSIS_ARGUMENT_ANGLE = 313.71
PERIAPSIS_TIME = 2013-12-19T17:44:44.000Z
SPACECRAFT_ORIENTATION = (0.0,1.0,0.0)
^MEX_ORIENTATION_DESC = "MEX_ORIENTATION_DESC.TXT"
SPACECRAFT_POINTING_MODE = ACROSSTRACK
^MEX_POINTING_DESC = "MEX_POINTING_DESC.TXT"
RIGHT_ASCENSION = -1e+32
DECLINATION = -1e+32
OFFSET_ANGLE = 1.0
SPACECRAFT_SOLAR_DISTANCE = 2.49088e+08
TARGET_NAME = MARS
/* CAMERA DATA ELEMENTS */
DETECTOR_TEMPERATURE = 18.7783
FOCAL_PLANE_TEMPERATURE = 8.5833
INST_CMPRS_NAME = "DISCRETE COSINE TRANSFORMATION (DCT)"
INST_CMPRS_RATIO = 6.64225
INST_CMPRS_QUALITY = 0
INST_CMPRS_QUANTZ_TBL_ID = 0
INSTRUMENT_TEMPERATURE = 11.6418
LENS_TEMPERATURE = 8.9911
MACROPIXEL_SIZE = 1
MISSING_FRAMES = 0
PIXEL_SUBSAMPLING_FLAG = N
SIGNAL_CHAIN_ID = 1
/* RADIOMETRIC DATA ELEMENTS */
BANDWIDTH = 178.0
CENTER_FILTER_WAVELENGTH = 679.0
RADIANCE_OFFSET = 1.03672
RADIANCE_SCALING_FACTOR = 0.0100984
REFLECTANCE_SCALING_FACTOR = 0.000331807
MEX:REFLECTANCE_OFFSET = 0.034064
/* IMAGE OBJECT DEFINITIONS */
OBJECT = IMAGE
  INTERCHANGE_FORMAT = BINARY
  LINES = 29907
  LINE_SAMPLES = 7024
  SAMPLE_TYPE = UNSIGNED_INTEGER
  SAMPLE_BITS = 8
  BANDS = 1
  BAND_STORAGE_TYPE = BAND_SEQUENTIAL
  MAXIMUM = 255
  MEAN = 113.996
  MINIMUM = 1
  STANDARD_DEVIATION = 22.6316
END_OBJECT = IMAGE
/* MAP OBJECT DEFINITIONS */
OBJECT = IMAGE_MAP_PROJECTION
  ^DATA_SET_MAP_PROJECTION_CATALOG= "DSMAP.CAT"
  A_AXIS_RADIUS = 3396.0
  B_AXIS_RADIUS = 3396.0
  C_AXIS_RADIUS = 3396.0
  CENTER_LATITUDE = 0.0
  CENTER_LONGITUDE = 91.0
  COORDINATE_SYSTEM_NAME = PLANETOGRAPHIC
  COORDINATE_SYSTEM_TYPE = "BODY-FIXED ROTATING"
  EASTERNMOST_LONGITUDE = 91.7886
  FIRST_STANDARD_PARALLEL = "N/A"
  LINE_FIRST_PIXEL = 1
  LINE_LAST_PIXEL = 29907
  LINE_PROJECTION_OFFSET = -152447.0
  MAP_PROJECTION_ROTATION = 0.0
  MAP_PROJECTION_TYPE = SINUSOIDAL
  MAP_RESOLUTION = 4741.71043093333
  MAP_SCALE = 0.0125
  MAXIMUM_LATITUDE = -32.1099
  MINIMUM_LATITUDE = -38.5598
  POSITIVE_LONGITUDE_DIRECTION = EAST
  REFERENCE_LATITUDE = "N/A"
  REFERENCE_LONGITUDE = "N/A"
  SAMPLE_FIRST_PIXEL = 1
  SAMPLE_LAST_PIXEL = 7024
  SAMPLE_PROJECTION_OFFSET = 3759.0
  SECOND_STANDARD_PARALLEL = "N/A"
  WESTERNMOST_LONGITUDE = 89.9883
END_OBJECT = IMAGE_MAP_PROJECTION
END
