PDS_VERSION_ID = PDS3
/* FILE DATA ELEMENTS */
RECORD_TYPE = UNDEFINED
/* POINTERS TO DATA OBJECTS */
^IMAGE = ("HC659_0000_P14.TIF")
/* IDENTIFICATION DATA ELEMENTS */
DATA_SET_ID = "MEX-M-HRSC-4-REFDR-MAPPROJECT-EXT4-V4.0"
DATA_SET_NAME = "MARS EXPRESS HRSC MAP PROJECTED REFDR EXTENSION4 V4.0"
DETECTOR_ID = MEX_HRSC_P1
EVENT_TYPE = "MARS-REGIONAL-STEREO-Im-Gl-Pf"
INSTRUMENT_HOST_ID = MEX
INSTRUMENT_HOST_NAME = "MARS EXPRESS"
INSTRUMENT_ID = HRSC
INSTRUMENT_NAME = "HIGH RESOLUTION STEREO CAMERA"
MISSION_NAME = "MARS EXPRESS"
MISSION_PHASE_NAME = ME_Phase_29
PROCESSING_LEVEL_ID = 4
PRODUCT_CREATION_TIME = 2023-01-31T11:51:40.000Z
PRODUCT_ID = "HC659_0000_P14.TIF"
RELEASE_ID = 0003
REVISION_ID = 0000
/* QUALITY DATA ELEMENTS */
DATA_QUALITY_ID = 1
DATA_QUALITY_DESC = "Data calculated based on original SPICE kernels"
/* TIME DATA ELEMENTS */
SPACECRAFT_CLOCK_START_COUNT = "1/0335404144.26266"
SPACECRAFT_CLOCK_STOP_COUNT = "1/0335404352.06604"
START_TIME = 2013-12-17T23:49:58.267Z
STOP_TIME = 2013-12-17T23:50:58.425Z
/* ORBITAL DATA ELEMENTS */
ASCENDING_NODE_LONGITUDE = 336.11
MAXIMUM_RESOLUTION = 0.0273
FOOTPRINT_POINT_LATITUDE = (-42.0967,-42.096,-42.0952,-42.0944, -42.0934,-42.0919,-42.0906,-42.0893, -42.0879,-42.0864,-42.0848,-42.0831, -42.0806,-42.0804,-42.1077,-42.0299, -41.9526,-41.8011,-41.6111,-41.3827, -41.1922,-41.0019,-40.8117,-40.5835, -40.4314,-40.2033,-40.1253,-40.0073, -39.9282,-39.8495,-39.7704,-39.6518, -39.5746,-39.4589,-39.3056,-39.1892, -39.1112,-39.0331,-38.955,-38.8378, -38.7595,-38.6812,-38.5639,-38.4856, -38.4074,-38.2902,-38.2511,-38.2316, -38.2323,-38.234,-38.2341,-38.2335, -38.232,-38.2313,-38.231,-38.2322, -38.2324,-38.2326,-38.2325,-38.2329, -38.3113,-38.3897,-38.5075,-38.5857, -38.6641,-38.7425,-38.8209,-38.8994, -39.0173,-39.1348,-39.2132,-39.2918, -39.3704,-39.4489,-39.5275,-39.6061, -39.6846,-39.7632,-39.8815,-39.9603, -40.039,-40.1177,-40.2343,-40.3866, -40.539,-40.6531,-40.8051,-40.9578, -41.1104,-41.1868,-41.2633,-41.3782, -41.493,-41.5695,-41.6458,-41.7983, -41.9128,-42.0654,-42.1037,-42.0967)
FOOTPRINT_POINT_LONGITUDE = (345.475,345.357,345.239,345.121, 345.003,344.839,344.72,344.6,344.48, 344.36,344.239,344.118,343.951,343.936, 343.899,343.905,343.91,343.917,343.926, 343.937,343.947,343.956,343.965,343.976 ,343.983,343.994,343.997,344.003, 344.007,344.011,344.015,344.021,344.023 ,344.026,344.029,344.033,344.036, 344.039,344.042,344.046,344.049,344.053 ,344.057,344.06,344.064,344.068,344.069 ,344.07,344.176,344.388,344.524,344.735 ,344.914,345.033,345.181,345.298, 345.401,345.591,345.606,345.611,345.609 ,345.606,345.603,345.6,345.598,345.595, 345.593,345.591,345.587,345.583,345.581 ,345.578,345.576,345.573,345.57,345.568 ,345.565,345.563,345.559,345.556, 345.554,345.551,345.547,345.542,345.536 ,345.532,345.527,345.522,345.516, 345.514,345.511,345.507,345.503,345.5, 345.497,345.491,345.487,345.481,345.48, 345.475)
ORBIT_NUMBER = 12659
ORBITAL_ECCENTRICITY = 0.578
ORBITAL_INCLINATION = 86.89
ORBITAL_SEMIMAJOR_AXIS = 8802.15
PERIAPSIS_ALTITUDE = 331.59
PERIAPSIS_ARGUMENT_ANGLE = 314.73
PERIAPSIS_TIME = 2013-12-17T23:48:52.000Z
SPACECRAFT_ORIENTATION = (0.0,1.0,0.0)
^MEX_ORIENTATION_DESC = "MEX_ORIENTATION_DESC.TXT"
SPACECRAFT_POINTING_MODE = ACROSSTRACK
^MEX_POINTING_DESC = "MEX_POINTING_DESC.TXT"
RIGHT_ASCENSION = -1e+32
DECLINATION = -1e+32
OFFSET_ANGLE = 0.4
SPACECRAFT_SOLAR_DISTANCE = 2.49048e+08
TARGET_NAME = MARS
/* CAMERA DATA ELEMENTS */
DETECTOR_TEMPERATURE = 0.0
FOCAL_PLANE_TEMPERATURE = 0.0
INST_CMPRS_NAME = "DISCRETE COSINE TRANSFORMATION (DCT)"
INST_CMPRS_RATIO = 4.29189
INST_CMPRS_QUALITY = 0
INST_CMPRS_QUANTZ_TBL_ID = 0
INSTRUMENT_TEMPERATURE = 0.0
LENS_TEMPERATURE = 0.0
MACROPIXEL_SIZE = 2
MISSING_FRAMES = 0
PIXEL_SUBSAMPLING_FLAG = N
SIGNAL_CHAIN_ID = 3
/* RADIOMETRIC DATA ELEMENTS */
BANDWIDTH = 174.0
CENTER_FILTER_WAVELENGTH = 675.0
RADIANCE_OFFSET = 0.422386
RADIANCE_SCALING_FACTOR = 0.011516
REFLECTANCE_SCALING_FACTOR = 0.000384198
MEX:REFLECTANCE_OFFSET = 0.0140917
/* IMAGE OBJECT DEFINITIONS */
OBJECT = IMAGE
  INTERCHANGE_FORMAT = BINARY
  LINES = 12436
  LINE_SAMPLES = 3140
  SAMPLE_TYPE = UNSIGNED_INTEGER
  SAMPLE_BITS = 8
  BANDS = 1
  BAND_STORAGE_TYPE = BAND_SEQUENTIAL
  MAXIMUM = 255
  MEAN = 93.3074
  MINIMUM = 1
  STANDARD_DEVIATION = 24.874
END_OBJECT = IMAGE
/* MAP OBJECT DEFINITIONS */
OBJECT = IMAGE_MAP_PROJECTION
  ^DATA_SET_MAP_PROJECTION_CATALOG= "DSMAP.CAT"
  A_AXIS_RADIUS = 3396.0
  B_AXIS_RADIUS = 3396.0
  C_AXIS_RADIUS = 3396.0
  CENTER_LATITUDE = 0.0
  CENTER_LONGITUDE = 345.0
  COORDINATE_SYSTEM_NAME = PLANETOGRAPHIC
  COORDINATE_SYSTEM_TYPE = "BODY-FIXED ROTATING"
  EASTERNMOST_LONGITUDE = 345.611
  FIRST_STANDARD_PARALLEL = "N/A"
  LINE_FIRST_PIXEL = 1
  LINE_LAST_PIXEL = 12436
  LINE_PROJECTION_OFFSET = -87482.75
  MAP_PROJECTION_ROTATION = 0.0
  MAP_PROJECTION_TYPE = SINUSOIDAL
  MAP_RESOLUTION = 2370.85521546667
  MAP_SCALE = 0.025
  MAXIMUM_LATITUDE = -38.231
  MINIMUM_LATITUDE = -42.1077
  POSITIVE_LONGITUDE_DIRECTION = EAST
  REFERENCE_LATITUDE = "N/A"
  REFERENCE_LONGITUDE = "N/A"
  SAMPLE_FIRST_PIXEL = 1
  SAMPLE_LAST_PIXEL = 3140
  SAMPLE_PROJECTION_OFFSET = 1931.25
  SECOND_STANDARD_PARALLEL = "N/A"
  WESTERNMOST_LONGITUDE = 343.899
END_OBJECT = IMAGE_MAP_PROJECTION
END
