PDS_VERSION_ID = PDS3
/* FILE DATA ELEMENTS */
RECORD_TYPE = UNDEFINED
/* POINTERS TO DATA OBJECTS */
^IMAGE = ("HC655_0000_P24.TIF")
/* IDENTIFICATION DATA ELEMENTS */
DATA_SET_ID = "MEX-M-HRSC-4-REFDR-MAPPROJECT-EXT4-V4.0"
DATA_SET_NAME = "MARS EXPRESS HRSC MAP PROJECTED REFDR EXTENSION4 V4.0"
DETECTOR_ID = MEX_HRSC_P2
EVENT_TYPE = "MARS-REGIONAL-MAPPING-Im-Gl-Pf"
INSTRUMENT_HOST_ID = MEX
INSTRUMENT_HOST_NAME = "MARS EXPRESS"
INSTRUMENT_ID = HRSC
INSTRUMENT_NAME = "HIGH RESOLUTION STEREO CAMERA"
MISSION_NAME = "MARS EXPRESS"
MISSION_PHASE_NAME = ME_Phase_29
PROCESSING_LEVEL_ID = 4
PRODUCT_CREATION_TIME = 2023-01-31T11:51:40.000Z
PRODUCT_ID = "HC655_0000_P24.TIF"
RELEASE_ID = 0003
REVISION_ID = 0000
/* QUALITY DATA ELEMENTS */
DATA_QUALITY_ID = 1
DATA_QUALITY_DESC = "Data calculated based on original SPICE kernels"
/* TIME DATA ELEMENTS */
SPACECRAFT_CLOCK_START_COUNT = "1/0335303700.08243"
SPACECRAFT_CLOCK_STOP_COUNT = "1/0335303902.17103"
START_TIME = 2013-12-16T19:55:15.766Z
STOP_TIME = 2013-12-16T19:57:14.899Z
/* ORBITAL DATA ELEMENTS */
ASCENDING_NODE_LONGITUDE = 336.18
MAXIMUM_RESOLUTION = 0.0301
FOOTPRINT_POINT_LATITUDE = (-29.227,-29.2224,-29.2186,-29.2142, -29.2092,-29.2037,-29.1984,-29.198, -29.184,-28.7917,-28.4867,-28.3307, -28.1748,-28.0179,-27.8617,-27.7065, -27.4686,-27.3124,-27.007,-26.8491, -26.6932,-26.5376,-26.3823,-26.2261, -25.9929,-25.6896,-25.5341,-25.3794, -25.2211,-24.9852,-24.8301,-24.6752, -24.5203,-24.2113,-23.9089,-23.6, -23.2911,-23.0593,-22.7489,-22.5906, -22.4324,-22.2744,-22.1177,-21.9598, -21.802,-21.5646,-21.4812,-21.4415, -21.448,-21.4506,-21.4537,-21.4577, -21.4588,-21.4594,-21.4595,-21.46, -21.6221,-21.7805,-22.0177,-22.1761, -22.334,-22.4925,-22.6507,-22.887, -23.1963,-23.3514,-23.5835,-23.8875, -24.0425,-24.1976,-24.3524,-24.5073, -24.6624,-24.8177,-24.9753,-25.1341, -25.4428,-25.599,-25.7553,-26.0631, -26.218,-26.3735,-26.5305,-26.6857, -26.8411,-26.9968,-27.1528,-27.3086, -27.4647,-27.6205,-27.7759,-27.9317, -28.0875,-28.2436,-28.4773,-28.6333, -28.92,-29.1164,-29.1819,-29.227)
FOOTPRINT_POINT_LONGITUDE = (34.7271,34.3907,34.1656,33.9398, 33.7134,33.4861,33.2863,33.272,33.258, 33.261,33.2629,33.2637,33.2646,33.2647, 33.2652,33.2662,33.2642,33.2643,33.2691 ,33.2679,33.2679,33.2679,33.2682, 33.2677,33.2675,33.2722,33.2717,33.2717 ,33.2692,33.2663,33.2658,33.2652, 33.2646,33.2636,33.2666,33.2649,33.2628 ,33.2609,33.2581,33.2568,33.2554, 33.2541,33.2534,33.252,33.2504,33.2481, 33.2456,33.2451,33.4472,33.6469,33.8768 ,34.1978,34.4871,34.8063,34.8215, 34.8269,34.8252,34.8235,34.821,34.8193, 34.8178,34.816,34.8144,34.8118,34.8083, 34.8064,34.8037,34.8018,34.8,34.7981, 34.7963,34.7945,34.7926,34.7907,34.7881 ,34.7852,34.7819,34.7797,34.7775, 34.7745,34.7727,34.7707,34.7683,34.7664 ,34.7644,34.7623,34.7602,34.7581, 34.7559,34.7537,34.7518,34.7496,34.7475 ,34.7453,34.7421,34.7398,34.7354, 34.7325,34.7315,34.7271)
ORBIT_NUMBER = 12655
ORBITAL_ECCENTRICITY = 0.578
ORBITAL_INCLINATION = 86.88
ORBITAL_SEMIMAJOR_AXIS = 8807.15
PERIAPSIS_ALTITUDE = 331.84
PERIAPSIS_ARGUMENT_ANGLE = 315.42
PERIAPSIS_TIME = 2013-12-16T19:51:43.000Z
SPACECRAFT_ORIENTATION = (0.0,1.0,0.0)
^MEX_ORIENTATION_DESC = "MEX_ORIENTATION_DESC.TXT"
SPACECRAFT_POINTING_MODE = ACROSSTRACK
^MEX_POINTING_DESC = "MEX_POINTING_DESC.TXT"
RIGHT_ASCENSION = -1e+32
DECLINATION = -1e+32
OFFSET_ANGLE = 0.269
SPACECRAFT_SOLAR_DISTANCE = 2.49019e+08
TARGET_NAME = MARS
/* CAMERA DATA ELEMENTS */
DETECTOR_TEMPERATURE = 18.9822
FOCAL_PLANE_TEMPERATURE = 8.7872
INST_CMPRS_NAME = "DISCRETE COSINE TRANSFORMATION (DCT)"
INST_CMPRS_RATIO = 5.30875
INST_CMPRS_QUALITY = 0
INST_CMPRS_QUANTZ_TBL_ID = 0
INSTRUMENT_TEMPERATURE = 12.0496
LENS_TEMPERATURE = 9.195
MACROPIXEL_SIZE = 2
MISSING_FRAMES = 0
PIXEL_SUBSAMPLING_FLAG = N
SIGNAL_CHAIN_ID = 3
/* RADIOMETRIC DATA ELEMENTS */
BANDWIDTH = 177.0
CENTER_FILTER_WAVELENGTH = 676.5
RADIANCE_OFFSET = 0.895728
RADIANCE_SCALING_FACTOR = 0.0139582
REFLECTANCE_SCALING_FACTOR = 0.000458937
MEX:REFLECTANCE_OFFSET = 0.029451
/* IMAGE OBJECT DEFINITIONS */
OBJECT = IMAGE
  INTERCHANGE_FORMAT = BINARY
  LINES = 18374
  LINE_SAMPLES = 3598
  SAMPLE_TYPE = UNSIGNED_INTEGER
  SAMPLE_BITS = 8
  BANDS = 1
  BAND_STORAGE_TYPE = BAND_SEQUENTIAL
  MAXIMUM = 255
  MEAN = 101.017
  MINIMUM = 1
  STANDARD_DEVIATION = 24.7421
END_OBJECT = IMAGE
/* MAP OBJECT DEFINITIONS */
OBJECT = IMAGE_MAP_PROJECTION
  ^DATA_SET_MAP_PROJECTION_CATALOG= "DSMAP.CAT"
  A_AXIS_RADIUS = 3396.0
  B_AXIS_RADIUS = 3396.0
  C_AXIS_RADIUS = 3396.0
  CENTER_LATITUDE = 0.0
  CENTER_LONGITUDE = 34.0
  COORDINATE_SYSTEM_NAME = PLANETOGRAPHIC
  COORDINATE_SYSTEM_TYPE = "BODY-FIXED ROTATING"
  EASTERNMOST_LONGITUDE = 34.8269
  FIRST_STANDARD_PARALLEL = "N/A"
  LINE_FIRST_PIXEL = 1
  LINE_LAST_PIXEL = 18374
  LINE_PROJECTION_OFFSET = -50844.25
  MAP_PROJECTION_ROTATION = 0.0
  MAP_PROJECTION_TYPE = SINUSOIDAL
  MAP_RESOLUTION = 2370.85521546667
  MAP_SCALE = 0.025
  MAXIMUM_LATITUDE = -21.4415
  MINIMUM_LATITUDE = -29.227
  POSITIVE_LONGITUDE_DIRECTION = EAST
  REFERENCE_LATITUDE = "N/A"
  REFERENCE_LONGITUDE = "N/A"
  SAMPLE_FIRST_PIXEL = 1
  SAMPLE_LAST_PIXEL = 3598
  SAMPLE_PROJECTION_OFFSET = 1715.25
  SECOND_STANDARD_PARALLEL = "N/A"
  WESTERNMOST_LONGITUDE = 33.2451
END_OBJECT = IMAGE_MAP_PROJECTION
END
