PDS_VERSION_ID = PDS3
/* FILE DATA ELEMENTS */
RECORD_TYPE = UNDEFINED
/* POINTERS TO DATA OBJECTS */
^IMAGE = ("HC651_0000_BL4.TIF")
/* IDENTIFICATION DATA ELEMENTS */
DATA_SET_ID = "MEX-M-HRSC-4-REFDR-MAPPROJECT-EXT4-V4.0"
DATA_SET_NAME = "MARS EXPRESS HRSC MAP PROJECTED REFDR EXTENSION4 V4.0"
DETECTOR_ID = MEX_HRSC_BLUE
EVENT_TYPE = "MARS-REGIONAL-MAPPING-Im-Fl-Eb"
INSTRUMENT_HOST_ID = MEX
INSTRUMENT_HOST_NAME = "MARS EXPRESS"
INSTRUMENT_ID = HRSC
INSTRUMENT_NAME = "HIGH RESOLUTION STEREO CAMERA"
MISSION_NAME = "MARS EXPRESS"
MISSION_PHASE_NAME = ME_Phase_29
PROCESSING_LEVEL_ID = 4
PRODUCT_CREATION_TIME = 2023-01-31T11:51:40.000Z
PRODUCT_ID = "HC651_0000_BL4.TIF"
RELEASE_ID = 0003
REVISION_ID = 0000
/* QUALITY DATA ELEMENTS */
DATA_QUALITY_ID = 1
DATA_QUALITY_DESC = "Data calculated based on original SPICE kernels"
/* TIME DATA ELEMENTS */
SPACECRAFT_CLOCK_START_COUNT = "1/0335203033.07324"
SPACECRAFT_CLOCK_STOP_COUNT = "1/0335203237.40879"
START_TIME = 2013-12-15T15:58:04.144Z
STOP_TIME = 2013-12-15T15:59:52.180Z
/* ORBITAL DATA ELEMENTS */
ASCENDING_NODE_LONGITUDE = 336.25
MAXIMUM_RESOLUTION = 0.0587
FOOTPRINT_POINT_LATITUDE = (-29.6705,-29.6699,-29.6692,-29.6677, -29.666,-29.6629,-29.6605,-29.6604, -29.6529,-29.4175,-29.1818,-28.8418, -28.7017,-28.5618,-28.3519,-28.212, -28.0717,-27.9316,-27.7922,-27.6521, -27.5121,-27.372,-27.1629,-26.9536, -26.8139,-26.6049,-26.3965,-26.2573, -26.1179,-25.9785,-25.8393,-25.7003, -25.5613,-25.4225,-25.2837,-25.145, -25.0065,-24.868,-24.6604,-24.3837, -24.1076,-23.901,-23.6249,-23.4178, -23.2776,-23.1362,-22.9949,-22.8537, -22.7831,-22.7566,-22.7574,-22.7581, -22.7584,-22.7573,-22.7569,-22.755, -22.7551,-22.7561,-22.8976,-23.0399, -23.1812,-23.3228,-23.462,-23.6692, -23.9456,-24.0839,-24.2223,-24.4301, -24.5686,-24.7765,-24.9845,-25.1929, -25.3318,-25.4708,-25.6793,-25.8187, -25.958,-26.0972,-26.2363,-26.3758, -26.5152,-26.7249,-26.8649,-27.0042, -27.2128,-27.3522,-27.4921,-27.7016, -27.8417,-28.0526,-28.1938,-28.3346, -28.4746,-28.6138,-28.8236,-28.964, -29.1686,-29.5829,-29.6416,-29.6705)
FOOTPRINT_POINT_LONGITUDE = (83.8416,83.5992,83.4107,83.1414, 82.9262,82.6166,82.4145,82.401,82.3855, 82.3869,82.3874,82.3895,82.3902,82.3913 ,82.3924,82.3929,82.3925,82.3925, 82.3934,82.3932,82.3926,82.392,82.3924, 82.3924,82.3918,82.3914,82.392,82.3916, 82.3906,82.3897,82.3889,82.3882,82.3875 ,82.3867,82.386,82.3853,82.3846,82.3839 ,82.3827,82.3807,82.3791,82.3785, 82.3755,82.3731,82.3716,82.3702,82.3686 ,82.3671,82.3664,82.3661,82.5537, 82.7717,83.0905,83.4247,83.7145,83.905, 83.9191,83.9239,83.9225,83.9198,83.919, 83.9178,83.9165,83.9146,83.912,83.9108, 83.9095,83.9073,83.9061,83.9043,83.9025 ,83.9003,83.8991,83.8977,83.8959, 83.8941,83.8926,83.8915,83.8905,83.889, 83.8878,83.8849,83.8828,83.8822,83.882, 83.8814,83.8801,83.8788,83.8771,83.8736 ,83.8703,83.8677,83.8666,83.8674, 83.8666,83.8654,83.8629,83.8548,83.8546 ,83.8416)
ORBIT_NUMBER = 12651
ORBITAL_ECCENTRICITY = 0.578
ORBITAL_INCLINATION = 86.9
ORBITAL_SEMIMAJOR_AXIS = 8808.27
PERIAPSIS_ALTITUDE = 330.82
PERIAPSIS_ARGUMENT_ANGLE = 316.09
PERIAPSIS_TIME = 2013-12-15T15:54:32.000Z
SPACECRAFT_ORIENTATION = (0.0,1.0,0.0)
^MEX_ORIENTATION_DESC = "MEX_ORIENTATION_DESC.TXT"
SPACECRAFT_POINTING_MODE = NADIR
^MEX_POINTING_DESC = "MEX_POINTING_DESC.TXT"
RIGHT_ASCENSION = -1e+32
DECLINATION = -1e+32
OFFSET_ANGLE = -1e+32
SPACECRAFT_SOLAR_DISTANCE = 2.48989e+08
TARGET_NAME = MARS
/* CAMERA DATA ELEMENTS */
DETECTOR_TEMPERATURE = 18.9822
FOCAL_PLANE_TEMPERATURE = 9.8067
INST_CMPRS_NAME = "DISCRETE COSINE TRANSFORMATION (DCT)"
INST_CMPRS_RATIO = 3.57318
INST_CMPRS_QUALITY = 0
INST_CMPRS_QUANTZ_TBL_ID = 0
INSTRUMENT_TEMPERATURE = 12.0496
LENS_TEMPERATURE = 11.6418
MACROPIXEL_SIZE = 4
MISSING_FRAMES = 0
PIXEL_SUBSAMPLING_FLAG = N
SIGNAL_CHAIN_ID = 2
/* RADIOMETRIC DATA ELEMENTS */
BANDWIDTH = 76.0
CENTER_FILTER_WAVELENGTH = 444.0
RADIANCE_OFFSET = 0.109967
RADIANCE_SCALING_FACTOR = 0.00200221
REFLECTANCE_SCALING_FACTOR = 0.000127534
MEX:REFLECTANCE_OFFSET = 0.00700454
/* IMAGE OBJECT DEFINITIONS */
OBJECT = IMAGE
  INTERCHANGE_FORMAT = BINARY
  LINES = 8589
  LINE_SAMPLES = 1730
  SAMPLE_TYPE = UNSIGNED_INTEGER
  SAMPLE_BITS = 8
  BANDS = 1
  BAND_STORAGE_TYPE = BAND_SEQUENTIAL
  MAXIMUM = 255
  MEAN = 115.734
  MINIMUM = 1
  STANDARD_DEVIATION = 22.3313
END_OBJECT = IMAGE
/* MAP OBJECT DEFINITIONS */
OBJECT = IMAGE_MAP_PROJECTION
  ^DATA_SET_MAP_PROJECTION_CATALOG= "DSMAP.CAT"
  A_AXIS_RADIUS = 3396.0
  B_AXIS_RADIUS = 3396.0
  C_AXIS_RADIUS = 3396.0
  CENTER_LATITUDE = 0.0
  CENTER_LONGITUDE = 83.0
  COORDINATE_SYSTEM_NAME = PLANETOGRAPHIC
  COORDINATE_SYSTEM_TYPE = "BODY-FIXED ROTATING"
  EASTERNMOST_LONGITUDE = 83.9239
  FIRST_STANDARD_PARALLEL = "N/A"
  LINE_FIRST_PIXEL = 1
  LINE_LAST_PIXEL = 8589
  LINE_PROJECTION_OFFSET = -26983.375
  MAP_PROJECTION_ROTATION = 0.0
  MAP_PROJECTION_TYPE = SINUSOIDAL
  MAP_RESOLUTION = 1185.42760773333
  MAP_SCALE = 0.05
  MAXIMUM_LATITUDE = -22.755
  MINIMUM_LATITUDE = -29.6705
  POSITIVE_LONGITUDE_DIRECTION = EAST
  REFERENCE_LATITUDE = "N/A"
  REFERENCE_LONGITUDE = "N/A"
  SAMPLE_FIRST_PIXEL = 1
  SAMPLE_LAST_PIXEL = 1730
  SAMPLE_PROJECTION_OFFSET = 710.875
  SECOND_STANDARD_PARALLEL = "N/A"
  WESTERNMOST_LONGITUDE = 82.3661
END_OBJECT = IMAGE_MAP_PROJECTION
END
