PDS_VERSION_ID = PDS3
/* FILE DATA ELEMENTS */
RECORD_TYPE = UNDEFINED
/* POINTERS TO DATA OBJECTS */
^IMAGE = ("HC649_0000_ND4.TIF")
/* IDENTIFICATION DATA ELEMENTS */
DATA_SET_ID = "MEX-M-HRSC-4-REFDR-MAPPROJECT-EXT4-V4.0"
DATA_SET_NAME = "MARS EXPRESS HRSC MAP PROJECTED REFDR EXTENSION4 V4.0"
DETECTOR_ID = MEX_HRSC_NADIR
EVENT_TYPE = "MARS-REGIONAL-STEREO-Vo-Te"
INSTRUMENT_HOST_ID = MEX
INSTRUMENT_HOST_NAME = "MARS EXPRESS"
INSTRUMENT_ID = HRSC
INSTRUMENT_NAME = "HIGH RESOLUTION STEREO CAMERA"
MISSION_NAME = "MARS EXPRESS"
MISSION_PHASE_NAME = ME_Phase_29
PROCESSING_LEVEL_ID = 4
PRODUCT_CREATION_TIME = 2023-01-31T11:51:40.000Z
PRODUCT_ID = "HC649_0000_ND4.TIF"
RELEASE_ID = 0003
REVISION_ID = 0000
/* QUALITY DATA ELEMENTS */
DATA_QUALITY_ID = 1
DATA_QUALITY_DESC = "Data calculated based on original SPICE kernels"
/* TIME DATA ELEMENTS */
SPACECRAFT_CLOCK_START_COUNT = "1/0335152846.09089"
SPACECRAFT_CLOCK_STOP_COUNT = "1/0335153064.25674"
START_TIME = 2013-12-15T02:01:28.862Z
STOP_TIME = 2013-12-15T02:02:29.456Z
/* ORBITAL DATA ELEMENTS */
ASCENDING_NODE_LONGITUDE = 336.29
MAXIMUM_RESOLUTION = 0.0167
FOOTPRINT_POINT_LATITUDE = (-22.3543,-22.3575,-22.3595,-22.3614, -22.3631,-22.3647,-22.3662,-22.3676, -22.3689,-22.37,-22.3711,-22.372, -22.3729,-22.373,-22.3728,-22.2652, -22.1218,-21.9019,-21.7551,-21.6084, -21.4619,-21.3154,-21.169,-21.0227, -20.8731,-20.7234,-20.5738,-20.4243, -20.275,-20.1257,-19.9766,-19.9003, -19.824,-19.7477,-19.6714,-19.5952, -19.519,-19.4429,-19.3667,-19.2907, -19.2146,-19.1386,-18.9866,-18.9089, -18.8311,-18.7535,-18.6758,-18.637, -18.6218,-18.6206,-18.6187,-18.6172, -18.6156,-18.6146,-18.613,-18.6109, -18.6097,-18.6084,-18.6071,-18.6055, -18.6041,-18.6026,-18.6011,-18.5985, -18.5982,-18.5983,-18.6761,-18.7538, -18.8316,-18.9095,-18.9868,-19.0628, -19.139,-19.2151,-19.2913,-19.3675, -19.4437,-19.52,-19.5963,-19.6727, -19.749,-19.8254,-19.9777,-20.1271, -20.2765,-20.4261,-20.5758,-20.7256, -20.8756,-21.0249,-21.1714,-21.318, -21.4646,-21.6114,-21.7583,-21.9053, -22.0891,-22.3045,-22.3404,-22.3543)
FOOTPRINT_POINT_LONGITUDE = (289.816,289.613,289.479,289.346, 289.215,289.084,288.954,288.825,288.698 ,288.571,288.445,288.32,288.195,288.18, 288.171,288.169,288.165,288.16,288.157, 288.153,288.15,288.146,288.143,288.139, 288.135,288.131,288.128,288.124,288.12, 288.116,288.112,288.11,288.108,288.106, 288.104,288.102,288.1,288.098,288.096, 288.094,288.092,288.09,288.086,288.083, 288.081,288.079,288.077,288.076,288.076 ,288.206,288.388,288.521,288.655, 288.739,288.857,289.01,289.096,289.182, 289.268,289.372,289.46,289.547,289.635, 289.777,289.794,289.803,289.803,289.803 ,289.804,289.804,289.804,289.804, 289.804,289.804,289.804,289.805,289.805 ,289.805,289.805,289.805,289.805, 289.805,289.805,289.806,289.806,289.806 ,289.806,289.806,289.807,289.807, 289.807,289.807,289.808,289.809,289.809 ,289.81,289.81,289.811,289.811,289.816)
ORBIT_NUMBER = 12649
ORBITAL_ECCENTRICITY = 0.578
ORBITAL_INCLINATION = 86.88
ORBITAL_SEMIMAJOR_AXIS = 8807.81
PERIAPSIS_ALTITUDE = 331.75
PERIAPSIS_ARGUMENT_ANGLE = 316.45
PERIAPSIS_TIME = 2013-12-15T01:56:02.000Z
SPACECRAFT_ORIENTATION = (0.0,1.0,0.0)
^MEX_ORIENTATION_DESC = "MEX_ORIENTATION_DESC.TXT"
SPACECRAFT_POINTING_MODE = ACROSSTRACK
^MEX_POINTING_DESC = "MEX_POINTING_DESC.TXT"
RIGHT_ASCENSION = -1e+32
DECLINATION = -1e+32
OFFSET_ANGLE = -1.347
SPACECRAFT_SOLAR_DISTANCE = 2.48973e+08
TARGET_NAME = MARS
/* CAMERA DATA ELEMENTS */
DETECTOR_TEMPERATURE = 18.3705
FOCAL_PLANE_TEMPERATURE = 8.7872
INST_CMPRS_NAME = "DISCRETE COSINE TRANSFORMATION (DCT)"
INST_CMPRS_RATIO = 6.33914
INST_CMPRS_QUALITY = 0
INST_CMPRS_QUANTZ_TBL_ID = 0
INSTRUMENT_TEMPERATURE = 11.4379
LENS_TEMPERATURE = 8.7872
MACROPIXEL_SIZE = 1
MISSING_FRAMES = 0
PIXEL_SUBSAMPLING_FLAG = N
SIGNAL_CHAIN_ID = 0
/* RADIOMETRIC DATA ELEMENTS */
BANDWIDTH = 177.0
CENTER_FILTER_WAVELENGTH = 677.5
RADIANCE_OFFSET = 0.522886
RADIANCE_SCALING_FACTOR = 0.0149006
REFLECTANCE_SCALING_FACTOR = 0.000490671
MEX:REFLECTANCE_OFFSET = 0.0172185
/* IMAGE OBJECT DEFINITIONS */
OBJECT = IMAGE
  INTERCHANGE_FORMAT = BINARY
  LINES = 17900
  LINE_SAMPLES = 7766
  SAMPLE_TYPE = UNSIGNED_INTEGER
  SAMPLE_BITS = 8
  BANDS = 1
  BAND_STORAGE_TYPE = BAND_SEQUENTIAL
  MAXIMUM = 255
  MEAN = 116.676
  MINIMUM = 1
  STANDARD_DEVIATION = 14.8248
END_OBJECT = IMAGE
/* MAP OBJECT DEFINITIONS */
OBJECT = IMAGE_MAP_PROJECTION
  ^DATA_SET_MAP_PROJECTION_CATALOG= "DSMAP.CAT"
  A_AXIS_RADIUS = 3396.0
  B_AXIS_RADIUS = 3396.0
  C_AXIS_RADIUS = 3396.0
  CENTER_LATITUDE = 0.0
  CENTER_LONGITUDE = 289.0
  COORDINATE_SYSTEM_NAME = PLANETOGRAPHIC
  COORDINATE_SYSTEM_TYPE = "BODY-FIXED ROTATING"
  EASTERNMOST_LONGITUDE = 289.816
  FIRST_STANDARD_PARALLEL = "N/A"
  LINE_FIRST_PIXEL = 1
  LINE_LAST_PIXEL = 17900
  LINE_PROJECTION_OFFSET = -88188.0
  MAP_PROJECTION_ROTATION = 0.0
  MAP_PROJECTION_TYPE = SINUSOIDAL
  MAP_RESOLUTION = 4741.71043093333
  MAP_SCALE = 0.0125
  MAXIMUM_LATITUDE = -18.5982
  MINIMUM_LATITUDE = -22.373
  POSITIVE_LONGITUDE_DIRECTION = EAST
  REFERENCE_LATITUDE = "N/A"
  REFERENCE_LONGITUDE = "N/A"
  SAMPLE_FIRST_PIXEL = 1
  SAMPLE_LAST_PIXEL = 7766
  SAMPLE_PROJECTION_OFFSET = 4154.0
  SECOND_STANDARD_PARALLEL = "N/A"
  WESTERNMOST_LONGITUDE = 288.076
END_OBJECT = IMAGE_MAP_PROJECTION
END
