PDS_VERSION_ID = PDS3
/* FILE DATA ELEMENTS */
RECORD_TYPE = UNDEFINED
/* POINTERS TO DATA OBJECTS */
^IMAGE = ("HC645_0000_P14.TIF")
/* IDENTIFICATION DATA ELEMENTS */
DATA_SET_ID = "MEX-M-HRSC-4-REFDR-MAPPROJECT-EXT4-V4.0"
DATA_SET_NAME = "MARS EXPRESS HRSC MAP PROJECTED REFDR EXTENSION4 V4.0"
DETECTOR_ID = MEX_HRSC_P1
EVENT_TYPE = "MARS-REGIONAL-MAPPING-Im-Fl-Pf"
INSTRUMENT_HOST_ID = MEX
INSTRUMENT_HOST_NAME = "MARS EXPRESS"
INSTRUMENT_ID = HRSC
INSTRUMENT_NAME = "HIGH RESOLUTION STEREO CAMERA"
MISSION_NAME = "MARS EXPRESS"
MISSION_PHASE_NAME = ME_Phase_29
PROCESSING_LEVEL_ID = 4
PRODUCT_CREATION_TIME = 2023-01-31T11:51:40.000Z
PRODUCT_ID = "HC645_0000_P14.TIF"
RELEASE_ID = 0003
REVISION_ID = 0000
/* QUALITY DATA ELEMENTS */
DATA_QUALITY_ID = 1
DATA_QUALITY_DESC = "Data calculated based on original SPICE kernels"
/* TIME DATA ELEMENTS */
SPACECRAFT_CLOCK_START_COUNT = "1/0335051926.09038"
SPACECRAFT_CLOCK_STOP_COUNT = "1/0335052146.25918"
START_TIME = 2013-12-13T21:59:40.191Z
STOP_TIME = 2013-12-13T22:00:02.913Z
/* ORBITAL DATA ELEMENTS */
ASCENDING_NODE_LONGITUDE = 336.37
MAXIMUM_RESOLUTION = 0.0547
FOOTPRINT_POINT_LATITUDE = (-40.5946,-40.5935,-40.5928,-40.5914, -40.5905,-40.589,-40.5882,-40.5866, -40.5857,-40.5848,-40.5838,-40.5829, -40.5819,-40.5809,-40.5798,-40.5788, -40.5777,-40.5767,-40.5755,-40.5744, -40.5736,-40.5724,-40.5712,-40.5691, -40.5688,-40.6055,-40.5484,-40.4918, -40.4059,-40.3194,-40.2322,-40.1446, -40.0865,-40.0439,-40.0015,-39.931, -39.8747,-39.8041,-39.7195,-39.6351, -39.5649,-39.5227,-39.4662,-39.3815, -39.2967,-39.2401,-39.1977,-39.1412, -39.1271,-39.122,-39.1233,-39.1244, -39.1252,-39.1261,-39.1272,-39.1285, -39.1293,-39.1306,-39.1314,-39.1324, -39.1333,-39.1339,-39.1351,-39.1359, -39.1367,-39.137,-39.1376,-39.1384, -39.1397,-39.1402,-39.1414,-39.1424, -39.1432,-39.1433,-39.1436,-39.1445, -39.1448,-39.1456,-39.2022,-39.2446, -39.3011,-39.3858,-39.4704,-39.541, -39.5835,-39.6542,-39.7246,-39.8092, -39.8937,-39.9646,-40.051,-40.1373, -40.2229,-40.3081,-40.3934,-40.4785, -40.5352,-40.6059,-40.6201,-40.5946)
FOOTPRINT_POINT_LONGITUDE = (336.862,336.778,336.722,336.625, 336.555,336.458,336.402,336.305,336.249 ,336.193,336.138,336.082,336.027, 335.971,335.915,335.86,335.804,335.748, 335.693,335.637,335.595,335.54,335.484, 335.387,335.373,335.344,335.347,335.349 ,335.353,335.358,335.363,335.368, 335.371,335.373,335.374,335.377,335.379 ,335.382,335.385,335.388,335.39,335.391 ,335.393,335.396,335.399,335.401, 335.403,335.405,335.406,335.406,335.461 ,335.517,335.559,335.601,335.658, 335.728,335.784,335.84,335.882,335.938, 335.995,336.037,336.107,336.177,336.233 ,336.304,336.346,336.402,336.486, 336.542,336.613,336.669,336.725,336.767 ,336.823,336.893,336.907,336.912, 336.911,336.91,336.909,336.907,336.905, 336.903,336.902,336.901,336.899,336.897 ,336.894,336.893,336.892,336.891, 336.889,336.887,336.885,336.883,336.882 ,336.88,336.88,336.862)
ORBIT_NUMBER = 12645
ORBITAL_ECCENTRICITY = 0.578
ORBITAL_INCLINATION = 86.9
ORBITAL_SEMIMAJOR_AXIS = 8805.08
PERIAPSIS_ALTITUDE = 331.83
PERIAPSIS_ARGUMENT_ANGLE = 317.11
PERIAPSIS_TIME = 2013-12-13T21:58:48.000Z
SPACECRAFT_ORIENTATION = (0.0,1.0,0.0)
^MEX_ORIENTATION_DESC = "MEX_ORIENTATION_DESC.TXT"
SPACECRAFT_POINTING_MODE = NADIR
^MEX_POINTING_DESC = "MEX_POINTING_DESC.TXT"
RIGHT_ASCENSION = -1e+32
DECLINATION = -1e+32
OFFSET_ANGLE = -1e+32
SPACECRAFT_SOLAR_DISTANCE = 2.48939e+08
TARGET_NAME = MARS
/* CAMERA DATA ELEMENTS */
DETECTOR_TEMPERATURE = 18.3705
FOCAL_PLANE_TEMPERATURE = 7.7677
INST_CMPRS_NAME = "DISCRETE COSINE TRANSFORMATION (DCT)"
INST_CMPRS_RATIO = 7.06135
INST_CMPRS_QUALITY = 0
INST_CMPRS_QUANTZ_TBL_ID = 0
INSTRUMENT_TEMPERATURE = 11.4379
LENS_TEMPERATURE = 8.3794
MACROPIXEL_SIZE = 4
MISSING_FRAMES = 0
PIXEL_SUBSAMPLING_FLAG = N
SIGNAL_CHAIN_ID = 3
/* RADIOMETRIC DATA ELEMENTS */
BANDWIDTH = 174.0
CENTER_FILTER_WAVELENGTH = 675.0
RADIANCE_OFFSET = 0.538351
RADIANCE_SCALING_FACTOR = 0.00879659
REFLECTANCE_SCALING_FACTOR = 0.000293214
MEX:REFLECTANCE_OFFSET = 0.0179447
/* IMAGE OBJECT DEFINITIONS */
OBJECT = IMAGE
  INTERCHANGE_FORMAT = BINARY
  LINES = 3390
  LINE_SAMPLES = 1465
  SAMPLE_TYPE = UNSIGNED_INTEGER
  SAMPLE_BITS = 8
  BANDS = 1
  BAND_STORAGE_TYPE = BAND_SEQUENTIAL
  MAXIMUM = 254
  MEAN = 98.0531
  MINIMUM = 1
  STANDARD_DEVIATION = 24.1045
END_OBJECT = IMAGE
/* MAP OBJECT DEFINITIONS */
OBJECT = IMAGE_MAP_PROJECTION
  ^DATA_SET_MAP_PROJECTION_CATALOG= "DSMAP.CAT"
  A_AXIS_RADIUS = 3396.0
  B_AXIS_RADIUS = 3396.0
  C_AXIS_RADIUS = 3396.0
  CENTER_LATITUDE = 0.0
  CENTER_LONGITUDE = 336.0
  COORDINATE_SYSTEM_NAME = PLANETOGRAPHIC
  COORDINATE_SYSTEM_TYPE = "BODY-FIXED ROTATING"
  EASTERNMOST_LONGITUDE = 336.912
  FIRST_STANDARD_PARALLEL = "N/A"
  LINE_FIRST_PIXEL = 1
  LINE_LAST_PIXEL = 3390
  LINE_PROJECTION_OFFSET = -44787.875
  MAP_PROJECTION_ROTATION = 0.0
  MAP_PROJECTION_TYPE = SINUSOIDAL
  MAP_RESOLUTION = 1185.42760773333
  MAP_SCALE = 0.05
  MAXIMUM_LATITUDE = -39.122
  MINIMUM_LATITUDE = -40.6201
  POSITIVE_LONGITUDE_DIRECTION = EAST
  REFERENCE_LATITUDE = "N/A"
  REFERENCE_LONGITUDE = "N/A"
  SAMPLE_FIRST_PIXEL = 1
  SAMPLE_LAST_PIXEL = 1465
  SAMPLE_PROJECTION_OFFSET = 593.125
  SECOND_STANDARD_PARALLEL = "N/A"
  WESTERNMOST_LONGITUDE = 335.344
END_OBJECT = IMAGE_MAP_PROJECTION
END
