PDS_VERSION_ID = PDS3
/* FILE DATA ELEMENTS */
RECORD_TYPE = UNDEFINED
/* POINTERS TO DATA OBJECTS */
^IMAGE = ("HC636_0000_S24.TIF")
/* IDENTIFICATION DATA ELEMENTS */
DATA_SET_ID = "MEX-M-HRSC-4-REFDR-MAPPROJECT-EXT4-V4.0"
DATA_SET_NAME = "MARS EXPRESS HRSC MAP PROJECTED REFDR EXTENSION4 V4.0"
DETECTOR_ID = MEX_HRSC_S2
EVENT_TYPE = "MARS-REGIONAL-MAPPING-Im-Pf"
INSTRUMENT_HOST_ID = MEX
INSTRUMENT_HOST_NAME = "MARS EXPRESS"
INSTRUMENT_ID = HRSC
INSTRUMENT_NAME = "HIGH RESOLUTION STEREO CAMERA"
MISSION_NAME = "MARS EXPRESS"
MISSION_PHASE_NAME = ME_Phase_29
PROCESSING_LEVEL_ID = 4
PRODUCT_CREATION_TIME = 2023-01-31T11:51:40.000Z
PRODUCT_ID = "HC636_0000_S24.TIF"
RELEASE_ID = 0003
REVISION_ID = 0000
/* QUALITY DATA ELEMENTS */
DATA_QUALITY_ID = 1
DATA_QUALITY_DESC = "Data calculated based on original SPICE kernels"
/* TIME DATA ELEMENTS */
SPACECRAFT_CLOCK_START_COUNT = "1/0334825525.07288"
SPACECRAFT_CLOCK_STOP_COUNT = "1/0334825705.16452"
START_TIME = 2013-12-11T07:05:29.689Z
STOP_TIME = 2013-12-11T07:07:24.585Z
/* ORBITAL DATA ELEMENTS */
ASCENDING_NODE_LONGITUDE = 336.53
MAXIMUM_RESOLUTION = 0.0282
FOOTPRINT_POINT_LATITUDE = (-39.1935,-39.2004,-39.2046,-39.2081, -39.2108,-39.2128,-39.2143,-39.2143, -39.1702,-38.8719,-38.4984,-38.3489, -38.1995,-38.0498,-37.751,-37.5261, -37.3761,-37.2262,-37.076,-36.9262, -36.7014,-36.5514,-36.4015,-36.2518, -36.102,-35.7287,-35.502,-35.3505, -35.2001,-34.9013,-34.6782,-34.5287, -34.3781,-34.0792,-33.9277,-33.7044, -33.5538,-33.4031,-33.2469,-33.0129, -32.8575,-32.7021,-32.5462,-32.3901, -32.1559,-32.0005,-31.8446,-31.6893, -31.611,-31.6048,-31.6017,-31.5978, -31.5903,-31.5846,-31.5799,-31.5719, -31.5716,-31.5718,-31.7278,-31.8834, -32.0397,-32.1959,-32.3532,-32.5103, -32.6663,-32.8225,-32.9744,-33.129, -33.2854,-33.5179,-33.6685,-33.8946, -34.0455,-34.1958,-34.3467,-34.497, -34.6468,-34.7972,-34.9473,-35.2466, -35.3968,-35.6964,-35.9196,-36.2197, -36.4452,-36.5949,-36.8953,-37.1204, -37.2706,-37.4206,-37.5709,-37.7973, -37.9482,-38.0982,-38.2506,-38.4049, -38.6955,-39.0676,-39.1423,-39.1935)
FOOTPRINT_POINT_LONGITUDE = (177.28,176.958,176.726,176.495,176.267 ,176.039,175.813,175.799,175.794, 175.802,175.813,175.817,175.821,175.825 ,175.832,175.838,175.841,175.844, 175.848,175.851,175.856,175.859,175.862 ,175.865,175.868,175.875,175.879, 175.882,175.884,175.889,175.893,175.895 ,175.897,175.901,175.903,175.906, 175.908,175.91,175.911,175.914,175.916, 175.917,175.919,175.92,175.922,175.923, 175.924,175.926,175.926,175.926,176.142 ,176.36,176.662,176.883,177.063,177.329 ,177.343,177.348,177.348,177.348, 177.347,177.346,177.345,177.344,177.343 ,177.342,177.344,177.345,177.344,177.34 ,177.34,177.339,177.338,177.338,177.337 ,177.336,177.336,177.336,177.335, 177.335,177.334,177.334,177.334,177.333 ,177.331,177.331,177.329,177.328, 177.326,177.326,177.324,177.322,177.32, 177.319,177.316,177.311,177.315,177.314 ,177.313,177.28)
ORBIT_NUMBER = 12636
ORBITAL_ECCENTRICITY = 0.578
ORBITAL_INCLINATION = 86.9
ORBITAL_SEMIMAJOR_AXIS = 8807.72
PERIAPSIS_ALTITUDE = 332.46
PERIAPSIS_ARGUMENT_ANGLE = 318.67
PERIAPSIS_TIME = 2013-12-11T07:05:28.000Z
SPACECRAFT_ORIENTATION = (0.0,1.0,0.0)
^MEX_ORIENTATION_DESC = "MEX_ORIENTATION_DESC.TXT"
SPACECRAFT_POINTING_MODE = ACROSSTRACK
^MEX_POINTING_DESC = "MEX_POINTING_DESC.TXT"
RIGHT_ASCENSION = -1e+32
DECLINATION = -1e+32
OFFSET_ANGLE = -0.5
SPACECRAFT_SOLAR_DISTANCE = 2.48855e+08
TARGET_NAME = MARS
/* CAMERA DATA ELEMENTS */
DETECTOR_TEMPERATURE = 17.1471
FOCAL_PLANE_TEMPERATURE = 8.5833
INST_CMPRS_NAME = "DISCRETE COSINE TRANSFORMATION (DCT)"
INST_CMPRS_RATIO = 5.02609
INST_CMPRS_QUALITY = 0
INST_CMPRS_QUANTZ_TBL_ID = 0
INSTRUMENT_TEMPERATURE = 11.8457
LENS_TEMPERATURE = 8.5833
MACROPIXEL_SIZE = 2
MISSING_FRAMES = 0
PIXEL_SUBSAMPLING_FLAG = N
SIGNAL_CHAIN_ID = 1
/* RADIOMETRIC DATA ELEMENTS */
BANDWIDTH = 178.0
CENTER_FILTER_WAVELENGTH = 679.0
RADIANCE_OFFSET = 0.119786
RADIANCE_SCALING_FACTOR = 0.0136227
REFLECTANCE_SCALING_FACTOR = 0.000446772
MEX:REFLECTANCE_OFFSET = 0.00392852
/* IMAGE OBJECT DEFINITIONS */
OBJECT = IMAGE
  INTERCHANGE_FORMAT = BINARY
  LINES = 17978
  LINE_SAMPLES = 2935
  SAMPLE_TYPE = UNSIGNED_INTEGER
  SAMPLE_BITS = 8
  BANDS = 1
  BAND_STORAGE_TYPE = BAND_SEQUENTIAL
  MAXIMUM = 255
  MEAN = 83.2482
  MINIMUM = 1
  STANDARD_DEVIATION = 24.7742
END_OBJECT = IMAGE
/* MAP OBJECT DEFINITIONS */
OBJECT = IMAGE_MAP_PROJECTION
  ^DATA_SET_MAP_PROJECTION_CATALOG= "DSMAP.CAT"
  A_AXIS_RADIUS = 3396.0
  B_AXIS_RADIUS = 3396.0
  C_AXIS_RADIUS = 3396.0
  CENTER_LATITUDE = 0.0
  CENTER_LONGITUDE = 177.0
  COORDINATE_SYSTEM_NAME = PLANETOGRAPHIC
  COORDINATE_SYSTEM_TYPE = "BODY-FIXED ROTATING"
  EASTERNMOST_LONGITUDE = 177.348
  FIRST_STANDARD_PARALLEL = "N/A"
  LINE_FIRST_PIXEL = 1
  LINE_LAST_PIXEL = 17978
  LINE_PROJECTION_OFFSET = -74870.25
  MAP_PROJECTION_ROTATION = 0.0
  MAP_PROJECTION_TYPE = SINUSOIDAL
  MAP_RESOLUTION = 2370.85521546667
  MAP_SCALE = 0.025
  MAXIMUM_LATITUDE = -31.5716
  MINIMUM_LATITUDE = -39.2143
  POSITIVE_LONGITUDE_DIRECTION = EAST
  REFERENCE_LATITUDE = "N/A"
  REFERENCE_LONGITUDE = "N/A"
  SAMPLE_FIRST_PIXEL = 1
  SAMPLE_LAST_PIXEL = 2935
  SAMPLE_PROJECTION_OFFSET = 2221.75
  SECOND_STANDARD_PARALLEL = "N/A"
  WESTERNMOST_LONGITUDE = 175.794
END_OBJECT = IMAGE_MAP_PROJECTION
END
