PDS_VERSION_ID = PDS3
/* FILE DATA ELEMENTS */
RECORD_TYPE = UNDEFINED
/* POINTERS TO DATA OBJECTS */
^IMAGE = ("HC635_0000_IR4.TIF")
/* IDENTIFICATION DATA ELEMENTS */
DATA_SET_ID = "MEX-M-HRSC-4-REFDR-MAPPROJECT-EXT4-V4.0"
DATA_SET_NAME = "MARS EXPRESS HRSC MAP PROJECTED REFDR EXTENSION4 V4.0"
DETECTOR_ID = MEX_HRSC_IR
EVENT_TYPE = "MARS-REGIONAL-MAPPING-Te-Fl-Gl"
INSTRUMENT_HOST_ID = MEX
INSTRUMENT_HOST_NAME = "MARS EXPRESS"
INSTRUMENT_ID = HRSC
INSTRUMENT_NAME = "HIGH RESOLUTION STEREO CAMERA"
MISSION_NAME = "MARS EXPRESS"
MISSION_PHASE_NAME = ME_Phase_29
PROCESSING_LEVEL_ID = 4
PRODUCT_CREATION_TIME = 2023-01-31T11:51:40.000Z
PRODUCT_ID = "HC635_0000_IR4.TIF"
RELEASE_ID = 0003
REVISION_ID = 0000
/* QUALITY DATA ELEMENTS */
DATA_QUALITY_ID = 1
DATA_QUALITY_DESC = "Data calculated based on original SPICE kernels"
/* TIME DATA ELEMENTS */
SPACECRAFT_CLOCK_START_COUNT = "1/0334800362.09326"
SPACECRAFT_CLOCK_STOP_COUNT = "1/0334800522.64540"
START_TIME = 2013-12-11T00:07:01.090Z
STOP_TIME = 2013-12-11T00:08:40.383Z
/* ORBITAL DATA ELEMENTS */
ASCENDING_NODE_LONGITUDE = 336.55
MAXIMUM_RESOLUTION = 0.1095
FOOTPRINT_POINT_LATITUDE = (-39.5803,-39.5767,-39.5725,-39.568, -39.5633,-39.5584,-39.5497,-39.5494, -39.5562,-39.3662,-39.2401,-39.1139, -38.9245,-38.7986,-38.6724,-38.5464, -38.4202,-38.2943,-38.1685,-37.9799, -37.8539,-37.7277,-37.5388,-37.4128, -37.1617,-36.9738,-36.7224,-36.5343, -36.3471,-36.1598,-35.907,-35.7134, -35.5842,-35.3908,-35.2618,-35.1326, -35.0036,-34.8745,-34.6813,-34.5524, -34.4238,-34.2951,-34.1665,-33.9736, -33.7809,-33.6529,-33.5253,-33.3972, -33.2696,-33.2057,-33.1687,-33.1727, -33.1787,-33.1842,-33.1874,-33.1945, -33.1952,-33.197,-33.382,-33.5111, -33.6399,-33.8327,-33.9612,-34.1541, -34.2826,-34.4111,-34.5398,-34.6684, -34.7971,-34.99,-35.1192,-35.3131, -35.5069,-35.6365,-35.7663,-35.8957, -36.1497,-36.4007,-36.7145,-36.9024, -37.1538,-37.2798,-37.406,-37.5324, -37.6584,-37.7844,-37.9106,-38.0998, -38.2262,-38.3527,-38.4798,-38.6063, -38.7335,-38.9238,-39.0516,-39.1787, -39.3067,-39.4982,-39.5621,-39.5803)
FOOTPRINT_POINT_LONGITUDE = (278.981,278.773,278.552,278.332, 278.112,277.892,277.536,277.523,277.513 ,277.519,277.523,277.528,277.534, 277.538,277.542,277.545,277.549,277.553 ,277.557,277.562,277.566,277.569, 277.575,277.578,277.585,277.589,277.596 ,277.6,277.604,277.608,277.614,277.618, 277.621,277.625,277.627,277.63,277.632, 277.635,277.638,277.641,277.643,277.645 ,277.647,277.65,277.653,277.655,277.657 ,277.659,277.66,277.661,277.662,277.886 ,278.221,278.65,278.879,279.07,279.084, 279.093,279.086,279.085,279.084,279.081 ,279.079,279.077,279.075,279.073, 279.071,279.069,279.067,279.064,279.062 ,279.059,279.056,279.054,279.052,279.05 ,279.046,279.042,279.037,279.034,279.03 ,279.028,279.026,279.024,279.022, 279.019,279.017,279.014,279.012,279.01, 279.008,279.006,279.004,279.001,278.999 ,278.997,278.996,278.993,278.992, 278.981)
ORBIT_NUMBER = 12635
ORBITAL_ECCENTRICITY = 0.578
ORBITAL_INCLINATION = 86.89
ORBITAL_SEMIMAJOR_AXIS = 8813.14
PERIAPSIS_ALTITUDE = 332.01
PERIAPSIS_ARGUMENT_ANGLE = 318.84
PERIAPSIS_TIME = 2013-12-11T00:06:14.000Z
SPACECRAFT_ORIENTATION = (0.0,1.0,0.0)
^MEX_ORIENTATION_DESC = "MEX_ORIENTATION_DESC.TXT"
SPACECRAFT_POINTING_MODE = ACROSSTRACK
^MEX_POINTING_DESC = "MEX_POINTING_DESC.TXT"
RIGHT_ASCENSION = -1e+32
DECLINATION = -1e+32
OFFSET_ANGLE = -0.15
SPACECRAFT_SOLAR_DISTANCE = 2.48846e+08
TARGET_NAME = MARS
/* CAMERA DATA ELEMENTS */
DETECTOR_TEMPERATURE = 17.1471
FOCAL_PLANE_TEMPERATURE = 8.1755
INST_CMPRS_NAME = "DISCRETE COSINE TRANSFORMATION (DCT)"
INST_CMPRS_RATIO = 8.39208
INST_CMPRS_QUALITY = 0
INST_CMPRS_QUANTZ_TBL_ID = 0
INSTRUMENT_TEMPERATURE = 11.234
LENS_TEMPERATURE = 8.7872
MACROPIXEL_SIZE = 8
MISSING_FRAMES = 0
PIXEL_SUBSAMPLING_FLAG = N
SIGNAL_CHAIN_ID = 2
/* RADIOMETRIC DATA ELEMENTS */
BANDWIDTH = 81.0
CENTER_FILTER_WAVELENGTH = 955.5
RADIANCE_OFFSET = 0.0249417
RADIANCE_SCALING_FACTOR = 0.00290987
REFLECTANCE_SCALING_FACTOR = 0.000388741
MEX:REFLECTANCE_OFFSET = 0.00333207
/* IMAGE OBJECT DEFINITIONS */
OBJECT = IMAGE
  INTERCHANGE_FORMAT = BINARY
  LINES = 3808
  LINE_SAMPLES = 762
  SAMPLE_TYPE = UNSIGNED_INTEGER
  SAMPLE_BITS = 8
  BANDS = 1
  BAND_STORAGE_TYPE = BAND_SEQUENTIAL
  MAXIMUM = 255
  MEAN = 75.2322
  MINIMUM = 1
  STANDARD_DEVIATION = 16.4036
END_OBJECT = IMAGE
/* MAP OBJECT DEFINITIONS */
OBJECT = IMAGE_MAP_PROJECTION
  ^DATA_SET_MAP_PROJECTION_CATALOG= "DSMAP.CAT"
  A_AXIS_RADIUS = 3396.0
  B_AXIS_RADIUS = 3396.0
  C_AXIS_RADIUS = 3396.0
  CENTER_LATITUDE = 0.0
  CENTER_LONGITUDE = 278.0
  COORDINATE_SYSTEM_NAME = PLANETOGRAPHIC
  COORDINATE_SYSTEM_TYPE = "BODY-FIXED ROTATING"
  EASTERNMOST_LONGITUDE = 279.093
  FIRST_STANDARD_PARALLEL = "N/A"
  LINE_FIRST_PIXEL = 1
  LINE_LAST_PIXEL = 3808
  LINE_PROJECTION_OFFSET = -19679.3125
  MAP_PROJECTION_ROTATION = 0.0
  MAP_PROJECTION_TYPE = SINUSOIDAL
  MAP_RESOLUTION = 592.713803866667
  MAP_SCALE = 0.1
  MAXIMUM_LATITUDE = -33.1687
  MINIMUM_LATITUDE = -39.5803
  POSITIVE_LONGITUDE_DIRECTION = EAST
  REFERENCE_LATITUDE = "N/A"
  REFERENCE_LONGITUDE = "N/A"
  SAMPLE_FIRST_PIXEL = 1
  SAMPLE_LAST_PIXEL = 762
  SAMPLE_PROJECTION_OFFSET = 228.6875
  SECOND_STANDARD_PARALLEL = "N/A"
  WESTERNMOST_LONGITUDE = 277.513
END_OBJECT = IMAGE_MAP_PROJECTION
END
