PDS_VERSION_ID = PDS3
/* FILE DATA ELEMENTS */
RECORD_TYPE = UNDEFINED
/* POINTERS TO DATA OBJECTS */
^IMAGE = ("HC634_0000_S14.TIF")
/* IDENTIFICATION DATA ELEMENTS */
DATA_SET_ID = "MEX-M-HRSC-4-REFDR-MAPPROJECT-EXT4-V4.0"
DATA_SET_NAME = "MARS EXPRESS HRSC MAP PROJECTED REFDR EXTENSION4 V4.0"
DETECTOR_ID = MEX_HRSC_S1
EVENT_TYPE = "MARS-REGIONAL-MAPPING-Im-Fl"
INSTRUMENT_HOST_ID = MEX
INSTRUMENT_HOST_NAME = "MARS EXPRESS"
INSTRUMENT_ID = HRSC
INSTRUMENT_NAME = "HIGH RESOLUTION STEREO CAMERA"
MISSION_NAME = "MARS EXPRESS"
MISSION_PHASE_NAME = ME_Phase_29
PROCESSING_LEVEL_ID = 4
PRODUCT_CREATION_TIME = 2023-01-31T11:51:40.000Z
PRODUCT_ID = "HC634_0000_S14.TIF"
RELEASE_ID = 0003
REVISION_ID = 0000
/* QUALITY DATA ELEMENTS */
DATA_QUALITY_ID = 1
DATA_QUALITY_DESC = "Data calculated based on original SPICE kernels"
/* TIME DATA ELEMENTS */
SPACECRAFT_CLOCK_START_COUNT = "1/0334775468.08292"
SPACECRAFT_CLOCK_STOP_COUNT = "1/0334775693.49155"
START_TIME = 2013-12-10T17:12:28.880Z
STOP_TIME = 2013-12-10T17:14:56.387Z
/* ORBITAL DATA ELEMENTS */
ASCENDING_NODE_LONGITUDE = 336.57
MAXIMUM_RESOLUTION = 0.0361
FOOTPRINT_POINT_LATITUDE = (-21.7396,-21.7504,-21.761,-21.7718, -21.7826,-21.7935,-21.8085,-21.8092, -21.8146,-21.4277,-21.035,-20.722, -20.4065,-20.0067,-19.6891,-19.3656, -19.2031,-19.0419,-18.7232,-18.5614, -18.3964,-18.1503,-17.9861,-17.7389, -17.5719,-17.4056,-17.2388,-17.0726, -16.9036,-16.7337,-16.5641,-16.395, -16.2262,-16.0539,-15.8818,-15.7101, -15.5387,-15.3651,-15.1883,-14.9242, -14.7483,-14.5717,-14.3951,-14.2189, -14.0431,-13.8646,-13.5968,-13.5073, -13.4561,-13.4418,-13.4304,-13.4223, -13.4102,-13.4019,-13.396,-13.3829, -13.3648,-13.364,-13.3643,-13.543, -13.8127,-13.9924,-14.1681,-14.3436, -14.5205,-14.6979,-14.8729,-15.0468, -15.2255,-15.4898,-15.6613,-15.8336, -16.0063,-16.1786,-16.4331,-16.6031, -16.7721,-16.9421,-17.1082,-17.2751, -17.4419,-17.6089,-17.8579,-18.0219, -18.1863,-18.3512,-18.5146,-18.7562, -19.0042,-19.1693,-19.409,-19.571, -19.9699,-20.2891,-20.6064,-20.9202, -21.3136,-21.6249,-21.7017,-21.7396)
FOOTPRINT_POINT_LONGITUDE = (20.3008,20.0552,19.8072,19.5566, 19.3038,19.0484,18.6924,18.676,18.6667, 18.6646,18.6618,18.6592,18.6567,18.6533 ,18.6494,18.6464,18.6447,18.6421, 18.6346,18.6309,18.6287,18.6246,18.622, 18.6175,18.6144,18.6111,18.6081,18.6049 ,18.6018,18.5988,18.5956,18.5922, 18.5887,18.5851,18.5814,18.5777,18.5739 ,18.5701,18.5675,18.5632,18.5602, 18.5555,18.5509,18.5463,18.5413,18.5359 ,18.5282,18.5259,18.5245,18.8092, 19.0542,19.2229,19.4651,19.6319,19.9253 ,20.2,20.4182,20.4363,20.4428,20.4399, 20.4355,20.4325,20.4296,20.4267,20.4238 ,20.4209,20.4181,20.4152,20.4123,20.408 ,20.4052,20.4023,20.3995,20.3966, 20.3924,20.3896,20.3868,20.3839,20.3811 ,20.3783,20.3756,20.3728,20.3686, 20.3658,20.363,20.3602,20.3575,20.3534, 20.349,20.3461,20.3421,20.3392,20.3322, 20.3266,20.321,20.3154,20.3083,20.3026, 20.3012,20.3008)
ORBIT_NUMBER = 12634
ORBITAL_ECCENTRICITY = 0.578
ORBITAL_INCLINATION = 86.89
ORBITAL_SEMIMAJOR_AXIS = 8812.33
PERIAPSIS_ALTITUDE = 332.43
PERIAPSIS_ARGUMENT_ANGLE = 319.0
PERIAPSIS_TIME = 2013-12-10T17:06:53.000Z
SPACECRAFT_ORIENTATION = (0.0,1.0,0.0)
^MEX_ORIENTATION_DESC = "MEX_ORIENTATION_DESC.TXT"
SPACECRAFT_POINTING_MODE = ACROSSTRACK
^MEX_POINTING_DESC = "MEX_POINTING_DESC.TXT"
RIGHT_ASCENSION = -1e+32
DECLINATION = -1e+32
OFFSET_ANGLE = 0.9
SPACECRAFT_SOLAR_DISTANCE = 2.48836e+08
TARGET_NAME = MARS
/* CAMERA DATA ELEMENTS */
DETECTOR_TEMPERATURE = 17.7588
FOCAL_PLANE_TEMPERATURE = 7.9716
INST_CMPRS_NAME = "DISCRETE COSINE TRANSFORMATION (DCT)"
INST_CMPRS_RATIO = 7.3695
INST_CMPRS_QUALITY = 0
INST_CMPRS_QUANTZ_TBL_ID = 0
INSTRUMENT_TEMPERATURE = 11.6418
LENS_TEMPERATURE = 8.5833
MACROPIXEL_SIZE = 2
MISSING_FRAMES = 0
PIXEL_SUBSAMPLING_FLAG = N
SIGNAL_CHAIN_ID = 1
/* RADIOMETRIC DATA ELEMENTS */
BANDWIDTH = 180.0
CENTER_FILTER_WAVELENGTH = 677.0
RADIANCE_OFFSET = 1.36129
RADIANCE_SCALING_FACTOR = 0.0174474
REFLECTANCE_SCALING_FACTOR = 0.000563636
MEX:REFLECTANCE_OFFSET = 0.0439762
/* IMAGE OBJECT DEFINITIONS */
OBJECT = IMAGE
  INTERCHANGE_FORMAT = BINARY
  LINES = 19897
  LINE_SAMPLES = 4075
  SAMPLE_TYPE = UNSIGNED_INTEGER
  SAMPLE_BITS = 8
  BANDS = 1
  BAND_STORAGE_TYPE = BAND_SEQUENTIAL
  MAXIMUM = 255
  MEAN = 127.461
  MINIMUM = 1
  STANDARD_DEVIATION = 18.8996
END_OBJECT = IMAGE
/* MAP OBJECT DEFINITIONS */
OBJECT = IMAGE_MAP_PROJECTION
  ^DATA_SET_MAP_PROJECTION_CATALOG= "DSMAP.CAT"
  A_AXIS_RADIUS = 3396.0
  B_AXIS_RADIUS = 3396.0
  C_AXIS_RADIUS = 3396.0
  CENTER_LATITUDE = 0.0
  CENTER_LONGITUDE = 20.0
  COORDINATE_SYSTEM_NAME = PLANETOGRAPHIC
  COORDINATE_SYSTEM_TYPE = "BODY-FIXED ROTATING"
  EASTERNMOST_LONGITUDE = 20.4428
  FIRST_STANDARD_PARALLEL = "N/A"
  LINE_FIRST_PIXEL = 1
  LINE_LAST_PIXEL = 19897
  LINE_PROJECTION_OFFSET = -31804.25
  MAP_PROJECTION_ROTATION = 0.0
  MAP_PROJECTION_TYPE = SINUSOIDAL
  MAP_RESOLUTION = 2370.85521546667
  MAP_SCALE = 0.025
  MAXIMUM_LATITUDE = -13.364
  MINIMUM_LATITUDE = -21.8146
  POSITIVE_LONGITUDE_DIRECTION = EAST
  REFERENCE_LATITUDE = "N/A"
  REFERENCE_LONGITUDE = "N/A"
  SAMPLE_FIRST_PIXEL = 1
  SAMPLE_LAST_PIXEL = 4075
  SAMPLE_PROJECTION_OFFSET = 3219.25
  SECOND_STANDARD_PARALLEL = "N/A"
  WESTERNMOST_LONGITUDE = 18.5245
END_OBJECT = IMAGE_MAP_PROJECTION
END
