PDS_VERSION_ID = PDS3
/* FILE DATA ELEMENTS */
RECORD_TYPE = UNDEFINED
/* POINTERS TO DATA OBJECTS */
^IMAGE = ("HC634_0000_P24.TIF")
/* IDENTIFICATION DATA ELEMENTS */
DATA_SET_ID = "MEX-M-HRSC-4-REFDR-MAPPROJECT-EXT4-V4.0"
DATA_SET_NAME = "MARS EXPRESS HRSC MAP PROJECTED REFDR EXTENSION4 V4.0"
DETECTOR_ID = MEX_HRSC_P2
EVENT_TYPE = "MARS-REGIONAL-MAPPING-Im-Fl"
INSTRUMENT_HOST_ID = MEX
INSTRUMENT_HOST_NAME = "MARS EXPRESS"
INSTRUMENT_ID = HRSC
INSTRUMENT_NAME = "HIGH RESOLUTION STEREO CAMERA"
MISSION_NAME = "MARS EXPRESS"
MISSION_PHASE_NAME = ME_Phase_29
PROCESSING_LEVEL_ID = 4
PRODUCT_CREATION_TIME = 2023-01-31T11:51:40.000Z
PRODUCT_ID = "HC634_0000_P24.TIF"
RELEASE_ID = 0003
REVISION_ID = 0000
/* QUALITY DATA ELEMENTS */
DATA_QUALITY_ID = 1
DATA_QUALITY_DESC = "Data calculated based on original SPICE kernels"
/* TIME DATA ELEMENTS */
SPACECRAFT_CLOCK_START_COUNT = "1/0334775468.08292"
SPACECRAFT_CLOCK_STOP_COUNT = "1/0334775693.49155"
START_TIME = 2013-12-10T17:11:24.673Z
STOP_TIME = 2013-12-10T17:13:35.320Z
/* ORBITAL DATA ELEMENTS */
ASCENDING_NODE_LONGITUDE = 336.57
MAXIMUM_RESOLUTION = 0.0644
FOOTPRINT_POINT_LATITUDE = (-21.8405,-21.8333,-21.8256,-21.8173, -21.8084,-21.7988,-21.7821,-21.7814, -21.7765,-21.4607,-21.0664,-20.7511, -20.3574,-19.9644,-19.7287,-19.4876, -19.3268,-19.1653,-19.0036,-18.8426, -18.6777,-18.5163,-18.3526,-18.1873, -18.0222,-17.7746,-17.5267,-17.3615, -17.1097,-16.8568,-16.6882,-16.5197, -16.3513,-16.1825,-16.0101,-15.7517, -15.5795,-15.4076,-15.2356,-15.0644, -14.8889,-14.7146,-14.5385,-14.2747, -14.0069,-13.827,-13.5577,-13.4682, -13.3819,-13.3883,-13.3934,-13.4016, -13.4067,-13.4108,-13.4155,-13.4209, -13.4223,-13.4246,-13.6047,-13.787, -14.0571,-14.2372,-14.4139,-14.6772, -14.8531,-15.0297,-15.2046,-15.374, -15.5464,-15.7189,-15.8914,-16.0639, -16.3212,-16.4898,-16.6586,-16.9127, -17.082,-17.2515,-17.4197,-17.585, -17.7501,-17.9156,-18.1637,-18.3287, -18.495,-18.6588,-18.8212,-18.9815, -19.2229,-19.385,-19.6261,-19.9445, -20.339,-20.6541,-20.9699,-21.2067, -21.5228,-21.6812,-21.7604,-21.8405)
FOOTPRINT_POINT_LONGITUDE = (20.2374,20.02,19.8008,19.5794,19.3558, 19.1301,18.7577,18.7433,18.7357,18.7351 ,18.7343,18.7331,18.7316,18.73,18.7287, 18.7278,18.7272,18.7257,18.724,18.7228, 18.7173,18.7154,18.7142,18.7123,18.7106 ,18.7076,18.7041,18.7017,18.6986, 18.6954,18.6932,18.6909,18.6885,18.686, 18.6835,18.6796,18.6768,18.6742,18.6713 ,18.6715,18.6689,18.6672,18.6638, 18.6585,18.6524,18.6484,18.6426,18.6409 ,18.6389,18.8328,19.01,19.2976,19.4722, 19.7545,20.066,20.314,20.3295,20.3347, 20.333,20.3314,20.3287,20.327,20.3253, 20.3226,20.3208,20.319,20.3171,20.315, 20.3132,20.3114,20.3095,20.3077,20.3049 ,20.303,20.3011,20.2984,20.2965,20.2947 ,20.2928,20.291,20.289,20.2872,20.2843, 20.2823,20.2804,20.2786,20.2768,20.2747 ,20.2716,20.2697,20.2664,20.2623, 20.2572,20.253,20.2487,20.2455,20.2411, 20.2389,20.2378,20.2374)
ORBIT_NUMBER = 12634
ORBITAL_ECCENTRICITY = 0.578
ORBITAL_INCLINATION = 86.89
ORBITAL_SEMIMAJOR_AXIS = 8812.33
PERIAPSIS_ALTITUDE = 332.43
PERIAPSIS_ARGUMENT_ANGLE = 319.0
PERIAPSIS_TIME = 2013-12-10T17:06:53.000Z
SPACECRAFT_ORIENTATION = (0.0,1.0,0.0)
^MEX_ORIENTATION_DESC = "MEX_ORIENTATION_DESC.TXT"
SPACECRAFT_POINTING_MODE = ACROSSTRACK
^MEX_POINTING_DESC = "MEX_POINTING_DESC.TXT"
RIGHT_ASCENSION = -1e+32
DECLINATION = -1e+32
OFFSET_ANGLE = 0.9
SPACECRAFT_SOLAR_DISTANCE = 2.48836e+08
TARGET_NAME = MARS
/* CAMERA DATA ELEMENTS */
DETECTOR_TEMPERATURE = 18.9822
FOCAL_PLANE_TEMPERATURE = 7.9716
INST_CMPRS_NAME = "DISCRETE COSINE TRANSFORMATION (DCT)"
INST_CMPRS_RATIO = 6.21387
INST_CMPRS_QUALITY = 0
INST_CMPRS_QUANTZ_TBL_ID = 0
INSTRUMENT_TEMPERATURE = 11.6418
LENS_TEMPERATURE = 8.5833
MACROPIXEL_SIZE = 4
MISSING_FRAMES = 0
PIXEL_SUBSAMPLING_FLAG = N
SIGNAL_CHAIN_ID = 3
/* RADIOMETRIC DATA ELEMENTS */
BANDWIDTH = 177.0
CENTER_FILTER_WAVELENGTH = 676.5
RADIANCE_OFFSET = 1.28145
RADIANCE_SCALING_FACTOR = 0.0163322
REFLECTANCE_SCALING_FACTOR = 0.000536199
MEX:REFLECTANCE_OFFSET = 0.042071
/* IMAGE OBJECT DEFINITIONS */
OBJECT = IMAGE
  INTERCHANGE_FORMAT = BINARY
  LINES = 9949
  LINE_SAMPLES = 2038
  SAMPLE_TYPE = UNSIGNED_INTEGER
  SAMPLE_BITS = 8
  BANDS = 1
  BAND_STORAGE_TYPE = BAND_SEQUENTIAL
  MAXIMUM = 255
  MEAN = 118.712
  MINIMUM = 1
  STANDARD_DEVIATION = 18.7094
END_OBJECT = IMAGE
/* MAP OBJECT DEFINITIONS */
OBJECT = IMAGE_MAP_PROJECTION
  ^DATA_SET_MAP_PROJECTION_CATALOG= "DSMAP.CAT"
  A_AXIS_RADIUS = 3396.0
  B_AXIS_RADIUS = 3396.0
  C_AXIS_RADIUS = 3396.0
  CENTER_LATITUDE = 0.0
  CENTER_LONGITUDE = 20.0
  COORDINATE_SYSTEM_NAME = PLANETOGRAPHIC
  COORDINATE_SYSTEM_TYPE = "BODY-FIXED ROTATING"
  EASTERNMOST_LONGITUDE = 20.3347
  FIRST_STANDARD_PARALLEL = "N/A"
  LINE_FIRST_PIXEL = 1
  LINE_LAST_PIXEL = 9949
  LINE_PROJECTION_OFFSET = -15902.375
  MAP_PROJECTION_ROTATION = 0.0
  MAP_PROJECTION_TYPE = SINUSOIDAL
  MAP_RESOLUTION = 1185.42760773333
  MAP_SCALE = 0.05
  MAXIMUM_LATITUDE = -13.3819
  MINIMUM_LATITUDE = -21.8405
  POSITIVE_LONGITUDE_DIRECTION = EAST
  REFERENCE_LATITUDE = "N/A"
  REFERENCE_LONGITUDE = "N/A"
  SAMPLE_FIRST_PIXEL = 1
  SAMPLE_LAST_PIXEL = 2038
  SAMPLE_PROJECTION_OFFSET = 1609.375
  SECOND_STANDARD_PARALLEL = "N/A"
  WESTERNMOST_LONGITUDE = 18.6389
END_OBJECT = IMAGE_MAP_PROJECTION
END
