PDS_VERSION_ID = PDS3
/* FILE DATA ELEMENTS */
RECORD_TYPE = UNDEFINED
/* POINTERS TO DATA OBJECTS */
^IMAGE = ("HC633_0000_RE4.TIF")
/* IDENTIFICATION DATA ELEMENTS */
DATA_SET_ID = "MEX-M-HRSC-4-REFDR-MAPPROJECT-EXT4-V4.0"
DATA_SET_NAME = "MARS EXPRESS HRSC MAP PROJECTED REFDR EXTENSION4 V4.0"
DETECTOR_ID = MEX_HRSC_RED
EVENT_TYPE = "MARS-REGIONAL-MAPPING-Vo-Fl-Pf"
INSTRUMENT_HOST_ID = MEX
INSTRUMENT_HOST_NAME = "MARS EXPRESS"
INSTRUMENT_ID = HRSC
INSTRUMENT_NAME = "HIGH RESOLUTION STEREO CAMERA"
MISSION_NAME = "MARS EXPRESS"
MISSION_PHASE_NAME = ME_Phase_29
PROCESSING_LEVEL_ID = 4
PRODUCT_CREATION_TIME = 2023-01-31T11:51:40.000Z
PRODUCT_ID = "HC633_0000_RE4.TIF"
RELEASE_ID = 0003
REVISION_ID = 0000
/* QUALITY DATA ELEMENTS */
DATA_QUALITY_ID = 1
DATA_QUALITY_DESC = "Data calculated based on original SPICE kernels"
/* TIME DATA ELEMENTS */
SPACECRAFT_CLOCK_START_COUNT = "1/0334750092.08235"
SPACECRAFT_CLOCK_STOP_COUNT = "1/0334750267.00607"
START_TIME = 2013-12-10T10:08:21.946Z
STOP_TIME = 2013-12-10T10:10:10.490Z
/* ORBITAL DATA ELEMENTS */
ASCENDING_NODE_LONGITUDE = 336.59
MAXIMUM_RESOLUTION = 0.1109 <m/pixel>
FOOTPRINT_POINT_LATITUDE = (-36.2854,-36.282,-36.2791,-36.2748, -36.2681,-36.2636,-36.2633,-36.2313, -35.9555,-35.6806,-35.4732,-35.335, -35.1278,-34.9897,-34.8516,-34.5754, -34.3693,-34.1636,-34.0251,-33.8172, -33.6104,-33.4709,-33.3329,-33.1944, -32.9859,-32.8457,-32.6408,-32.5023, -32.3602,-32.2173,-32.0741,-31.9307, -31.7878,-31.5736,-31.4305,-31.2878, -31.1445,-31.0013,-30.8583,-30.7152, -30.5005,-30.3525,-30.2132,-29.9988, -29.8554,-29.7122,-29.5689,-29.4262, -29.2111,-29.14,-29.0823,-29.0881, -29.0904,-29.0928,-29.094,-29.0943, -29.0943,-29.096,-29.2393,-29.3829, -29.5264,-29.6695,-29.8127,-29.9562, -30.0998,-30.243,-30.3866,-30.6016, -30.745,-30.96,-31.104,-31.3199, -31.4648,-31.6799,-31.893,-32.0375, -32.2531,-32.3944,-32.5358,-32.6744, -32.8133,-33.0208,-33.1596,-33.3668, -33.506,-33.6466,-33.7854,-33.9239, -34.0627,-34.2022,-34.3407,-34.6127, -34.819,-34.9593,-35.2343,-35.4423, -35.7197,-36.1313,-36.2002,-36.2854)
FOOTPRINT_POINT_LONGITUDE = (123.238,122.883,122.659,122.395, 122.053,121.856,121.842,121.824,121.832 ,121.84,121.845,121.849,121.854,121.857 ,121.861,121.867,121.872,121.878, 121.881,121.885,121.889,121.892,121.895 ,121.897,121.901,121.903,121.907,121.91 ,121.912,121.914,121.917,121.919, 121.921,121.924,121.926,121.929,121.93, 121.932,121.934,121.936,121.938,121.938 ,121.941,121.944,121.945,121.946, 121.948,121.949,121.951,121.951,121.952 ,122.353,122.56,122.833,123.027,123.313 ,123.326,123.335,123.333,123.332,123.33 ,123.329,123.328,123.326,123.325, 123.324,123.322,123.32,123.318,123.316, 123.314,123.312,123.309,123.307,123.306 ,123.303,123.301,123.3,123.298,123.297, 123.295,123.293,123.291,123.289,123.287 ,123.284,123.282,123.281,123.279, 123.277,123.275,123.273,123.271,123.268 ,123.265,123.262,123.258,123.253, 123.253,123.238)
ORBIT_NUMBER = 12633
ORBITAL_ECCENTRICITY = 0.578
ORBITAL_INCLINATION = 86.89
ORBITAL_SEMIMAJOR_AXIS = 8813.99
PERIAPSIS_ALTITUDE = 332.08
PERIAPSIS_ARGUMENT_ANGLE = 319.17
PERIAPSIS_TIME = 2013-12-10T10:07:38.000Z
SPACECRAFT_ORIENTATION = (0.0,1.0,0.0)
^MEX_ORIENTATION_DESC = "MEX_ORIENTATION_DESC.TXT"
SPACECRAFT_POINTING_MODE = NADIR
^MEX_POINTING_DESC = "MEX_POINTING_DESC.TXT"
RIGHT_ASCENSION = -1e+32
DECLINATION = -1e+32
OFFSET_ANGLE = -1e+32
SPACECRAFT_SOLAR_DISTANCE = 2.48825e+08
TARGET_NAME = MARS
/* CAMERA DATA ELEMENTS */
DETECTOR_TEMPERATURE = 18.9822 <degC>
FOCAL_PLANE_TEMPERATURE = 8.1755 <degC>
INST_CMPRS_NAME = "DISCRETE COSINE TRANSFORMATION (DCT)"
INST_CMPRS_RATIO = 4.39589
INST_CMPRS_QUALITY = 0
INST_CMPRS_QUANTZ_TBL_ID = 0
INSTRUMENT_TEMPERATURE = 11.4379 <degC>
LENS_TEMPERATURE = 8.7872 <degC>
MACROPIXEL_SIZE = 8
MISSING_FRAMES = 0
PIXEL_SUBSAMPLING_FLAG = N
SIGNAL_CHAIN_ID = 2
/* RADIOMETRIC DATA ELEMENTS */
BANDWIDTH = 48.0 <nm>
CENTER_FILTER_WAVELENGTH = 748.0 <nm>
RADIANCE_OFFSET = 0.0814361 <W*m**-2*sr**-1>
RADIANCE_SCALING_FACTOR = 0.00383229 <W*m**-2*sr**-1>
REFLECTANCE_SCALING_FACTOR = 0.00054147
MEX:REFLECTANCE_OFFSET = 0.0115062
/* IMAGE OBJECT DEFINITIONS */
OBJECT = IMAGE
  INTERCHANGE_FORMAT = BINARY
  LINES = 4249
  LINE_SAMPLES = 750
  SAMPLE_TYPE = UNSIGNED_INTEGER
  SAMPLE_BITS = 8
  BANDS = 1
  BAND_STORAGE_TYPE = BAND_SEQUENTIAL
  MAXIMUM = 254
  MEAN = 84.1884
  MINIMUM = 1
  STANDARD_DEVIATION = 20.8572
END_OBJECT = IMAGE
/* MAP OBJECT DEFINITIONS */
OBJECT = IMAGE_MAP_PROJECTION
  ^DATA_SET_MAP_PROJECTION_CATALOG= "DSMAP.CAT"
  A_AXIS_RADIUS = 3396.0 <km>
  B_AXIS_RADIUS = 3396.0 <km>
  C_AXIS_RADIUS = 3396.0 <km>
  CENTER_LATITUDE = 0.0
  CENTER_LONGITUDE = 123.0
  COORDINATE_SYSTEM_NAME = PLANETOGRAPHIC
  COORDINATE_SYSTEM_TYPE = "BODY-FIXED ROTATING"
  EASTERNMOST_LONGITUDE = 123.335
  FIRST_STANDARD_PARALLEL = "N/A"
  LINE_FIRST_PIXEL = 1
  LINE_LAST_PIXEL = 4249
  LINE_PROJECTION_OFFSET = -17239.1875
  MAP_PROJECTION_ROTATION = 0.0
  MAP_PROJECTION_TYPE = SINUSOIDAL
  MAP_RESOLUTION = 592.713803866667 <pixel/degree>
  MAP_SCALE = 0.1 <km/pixel>
  MAXIMUM_LATITUDE = -29.0823
  MINIMUM_LATITUDE = -36.2854
  POSITIVE_LONGITUDE_DIRECTION = EAST
  REFERENCE_LATITUDE = "N/A"
  REFERENCE_LONGITUDE = "N/A"
  SAMPLE_FIRST_PIXEL = 1
  SAMPLE_LAST_PIXEL = 750
  SAMPLE_PROJECTION_OFFSET = 569.4375
  SECOND_STANDARD_PARALLEL = "N/A"
  WESTERNMOST_LONGITUDE = 121.824
END_OBJECT = IMAGE_MAP_PROJECTION
END
