PDS_VERSION_ID = PDS3
/* FILE DATA ELEMENTS */
RECORD_TYPE = UNDEFINED
/* POINTERS TO DATA OBJECTS */
^IMAGE = ("HC633_0000_IR4.TIF")
/* IDENTIFICATION DATA ELEMENTS */
DATA_SET_ID = "MEX-M-HRSC-4-REFDR-MAPPROJECT-EXT4-V4.0"
DATA_SET_NAME = "MARS EXPRESS HRSC MAP PROJECTED REFDR EXTENSION4 V4.0"
DETECTOR_ID = MEX_HRSC_IR
EVENT_TYPE = "MARS-REGIONAL-MAPPING-Vo-Fl-Pf"
INSTRUMENT_HOST_ID = MEX
INSTRUMENT_HOST_NAME = "MARS EXPRESS"
INSTRUMENT_ID = HRSC
INSTRUMENT_NAME = "HIGH RESOLUTION STEREO CAMERA"
MISSION_NAME = "MARS EXPRESS"
MISSION_PHASE_NAME = ME_Phase_29
PROCESSING_LEVEL_ID = 4
PRODUCT_CREATION_TIME = 2023-01-31T11:51:40.000Z
PRODUCT_ID = "HC633_0000_IR4.TIF"
RELEASE_ID = 0003
REVISION_ID = 0000
/* QUALITY DATA ELEMENTS */
DATA_QUALITY_ID = 1
DATA_QUALITY_DESC = "Data calculated based on original SPICE kernels"
/* TIME DATA ELEMENTS */
SPACECRAFT_CLOCK_START_COUNT = "1/0334750092.08235"
SPACECRAFT_CLOCK_STOP_COUNT = "1/0334750267.00607"
START_TIME = 2013-12-10T10:09:11.715Z
STOP_TIME = 2013-12-10T10:11:03.823Z
/* ORBITAL DATA ELEMENTS */
ASCENDING_NODE_LONGITUDE = 336.59
MAXIMUM_RESOLUTION = 0.1127
FOOTPRINT_POINT_LATITUDE = (-36.2025,-36.1993,-36.195,-36.1916, -36.1885,-36.1848,-36.1845,-36.2112, -35.934,-35.6532,-35.5107,-35.2966, -35.1538,-34.9398,-34.7972,-34.6544, -34.4402,-34.2969,-34.0832,-33.8704, -33.7278,-33.5859,-33.4442,-33.2316, -33.0898,-32.8797,-32.7371,-32.5239, -32.312,-32.1004,-31.9596,-31.8186, -31.6774,-31.4662,-31.3251,-31.1847, -31.0444,-30.9039,-30.7636,-30.6236, -30.4179,-30.2768,-30.0642,-29.9249, -29.7852,-29.6459,-29.4365,-29.1579, -29.0884,-29.0819,-29.0836,-29.0855, -29.0868,-29.0875,-29.0885,-29.0885, -29.0902,-29.2992,-29.4385,-29.5779, -29.7177,-29.8577,-29.9974,-30.2073, -30.4175,-30.6278,-30.768,-30.9086, -31.1187,-31.2587,-31.5381,-31.679, -31.8219,-32.1733,-32.3879,-32.6004, -32.7421,-32.8835,-33.0253,-33.238, -33.3803,-33.5225,-33.6626,-33.8046, -33.947,-34.089,-34.2307,-34.373, -34.5904,-34.736,-34.8793,-35.0192, -35.2345,-35.3787,-35.5204,-35.6632, -35.875,-36.1549,-36.2245,-36.2025)
FOOTPRINT_POINT_LONGITUDE = (123.253,122.919,122.558,122.304,122.09 ,121.849,121.836,121.815,121.823,121.83 ,121.833,121.838,121.841,121.846, 121.849,121.852,121.857,121.86,121.864, 121.868,121.871,121.873,121.876,121.879 ,121.882,121.884,121.887,121.89,121.893 ,121.896,121.898,121.899,121.901, 121.904,121.905,121.907,121.908,121.91, 121.911,121.912,121.912,121.914,121.917 ,121.917,121.918,121.919,121.921, 121.922,121.923,121.923,122.179,122.532 ,122.722,123.102,123.347,123.361,123.37 ,123.367,123.365,123.363,123.362,123.36 ,123.358,123.355,123.353,123.35,123.348 ,123.346,123.343,123.341,123.336, 123.334,123.333,123.327,123.325,123.322 ,123.32,123.318,123.316,123.313,123.311 ,123.308,123.305,123.303,123.301, 123.299,123.296,123.294,123.292,123.291 ,123.289,123.285,123.282,123.28,123.277 ,123.274,123.271,123.267,123.266, 123.253)
ORBIT_NUMBER = 12633
ORBITAL_ECCENTRICITY = 0.578
ORBITAL_INCLINATION = 86.89
ORBITAL_SEMIMAJOR_AXIS = 8813.99
PERIAPSIS_ALTITUDE = 332.08
PERIAPSIS_ARGUMENT_ANGLE = 319.17
PERIAPSIS_TIME = 2013-12-10T10:07:38.000Z
SPACECRAFT_ORIENTATION = (0.0,1.0,0.0)
^MEX_ORIENTATION_DESC = "MEX_ORIENTATION_DESC.TXT"
SPACECRAFT_POINTING_MODE = NADIR
^MEX_POINTING_DESC = "MEX_POINTING_DESC.TXT"
RIGHT_ASCENSION = -1e+32
DECLINATION = -1e+32
OFFSET_ANGLE = -1e+32
SPACECRAFT_SOLAR_DISTANCE = 2.48825e+08
TARGET_NAME = MARS
/* CAMERA DATA ELEMENTS */
DETECTOR_TEMPERATURE = 17.9627
FOCAL_PLANE_TEMPERATURE = 8.1755
INST_CMPRS_NAME = "DISCRETE COSINE TRANSFORMATION (DCT)"
INST_CMPRS_RATIO = 5.24484
INST_CMPRS_QUALITY = 0
INST_CMPRS_QUANTZ_TBL_ID = 0
INSTRUMENT_TEMPERATURE = 11.4379
LENS_TEMPERATURE = 8.7872
MACROPIXEL_SIZE = 8
MISSING_FRAMES = 0
PIXEL_SUBSAMPLING_FLAG = N
SIGNAL_CHAIN_ID = 2
/* RADIOMETRIC DATA ELEMENTS */
BANDWIDTH = 81.0
CENTER_FILTER_WAVELENGTH = 955.5
RADIANCE_OFFSET = 0.0311772
RADIANCE_SCALING_FACTOR = 0.00347228
REFLECTANCE_SCALING_FACTOR = 0.000463801
MEX:REFLECTANCE_OFFSET = 0.00416441
/* IMAGE OBJECT DEFINITIONS */
OBJECT = IMAGE
  INTERCHANGE_FORMAT = BINARY
  LINES = 4249
  LINE_SAMPLES = 750
  SAMPLE_TYPE = UNSIGNED_INTEGER
  SAMPLE_BITS = 8
  BANDS = 1
  BAND_STORAGE_TYPE = BAND_SEQUENTIAL
  MAXIMUM = 255
  MEAN = 84.4034
  MINIMUM = 2
  STANDARD_DEVIATION = 20.4786
END_OBJECT = IMAGE
/* MAP OBJECT DEFINITIONS */
OBJECT = IMAGE_MAP_PROJECTION
  ^DATA_SET_MAP_PROJECTION_CATALOG= "DSMAP.CAT"
  A_AXIS_RADIUS = 3396.0
  B_AXIS_RADIUS = 3396.0
  C_AXIS_RADIUS = 3396.0
  CENTER_LATITUDE = 0.0
  CENTER_LONGITUDE = 123.0
  COORDINATE_SYSTEM_NAME = PLANETOGRAPHIC
  COORDINATE_SYSTEM_TYPE = "BODY-FIXED ROTATING"
  EASTERNMOST_LONGITUDE = 123.37
  FIRST_STANDARD_PARALLEL = "N/A"
  LINE_FIRST_PIXEL = 1
  LINE_LAST_PIXEL = 4249
  LINE_PROJECTION_OFFSET = -17239.1875
  MAP_PROJECTION_ROTATION = 0.0
  MAP_PROJECTION_TYPE = SINUSOIDAL
  MAP_RESOLUTION = 592.713803866667
  MAP_SCALE = 0.1
  MAXIMUM_LATITUDE = -29.0819
  MINIMUM_LATITUDE = -36.2245
  POSITIVE_LONGITUDE_DIRECTION = EAST
  REFERENCE_LATITUDE = "N/A"
  REFERENCE_LONGITUDE = "N/A"
  SAMPLE_FIRST_PIXEL = 1
  SAMPLE_LAST_PIXEL = 750
  SAMPLE_PROJECTION_OFFSET = 569.4375
  SECOND_STANDARD_PARALLEL = "N/A"
  WESTERNMOST_LONGITUDE = 121.815
END_OBJECT = IMAGE_MAP_PROJECTION
END
