PDS_VERSION_ID = PDS3
/* FILE DATA ELEMENTS */
RECORD_TYPE = UNDEFINED
/* POINTERS TO DATA OBJECTS */
^IMAGE = ("HC623_0000_P24.TIF")
/* IDENTIFICATION DATA ELEMENTS */
DATA_SET_ID = "MEX-M-HRSC-4-REFDR-MAPPROJECT-EXT4-V4.0"
DATA_SET_NAME = "MARS EXPRESS HRSC MAP PROJECTED REFDR EXTENSION4 V4.0"
DETECTOR_ID = MEX_HRSC_P2
EVENT_TYPE = "MARS-REGIONAL-MAPPING-Fl-Lc-La"
INSTRUMENT_HOST_ID = MEX
INSTRUMENT_HOST_NAME = "MARS EXPRESS"
INSTRUMENT_ID = HRSC
INSTRUMENT_NAME = "HIGH RESOLUTION STEREO CAMERA"
MISSION_NAME = "MARS EXPRESS"
MISSION_PHASE_NAME = ME_Phase_29
PROCESSING_LEVEL_ID = 4
PRODUCT_CREATION_TIME = 2023-01-31T11:51:40.000Z
PRODUCT_ID = "HC623_0000_P24.TIF"
RELEASE_ID = 0003
REVISION_ID = 0000
/* QUALITY DATA ELEMENTS */
DATA_QUALITY_ID = 1
DATA_QUALITY_DESC = "Data calculated based on original SPICE kernels"
/* TIME DATA ELEMENTS */
SPACECRAFT_CLOCK_START_COUNT = "1/0334498590.09047"
SPACECRAFT_CLOCK_STOP_COUNT = "1/0334498849.41938"
START_TIME = 2013-12-07T12:16:44.854Z
STOP_TIME = 2013-12-07T12:19:46.453Z
/* ORBITAL DATA ELEMENTS */
ASCENDING_NODE_LONGITUDE = 336.78
MAXIMUM_RESOLUTION = 0.0286
FOOTPRINT_POINT_LATITUDE = (-30.4383,-30.4369,-30.4318,-30.4264, -30.4262,-30.3781,-30.1554,-29.8221, -29.2793,-29.0548,-28.832,-28.6097, -28.2766,-27.9442,-27.722,-27.5007, -27.1691,-26.9463,-26.7243,-26.504, -26.2813,-26.0579,-25.8359,-25.6141, -25.3923,-25.1723,-24.9492,-24.6155, -24.1713,-23.9491,-23.7274,-23.395, -23.1395,-22.8749,-22.6102,-22.346, -22.082,-21.6861,-21.4222,-21.0264, -20.632,-20.3693,-19.9749,-19.7144, -19.4497,-19.1856,-18.9273,-18.6642, -18.5332,-18.5137,-18.5143,-18.5132, -18.5131,-18.5106,-18.5108,-18.5112, -18.7718,-19.0346,-19.2968,-19.5589, -19.8219,-20.0865,-20.4792,-20.7426, -21.007,-21.2708,-21.5355,-21.8006, -22.0649,-22.3311,-22.5882,-22.8541, -23.1268,-23.3847,-23.6064,-24.0474, -24.3824,-24.6074,-24.9388,-25.1602, -25.3813,-25.6041,-25.9397,-26.2714, -26.6037,-26.938,-27.1613,-27.3834, -27.6032,-27.8271,-28.0475,-28.3814, -28.6039,-29.0424,-29.2671,-29.5971, -29.9289,-30.2629,-30.3747,-30.4383)
FOOTPRINT_POINT_LONGITUDE = (65.2806,64.8846,64.3175,63.9346, 63.9214,63.8937,63.8963,63.9005,63.9129 ,63.914,63.9158,63.9177,63.9206,63.9234 ,63.9248,63.9266,63.9291,63.9298, 63.9307,63.9324,63.9327,63.9326,63.933, 63.9333,63.9336,63.9345,63.9338,63.9331 ,63.9319,63.9311,63.9303,63.929,63.9277 ,63.9262,63.9244,63.9227,63.9209, 63.9179,63.9156,63.9119,63.9084,63.9059 ,63.9017,63.8997,63.8956,63.8915,63.89, 63.886,63.8842,63.8839,64.401,64.7746, 65.0329,65.349,65.3633,65.3685,65.3681, 65.3667,65.3657,65.3648,65.3635,65.3616 ,65.3607,65.3594,65.3578,65.3564, 65.3547,65.3529,65.3514,65.3491,65.3511 ,65.349,65.3437,65.3426,65.3414,65.3402 ,65.3374,65.3347,65.3336,65.3327, 65.3319,65.3303,65.3272,65.3261,65.3247 ,65.3223,65.3205,65.3193,65.3192,65.317 ,65.3167,65.3144,65.3129,65.3132, 65.3106,65.3102,65.3089,65.3064,65.3053 ,65.2806)
ORBIT_NUMBER = 12623
ORBITAL_ECCENTRICITY = 0.578
ORBITAL_INCLINATION = 86.91
ORBITAL_SEMIMAJOR_AXIS = 8815.69
PERIAPSIS_ALTITUDE = 331.82
PERIAPSIS_ARGUMENT_ANGLE = 320.86
PERIAPSIS_TIME = 2013-12-07T12:14:53.000Z
SPACECRAFT_ORIENTATION = (0.0,1.0,0.0)
^MEX_ORIENTATION_DESC = "MEX_ORIENTATION_DESC.TXT"
SPACECRAFT_POINTING_MODE = NADIR
^MEX_POINTING_DESC = "MEX_POINTING_DESC.TXT"
RIGHT_ASCENSION = -1e+32
DECLINATION = -1e+32
OFFSET_ANGLE = -1e+32
SPACECRAFT_SOLAR_DISTANCE = 2.48717e+08
TARGET_NAME = MARS
/* CAMERA DATA ELEMENTS */
DETECTOR_TEMPERATURE = 18.5744
FOCAL_PLANE_TEMPERATURE = 8.7872
INST_CMPRS_NAME = "DISCRETE COSINE TRANSFORMATION (DCT)"
INST_CMPRS_RATIO = 5.99532
INST_CMPRS_QUALITY = 0
INST_CMPRS_QUANTZ_TBL_ID = 0
INSTRUMENT_TEMPERATURE = 11.234
LENS_TEMPERATURE = 8.7872
MACROPIXEL_SIZE = 2
MISSING_FRAMES = 0
PIXEL_SUBSAMPLING_FLAG = N
SIGNAL_CHAIN_ID = 3
/* RADIOMETRIC DATA ELEMENTS */
BANDWIDTH = 177.0
CENTER_FILTER_WAVELENGTH = 676.5
RADIANCE_OFFSET = 0.872139
RADIANCE_SCALING_FACTOR = 0.012798
REFLECTANCE_SCALING_FACTOR = 0.000419769
MEX:REFLECTANCE_OFFSET = 0.0286058
/* IMAGE OBJECT DEFINITIONS */
OBJECT = IMAGE
  INTERCHANGE_FORMAT = BINARY
  LINES = 28223
  LINE_SAMPLES = 3433
  SAMPLE_TYPE = UNSIGNED_INTEGER
  SAMPLE_BITS = 8
  BANDS = 1
  BAND_STORAGE_TYPE = BAND_SEQUENTIAL
  MAXIMUM = 255
  MEAN = 94.3152
  MINIMUM = 1
  STANDARD_DEVIATION = 23.4455
END_OBJECT = IMAGE
/* MAP OBJECT DEFINITIONS */
OBJECT = IMAGE_MAP_PROJECTION
  ^DATA_SET_MAP_PROJECTION_CATALOG= "DSMAP.CAT"
  A_AXIS_RADIUS = 3396.0
  B_AXIS_RADIUS = 3396.0
  C_AXIS_RADIUS = 3396.0
  CENTER_LATITUDE = 0.0
  CENTER_LONGITUDE = 65.0
  COORDINATE_SYSTEM_NAME = PLANETOGRAPHIC
  COORDINATE_SYSTEM_TYPE = "BODY-FIXED ROTATING"
  EASTERNMOST_LONGITUDE = 65.3685
  FIRST_STANDARD_PARALLEL = "N/A"
  LINE_FIRST_PIXEL = 1
  LINE_LAST_PIXEL = 28223
  LINE_PROJECTION_OFFSET = -43862.75
  MAP_PROJECTION_ROTATION = 0.0
  MAP_PROJECTION_TYPE = SINUSOIDAL
  MAP_RESOLUTION = 2370.85521546667
  MAP_SCALE = 0.025
  MAXIMUM_LATITUDE = -18.5106
  MINIMUM_LATITUDE = -30.4383
  POSITIVE_LONGITUDE_DIRECTION = EAST
  REFERENCE_LATITUDE = "N/A"
  REFERENCE_LONGITUDE = "N/A"
  SAMPLE_FIRST_PIXEL = 1
  SAMPLE_LAST_PIXEL = 3433
  SAMPLE_PROJECTION_OFFSET = 2556.75
  SECOND_STANDARD_PARALLEL = "N/A"
  WESTERNMOST_LONGITUDE = 63.8839
END_OBJECT = IMAGE_MAP_PROJECTION
END
