PDS_VERSION_ID = PDS3
/* FILE DATA ELEMENTS */
RECORD_TYPE = UNDEFINED
/* POINTERS TO DATA OBJECTS */
^IMAGE = ("HC622_0000_ND4.TIF")
/* IDENTIFICATION DATA ELEMENTS */
DATA_SET_ID = "MEX-M-HRSC-4-REFDR-MAPPROJECT-EXT4-V4.0"
DATA_SET_NAME = "MARS EXPRESS HRSC MAP PROJECTED REFDR EXTENSION4 V4.0"
DETECTOR_ID = MEX_HRSC_NADIR
EVENT_TYPE = "MARS-REGIONAL-MAPPING-Im-Fl"
INSTRUMENT_HOST_ID = MEX
INSTRUMENT_HOST_NAME = "MARS EXPRESS"
INSTRUMENT_ID = HRSC
INSTRUMENT_NAME = "HIGH RESOLUTION STEREO CAMERA"
MISSION_NAME = "MARS EXPRESS"
MISSION_PHASE_NAME = ME_Phase_29
PROCESSING_LEVEL_ID = 4
PRODUCT_CREATION_TIME = 2023-01-31T11:51:40.000Z
PRODUCT_ID = "HC622_0000_ND4.TIF"
RELEASE_ID = 0003
REVISION_ID = 0000
/* QUALITY DATA ELEMENTS */
DATA_QUALITY_ID = 1
DATA_QUALITY_DESC = "Data calculated based on original SPICE kernels"
/* TIME DATA ELEMENTS */
SPACECRAFT_CLOCK_START_COUNT = "1/0334473442.09055"
SPACECRAFT_CLOCK_STOP_COUNT = "1/0334473669.07588"
START_TIME = 2013-12-07T05:17:57.347Z
STOP_TIME = 2013-12-07T05:20:32.323Z
/* ORBITAL DATA ELEMENTS */
ASCENDING_NODE_LONGITUDE = 336.79
MAXIMUM_RESOLUTION = 0.0138
FOOTPRINT_POINT_LATITUDE = (-29.9003,-29.8986,-29.8961,-29.894, -29.8904,-29.8902,-29.8894,-29.612, -29.4272,-29.1502,-28.9655,-28.781, -28.5965,-28.412,-28.2277,-28.0434, -27.6752,-27.3072,-26.9396,-26.5723, -26.2053,-25.8388,-25.4726,-24.9238, -24.7217,-24.5039,-24.2862,-24.0689, -23.7428,-23.5256,-23.3086,-23.0918, -22.875,-22.6585,-22.4421,-22.2259, -22.0099,-21.794,-21.5784,-21.3628, -21.1475,-20.9324,-20.7174,-20.5027, -20.2881,-20.0736,-19.9665,-19.966, -19.9662,-19.966,-19.9655,-19.9639, -19.9621,-19.962,-19.9622,-20.1769, -20.3917,-20.6068,-20.822,-21.0373, -21.2529,-21.4686,-21.6845,-21.9006, -22.1169,-22.3333,-22.55,-22.7667, -22.9836,-23.2006,-23.4179,-23.6353, -23.8528,-24.0705,-24.2884,-24.5064, -24.7246,-24.927,-25.2931,-25.6596, -26.0265,-26.3938,-26.7615,-27.1295, -27.3136,-27.5899,-27.7742,-27.9586, -28.1431,-28.3276,-28.5123,-28.697, -28.8818,-29.0667,-29.2516,-29.4366, -29.6217,-29.8068,-29.8994,-29.9003)
FOOTPRINT_POINT_LONGITUDE = (167.466,167.018,166.665,166.434, 166.108,166.095,166.08,166.082,166.084, 166.087,166.088,166.09,166.091,166.092, 166.093,166.095,166.097,166.098,166.1, 166.1,166.1,166.101,166.102,166.095, 166.095,166.094,166.095,166.097,166.095 ,166.094,166.092,166.091,166.089, 166.087,166.085,166.083,166.081,166.079 ,166.077,166.074,166.072,166.07,166.067 ,166.065,166.062,166.059,166.057, 166.057,166.367,166.589,166.811,167.24, 167.536,167.551,167.558,167.556,167.554 ,167.551,167.55,167.548,167.546,167.544 ,167.543,167.541,167.538,167.537, 167.534,167.533,167.532,167.531,167.53, 167.528,167.526,167.524,167.522,167.52, 167.519,167.517,167.514,167.511,167.508 ,167.504,167.501,167.498,167.497, 167.495,167.494,167.493,167.49,167.489, 167.487,167.486,167.484,167.482,167.481 ,167.479,167.477,167.476,167.475, 167.466)
ORBIT_NUMBER = 12622
ORBITAL_ECCENTRICITY = 0.578
ORBITAL_INCLINATION = 86.9
ORBITAL_SEMIMAJOR_AXIS = 8812.13
PERIAPSIS_ALTITUDE = 332.92
PERIAPSIS_ARGUMENT_ANGLE = 321.05
PERIAPSIS_TIME = 2013-12-07T05:15:40.000Z
SPACECRAFT_ORIENTATION = (0.0,1.0,0.0)
^MEX_ORIENTATION_DESC = "MEX_ORIENTATION_DESC.TXT"
SPACECRAFT_POINTING_MODE = NADIR
^MEX_POINTING_DESC = "MEX_POINTING_DESC.TXT"
RIGHT_ASCENSION = -1e+32
DECLINATION = -1e+32
OFFSET_ANGLE = -1e+32
SPACECRAFT_SOLAR_DISTANCE = 2.48706e+08
TARGET_NAME = MARS
/* CAMERA DATA ELEMENTS */
DETECTOR_TEMPERATURE = 18.9822
FOCAL_PLANE_TEMPERATURE = 9.8067
INST_CMPRS_NAME = "DISCRETE COSINE TRANSFORMATION (DCT)"
INST_CMPRS_RATIO = 5.21237
INST_CMPRS_QUALITY = 0
INST_CMPRS_QUANTZ_TBL_ID = 0
INSTRUMENT_TEMPERATURE = 12.6613
LENS_TEMPERATURE = 10.8262
MACROPIXEL_SIZE = 1
MISSING_FRAMES = 0
PIXEL_SUBSAMPLING_FLAG = N
SIGNAL_CHAIN_ID = 0
/* RADIOMETRIC DATA ELEMENTS */
BANDWIDTH = 177.0
CENTER_FILTER_WAVELENGTH = 677.5
RADIANCE_OFFSET = 0.333761
RADIANCE_SCALING_FACTOR = 0.0199602
REFLECTANCE_SCALING_FACTOR = 0.000655874
MEX:REFLECTANCE_OFFSET = 0.0109671
/* IMAGE OBJECT DEFINITIONS */
OBJECT = IMAGE
  INTERCHANGE_FORMAT = BINARY
  LINES = 47122
  LINE_SAMPLES = 6685
  SAMPLE_TYPE = UNSIGNED_INTEGER
  SAMPLE_BITS = 8
  BANDS = 1
  BAND_STORAGE_TYPE = BAND_SEQUENTIAL
  MAXIMUM = 255
  MEAN = 92.8137
  MINIMUM = 1
  STANDARD_DEVIATION = 33.2013
END_OBJECT = IMAGE
/* MAP OBJECT DEFINITIONS */
OBJECT = IMAGE_MAP_PROJECTION
  ^DATA_SET_MAP_PROJECTION_CATALOG= "DSMAP.CAT"
  A_AXIS_RADIUS = 3396.0
  B_AXIS_RADIUS = 3396.0
  C_AXIS_RADIUS = 3396.0
  CENTER_LATITUDE = 0.0
  CENTER_LONGITUDE = 167.0
  COORDINATE_SYSTEM_NAME = PLANETOGRAPHIC
  COORDINATE_SYSTEM_TYPE = "BODY-FIXED ROTATING"
  EASTERNMOST_LONGITUDE = 167.558
  FIRST_STANDARD_PARALLEL = "N/A"
  LINE_FIRST_PIXEL = 1
  LINE_LAST_PIXEL = 47122
  LINE_PROJECTION_OFFSET = -94656.0
  MAP_PROJECTION_ROTATION = 0.0
  MAP_PROJECTION_TYPE = SINUSOIDAL
  MAP_RESOLUTION = 4741.71043093333
  MAP_SCALE = 0.0125
  MAXIMUM_LATITUDE = -19.962
  MINIMUM_LATITUDE = -29.9003
  POSITIVE_LONGITUDE_DIRECTION = EAST
  REFERENCE_LATITUDE = "N/A"
  REFERENCE_LONGITUDE = "N/A"
  SAMPLE_FIRST_PIXEL = 1
  SAMPLE_LAST_PIXEL = 6685
  SAMPLE_PROJECTION_OFFSET = 4199.0
  SECOND_STANDARD_PARALLEL = "N/A"
  WESTERNMOST_LONGITUDE = 166.057
END_OBJECT = IMAGE_MAP_PROJECTION
END
