PDS_VERSION_ID = PDS3
/* FILE DATA ELEMENTS */
RECORD_TYPE = UNDEFINED
/* POINTERS TO DATA OBJECTS */
^IMAGE = ("HC612_0000_RE4.TIF")
/* IDENTIFICATION DATA ELEMENTS */
DATA_SET_ID = "MEX-M-HRSC-4-REFDR-MAPPROJECT-EXT4-V4.0"
DATA_SET_NAME = "MARS EXPRESS HRSC MAP PROJECTED REFDR EXTENSION4 V4.0"
DETECTOR_ID = MEX_HRSC_RED
EVENT_TYPE = "MARS-REGIONAL-MAPPING-Im-Gl-Mw"
INSTRUMENT_HOST_ID = MEX
INSTRUMENT_HOST_NAME = "MARS EXPRESS"
INSTRUMENT_ID = HRSC
INSTRUMENT_NAME = "HIGH RESOLUTION STEREO CAMERA"
MISSION_NAME = "MARS EXPRESS"
MISSION_PHASE_NAME = ME_Phase_29
PROCESSING_LEVEL_ID = 4
PRODUCT_CREATION_TIME = 2023-01-31T11:51:40.000Z
PRODUCT_ID = "HC612_0000_RE4.TIF"
RELEASE_ID = 0003
REVISION_ID = 0000
/* QUALITY DATA ELEMENTS */
DATA_QUALITY_ID = 1
DATA_QUALITY_DESC = "Data calculated based on original SPICE kernels"
/* TIME DATA ELEMENTS */
SPACECRAFT_CLOCK_START_COUNT = "1/0334221738.09038"
SPACECRAFT_CLOCK_STOP_COUNT = "1/0334221898.50209"
START_TIME = 2013-12-04T07:22:27.912Z
STOP_TIME = 2013-12-04T07:24:05.787Z
/* ORBITAL DATA ELEMENTS */
ASCENDING_NODE_LONGITUDE = 336.98
MAXIMUM_RESOLUTION = 0.1098
FOOTPRINT_POINT_LATITUDE = (-37.8169,-37.815,-37.8128,-37.8095, -37.8048,-37.8012,-37.7973,-37.7923, -37.792,-37.7622,-37.634,-37.5067, -37.2536,-37.1272,-37.0005,-36.8106, -36.6206,-36.4936,-36.3668,-36.24, -36.0499,-35.9229,-35.7959,-35.6055, -35.415,-35.2242,-35.0972,-34.97, -34.7797,-34.5885,-34.4611,-34.2701, -34.1426,-33.9516,-33.7604,-33.6327, -33.5061,-33.3788,-33.251,-33.1233, -32.9956,-32.8035,-32.612,-32.4206, -32.2928,-32.1014,-31.9106,-31.7834, -31.5938,-31.4659,-31.4017,-31.3646, -31.3582,-31.3621,-31.3649,-31.3666, -31.378,-31.378,-31.3797,-31.5724, -31.701,-31.8282,-31.955,-32.0827, -32.2103,-32.3385,-32.4659,-32.6578, -32.8493,-32.9773,-33.1049,-33.2329, -33.4242,-33.5517,-33.6796,-33.8711, -34.0625,-34.1901,-34.3815,-34.5091, -34.637,-34.8284,-35.0193,-35.2104, -35.3382,-35.5296,-35.6592,-35.9079, -36.0358,-36.1659,-36.3583,-36.5466, -36.7995,-36.9266,-37.0538,-37.3072, -37.4361,-37.6852,-37.7461,-37.8169)
FOOTPRINT_POINT_LONGITUDE = (109.3,109.111,108.936,108.707,108.438, 108.263,108.088,107.886,107.872,107.854 ,107.858,107.863,107.872,107.876, 107.881,107.888,107.894,107.898,107.902 ,107.906,107.913,107.917,107.92,107.926 ,107.932,107.937,107.941,107.945,107.95 ,107.955,107.959,107.963,107.967, 107.971,107.976,107.979,107.982,107.985 ,107.988,107.991,107.994,107.998, 108.002,108.006,108.008,108.012,108.016 ,108.019,108.023,108.025,108.026, 108.027,108.378,108.62,108.811,109.092, 109.356,109.369,109.377,109.376,109.374 ,109.374,109.373,109.372,109.371,109.37 ,109.369,109.368,109.366,109.365, 109.364,109.363,109.361,109.36,109.359, 109.357,109.355,109.354,109.352,109.351 ,109.349,109.347,109.345,109.343, 109.342,109.339,109.337,109.337,109.335 ,109.332,109.329,109.328,109.326, 109.324,109.323,109.32,109.317,109.316, 109.316,109.3)
ORBIT_NUMBER = 12612
ORBITAL_ECCENTRICITY = 0.578
ORBITAL_INCLINATION = 86.89
ORBITAL_SEMIMAJOR_AXIS = 8820.61
PERIAPSIS_ALTITUDE = 332.28
PERIAPSIS_ARGUMENT_ANGLE = 322.73
PERIAPSIS_TIME = 2013-12-04T07:23:02.000Z
SPACECRAFT_ORIENTATION = (0.0,1.0,0.0)
^MEX_ORIENTATION_DESC = "MEX_ORIENTATION_DESC.TXT"
SPACECRAFT_POINTING_MODE = NADIR
^MEX_POINTING_DESC = "MEX_POINTING_DESC.TXT"
RIGHT_ASCENSION = -1e+32
DECLINATION = -1e+32
OFFSET_ANGLE = -1e+32
SPACECRAFT_SOLAR_DISTANCE = 2.48584e+08
TARGET_NAME = MARS
/* CAMERA DATA ELEMENTS */
DETECTOR_TEMPERATURE = 19.39
FOCAL_PLANE_TEMPERATURE = 10.2145
INST_CMPRS_NAME = "DISCRETE COSINE TRANSFORMATION (DCT)"
INST_CMPRS_RATIO = 4.75672
INST_CMPRS_QUALITY = 0
INST_CMPRS_QUANTZ_TBL_ID = 0
INSTRUMENT_TEMPERATURE = 12.2535
LENS_TEMPERATURE = 10.2145
MACROPIXEL_SIZE = 8
MISSING_FRAMES = 0
PIXEL_SUBSAMPLING_FLAG = N
SIGNAL_CHAIN_ID = 2
/* RADIOMETRIC DATA ELEMENTS */
BANDWIDTH = 48.0
CENTER_FILTER_WAVELENGTH = 748.0
RADIANCE_OFFSET = 0.119966
RADIANCE_SCALING_FACTOR = 0.00541022
REFLECTANCE_SCALING_FACTOR = 0.000762934
MEX:REFLECTANCE_OFFSET = 0.0169172
/* IMAGE OBJECT DEFINITIONS */
OBJECT = IMAGE
  INTERCHANGE_FORMAT = BINARY
  LINES = 3810
  LINE_SAMPLES = 734
  SAMPLE_TYPE = UNSIGNED_INTEGER
  SAMPLE_BITS = 8
  BANDS = 1
  BAND_STORAGE_TYPE = BAND_SEQUENTIAL
  MAXIMUM = 255
  MEAN = 66.4735
  MINIMUM = 1
  STANDARD_DEVIATION = 18.5166
END_OBJECT = IMAGE
/* MAP OBJECT DEFINITIONS */
OBJECT = IMAGE_MAP_PROJECTION
  ^DATA_SET_MAP_PROJECTION_CATALOG= "DSMAP.CAT"
  A_AXIS_RADIUS = 3396.0
  B_AXIS_RADIUS = 3396.0
  C_AXIS_RADIUS = 3396.0
  CENTER_LATITUDE = 0.0
  CENTER_LONGITUDE = 109.0
  COORDINATE_SYSTEM_NAME = PLANETOGRAPHIC
  COORDINATE_SYSTEM_TYPE = "BODY-FIXED ROTATING"
  EASTERNMOST_LONGITUDE = 109.377
  FIRST_STANDARD_PARALLEL = "N/A"
  LINE_FIRST_PIXEL = 1
  LINE_LAST_PIXEL = 3810
  LINE_PROJECTION_OFFSET = -18581.9375
  MAP_PROJECTION_ROTATION = 0.0
  MAP_PROJECTION_TYPE = SINUSOIDAL
  MAP_RESOLUTION = 592.713803866667
  MAP_SCALE = 0.1
  MAXIMUM_LATITUDE = -31.3582
  MINIMUM_LATITUDE = -37.8169
  POSITIVE_LONGITUDE_DIRECTION = EAST
  REFERENCE_LATITUDE = "N/A"
  REFERENCE_LONGITUDE = "N/A"
  SAMPLE_FIRST_PIXEL = 1
  SAMPLE_LAST_PIXEL = 734
  SAMPLE_PROJECTION_OFFSET = 540.3125
  SECOND_STANDARD_PARALLEL = "N/A"
  WESTERNMOST_LONGITUDE = 107.854
END_OBJECT = IMAGE_MAP_PROJECTION
END
