PDS_VERSION_ID = PDS3
/* FILE DATA ELEMENTS */
RECORD_TYPE = UNDEFINED
/* POINTERS TO DATA OBJECTS */
^IMAGE = ("HC609_0000_RE4.TIF")
/* IDENTIFICATION DATA ELEMENTS */
DATA_SET_ID = "MEX-M-HRSC-4-REFDR-MAPPROJECT-EXT4-V4.0"
DATA_SET_NAME = "MARS EXPRESS HRSC MAP PROJECTED REFDR EXTENSION4 V4.0"
DETECTOR_ID = MEX_HRSC_RED
EVENT_TYPE = "MARS-REGIONAL-MAPPING-Im-Fl-La"
INSTRUMENT_HOST_ID = MEX
INSTRUMENT_HOST_NAME = "MARS EXPRESS"
INSTRUMENT_ID = HRSC
INSTRUMENT_NAME = "HIGH RESOLUTION STEREO CAMERA"
MISSION_NAME = "MARS EXPRESS"
MISSION_PHASE_NAME = ME_Phase_29
PROCESSING_LEVEL_ID = 4
PRODUCT_CREATION_TIME = 2023-01-31T11:51:40.000Z
PRODUCT_ID = "HC609_0000_RE4.TIF"
RELEASE_ID = 0003
REVISION_ID = 0000
/* QUALITY DATA ELEMENTS */
DATA_QUALITY_ID = 1
DATA_QUALITY_DESC = "Data calculated based on original SPICE kernels"
/* TIME DATA ELEMENTS */
SPACECRAFT_CLOCK_START_COUNT = "1/0334146361.07296"
SPACECRAFT_CLOCK_STOP_COUNT = "1/0334146525.37889"
START_TIME = 2013-12-03T10:26:10.827Z
STOP_TIME = 2013-12-03T10:27:48.417Z
/* ORBITAL DATA ELEMENTS */
ASCENDING_NODE_LONGITUDE = 337.04
MAXIMUM_RESOLUTION = 0.0563
FOOTPRINT_POINT_LATITUDE = (-31.4196,-31.4153,-31.4104,-31.4051, -31.3993,-31.3929,-31.3815,-31.3811, -31.3356,-31.1497,-30.9026,-30.7168, -30.4706,-30.3456,-30.0973,-29.7879, -29.6019,-29.3551,-29.2297,-29.0436, -28.7903,-28.5949,-28.466,-28.3385, -28.2098,-28.0171,-27.8882,-27.7593, -27.6308,-27.4393,-27.3109,-27.1813, -27.0515,-26.9226,-26.7931,-26.6634, -26.5343,-26.4064,-26.2761,-26.1467, -25.9533,-25.8248,-25.5758,-25.4463, -25.3148,-25.1827,-25.054,-24.9884, -24.9273,-24.9318,-24.9407,-24.9456, -24.9527,-24.957,-24.9611,-24.9612, -24.9622,-25.2147,-25.3437,-25.4717, -25.6004,-25.7295,-25.9231,-26.0521, -26.1815,-26.3746,-26.5027,-26.6343, -26.7637,-26.8922,-27.0216,-27.1511, -27.3451,-27.4747,-27.6038,-27.7329, -27.8621,-27.9909,-28.1201,-28.2491, -28.3784,-28.5075,-28.6355,-28.7653, -28.8951,-29.0233,-29.149,-29.3961, -29.6407,-29.8235,-29.9488,-30.0735, -30.2605,-30.3855,-30.5103,-30.697, -30.9404,-31.2471,-31.3136,-31.4196)
FOOTPRINT_POINT_LONGITUDE = (55.5986,55.399,55.199,54.998,54.7964, 54.5942,54.2632,54.2504,54.2205,54.225, 54.2312,54.2355,54.242,54.2442,54.2492, 54.2559,54.2596,54.2651,54.2667,54.2701 ,54.274,54.2755,54.2773,54.2798,54.2816 ,54.2844,54.286,54.2876,54.2894,54.2926 ,54.2944,54.2953,54.2962,54.2975, 54.2984,54.2992,54.3002,54.3019,54.3023 ,54.303,54.3045,54.3058,54.3126,54.3131 ,54.3124,54.3114,54.3122,54.3119, 54.3122,54.5278,54.8204,54.9599,55.1618 ,55.3748,55.6495,55.662,55.6661,55.6652 ,55.6642,55.6634,55.6624,55.6614, 55.6598,55.6587,55.6576,55.656,55.6551, 55.6535,55.6523,55.6513,55.6501,55.6489 ,55.6471,55.6458,55.6446,55.6434, 55.6422,55.641,55.6397,55.6385,55.6372, 55.636,55.6349,55.6335,55.632,55.6305, 55.629,55.627,55.6254,55.6243,55.6229, 55.6216,55.6196,55.6182,55.6168,55.6148 ,55.6132,55.6106,55.609,55.5986)
ORBIT_NUMBER = 12609
ORBITAL_ECCENTRICITY = 0.578
ORBITAL_INCLINATION = 86.9
ORBITAL_SEMIMAJOR_AXIS = 8820.12
PERIAPSIS_ALTITUDE = 332.71
PERIAPSIS_ARGUMENT_ANGLE = 323.27
PERIAPSIS_TIME = 2013-12-03T10:25:15.000Z
SPACECRAFT_ORIENTATION = (0.0,1.0,0.0)
^MEX_ORIENTATION_DESC = "MEX_ORIENTATION_DESC.TXT"
SPACECRAFT_POINTING_MODE = ACROSSTRACK
^MEX_POINTING_DESC = "MEX_POINTING_DESC.TXT"
RIGHT_ASCENSION = -1e+32
DECLINATION = -1e+32
OFFSET_ANGLE = 0.3
SPACECRAFT_SOLAR_DISTANCE = 2.48545e+08
TARGET_NAME = MARS
/* CAMERA DATA ELEMENTS */
DETECTOR_TEMPERATURE = 18.5744
FOCAL_PLANE_TEMPERATURE = 9.8067
INST_CMPRS_NAME = "DISCRETE COSINE TRANSFORMATION (DCT)"
INST_CMPRS_RATIO = 11.2708
INST_CMPRS_QUALITY = 0
INST_CMPRS_QUANTZ_TBL_ID = 0
INSTRUMENT_TEMPERATURE = 12.4574
LENS_TEMPERATURE = 10.4184
MACROPIXEL_SIZE = 4
MISSING_FRAMES = 0
PIXEL_SUBSAMPLING_FLAG = N
SIGNAL_CHAIN_ID = 2
/* RADIOMETRIC DATA ELEMENTS */
BANDWIDTH = 48.0
CENTER_FILTER_WAVELENGTH = 748.0
RADIANCE_OFFSET = 0.285913
RADIANCE_SCALING_FACTOR = 0.00280307
REFLECTANCE_SCALING_FACTOR = 0.000395156
MEX:REFLECTANCE_OFFSET = 0.0403059
/* IMAGE OBJECT DEFINITIONS */
OBJECT = IMAGE
  INTERCHANGE_FORMAT = BINARY
  LINES = 7635
  LINE_SAMPLES = 1526
  SAMPLE_TYPE = UNSIGNED_INTEGER
  SAMPLE_BITS = 8
  BANDS = 1
  BAND_STORAGE_TYPE = BAND_SEQUENTIAL
  MAXIMUM = 255
  MEAN = 86.7347
  MINIMUM = 1
  STANDARD_DEVIATION = 25.3369
END_OBJECT = IMAGE
/* MAP OBJECT DEFINITIONS */
OBJECT = IMAGE_MAP_PROJECTION
  ^DATA_SET_MAP_PROJECTION_CATALOG= "DSMAP.CAT"
  A_AXIS_RADIUS = 3396.0
  B_AXIS_RADIUS = 3396.0
  C_AXIS_RADIUS = 3396.0
  CENTER_LATITUDE = 0.0
  CENTER_LONGITUDE = 55.0
  COORDINATE_SYSTEM_NAME = PLANETOGRAPHIC
  COORDINATE_SYSTEM_TYPE = "BODY-FIXED ROTATING"
  EASTERNMOST_LONGITUDE = 55.6661
  FIRST_STANDARD_PARALLEL = "N/A"
  LINE_FIRST_PIXEL = 1
  LINE_LAST_PIXEL = 7635
  LINE_PROJECTION_OFFSET = -29559.625
  MAP_PROJECTION_ROTATION = 0.0
  MAP_PROJECTION_TYPE = SINUSOIDAL
  MAP_RESOLUTION = 1185.42760773333
  MAP_SCALE = 0.05
  MAXIMUM_LATITUDE = -24.9273
  MINIMUM_LATITUDE = -31.4196
  POSITIVE_LONGITUDE_DIRECTION = EAST
  REFERENCE_LATITUDE = "N/A"
  REFERENCE_LONGITUDE = "N/A"
  SAMPLE_FIRST_PIXEL = 1
  SAMPLE_LAST_PIXEL = 1526
  SAMPLE_PROJECTION_OFFSET = 794.625
  SECOND_STANDARD_PARALLEL = "N/A"
  WESTERNMOST_LONGITUDE = 54.2205
END_OBJECT = IMAGE_MAP_PROJECTION
END
