PDS_VERSION_ID = PDS3
/* FILE DATA ELEMENTS */
RECORD_TYPE = UNDEFINED
/* POINTERS TO DATA OBJECTS */
^IMAGE = ("HC600_0000_ND4.TIF")
/* IDENTIFICATION DATA ELEMENTS */
DATA_SET_ID = "MEX-M-HRSC-4-REFDR-MAPPROJECT-EXT4-V4.0"
DATA_SET_NAME = "MARS EXPRESS HRSC MAP PROJECTED REFDR EXTENSION4 V4.0"
DETECTOR_ID = MEX_HRSC_NADIR
EVENT_TYPE = "MARS-REGIONAL-STEREO-Vo-Te"
INSTRUMENT_HOST_ID = MEX
INSTRUMENT_HOST_NAME = "MARS EXPRESS"
INSTRUMENT_ID = HRSC
INSTRUMENT_NAME = "HIGH RESOLUTION STEREO CAMERA"
MISSION_NAME = "MARS EXPRESS"
MISSION_PHASE_NAME = ME_Phase_29
PROCESSING_LEVEL_ID = 4
PRODUCT_CREATION_TIME = 2023-01-31T11:51:40.000Z
PRODUCT_ID = "HC600_0000_ND4.TIF"
RELEASE_ID = 0003
REVISION_ID = 0000
/* QUALITY DATA ELEMENTS */
DATA_QUALITY_ID = 1
DATA_QUALITY_DESC = "Data calculated based on original SPICE kernels"
/* TIME DATA ELEMENTS */
SPACECRAFT_CLOCK_START_COUNT = "1/0333919961.07344"
SPACECRAFT_CLOCK_STOP_COUNT = "1/0333920148.29347"
START_TIME = 2013-11-30T19:33:15.798Z
STOP_TIME = 2013-11-30T19:35:15.798Z
/* ORBITAL DATA ELEMENTS */
ASCENDING_NODE_LONGITUDE = 337.21
MAXIMUM_RESOLUTION = 0.0133
FOOTPRINT_POINT_LATITUDE = (-29.0146,-29.0129,-29.0107,-29.0083, -29.0055,-29.0023,-28.9978,-28.9975, -28.9974,-28.7649,-28.6099,-28.455, -28.3001,-28.1452,-27.9904,-27.8355, -27.6808,-27.526,-27.3714,-27.2167, -27.0622,-26.9076,-26.7531,-26.5987, -26.4443,-26.2899,-26.1356,-25.9813, -25.827,-25.6727,-25.5187,-25.3645, -25.2104,-25.0564,-24.9024,-24.7485, -24.5947,-24.2871,-23.9798,-23.6726, -23.3657,-23.0591,-22.7527,-22.4466, -22.1407,-21.8351,-21.5297,-21.3528, -21.2618,-21.2401,-21.2427,-21.2438, -21.2448,-21.2453,-21.2455,-21.2455, -21.2458,-21.5176,-21.8234,-22.1295, -22.4358,-22.7424,-23.0492,-23.3563, -23.6636,-23.8174,-23.9712,-24.125, -24.279,-24.4329,-24.587,-24.741, -24.8952,-25.0494,-25.2806,-25.4349, -25.5894,-25.7439,-25.8983,-26.0528, -26.2847,-26.4393,-26.5939,-26.7486, -26.9034,-27.0582,-27.213,-27.3679, -27.5228,-27.6777,-27.8327,-27.9878, -28.1429,-28.298,-28.4531,-28.6083, -28.7635,-28.9186,-28.9962,-29.0146)
FOOTPRINT_POINT_LONGITUDE = (255.06,254.851,254.641,254.429,254.215 ,254.0,253.727,253.714,253.712,253.716, 253.718,253.721,253.723,253.725,253.727 ,253.729,253.731,253.733,253.735, 253.738,253.74,253.742,253.745,253.749, 253.751,253.754,253.756,253.758,253.758 ,253.758,253.762,253.763,253.763, 253.764,253.765,253.766,253.767,253.769 ,253.771,253.772,253.774,253.775, 253.776,253.777,253.778,253.779,253.779 ,253.779,253.78,253.779,254.165,254.384 ,254.641,254.855,255.134,255.147, 255.154,255.151,255.148,255.144,255.141 ,255.138,255.135,255.131,255.128, 255.126,255.125,255.123,255.121,255.119 ,255.118,255.116,255.114,255.112, 255.109,255.107,255.106,255.104,255.102 ,255.1,255.097,255.095,255.093,255.091, 255.089,255.087,255.085,255.083,255.081 ,255.079,255.077,255.074,255.072,255.07 ,255.068,255.066,255.064,255.061,255.06 ,255.06)
ORBIT_NUMBER = 12600
ORBITAL_ECCENTRICITY = 0.578
ORBITAL_INCLINATION = 86.88
ORBITAL_SEMIMAJOR_AXIS = 8826.28
PERIAPSIS_ALTITUDE = 332.78
PERIAPSIS_ARGUMENT_ANGLE = 324.78
PERIAPSIS_TIME = 2013-11-30T19:31:42.000Z
SPACECRAFT_ORIENTATION = (0.0,1.0,0.0)
^MEX_ORIENTATION_DESC = "MEX_ORIENTATION_DESC.TXT"
SPACECRAFT_POINTING_MODE = ACROSSTRACK
^MEX_POINTING_DESC = "MEX_POINTING_DESC.TXT"
RIGHT_ASCENSION = -1e+32
DECLINATION = -1e+32
OFFSET_ANGLE = 0.6
SPACECRAFT_SOLAR_DISTANCE = 2.48421e+08
TARGET_NAME = MARS
/* CAMERA DATA ELEMENTS */
DETECTOR_TEMPERATURE = 18.3705
FOCAL_PLANE_TEMPERATURE = 8.5833
INST_CMPRS_NAME = "DISCRETE COSINE TRANSFORMATION (DCT)"
INST_CMPRS_RATIO = 5.35818
INST_CMPRS_QUALITY = 0
INST_CMPRS_QUANTZ_TBL_ID = 0
INSTRUMENT_TEMPERATURE = 11.4379
LENS_TEMPERATURE = 8.7872
MACROPIXEL_SIZE = 1
MISSING_FRAMES = 0
PIXEL_SUBSAMPLING_FLAG = N
SIGNAL_CHAIN_ID = 0
/* RADIOMETRIC DATA ELEMENTS */
BANDWIDTH = 177.0
CENTER_FILTER_WAVELENGTH = 677.5
RADIANCE_OFFSET = 0.365156
RADIANCE_SCALING_FACTOR = 0.0210892
REFLECTANCE_SCALING_FACTOR = 0.000691391
MEX:REFLECTANCE_OFFSET = 0.0119713
/* IMAGE OBJECT DEFINITIONS */
OBJECT = IMAGE
  INTERCHANGE_FORMAT = BINARY
  LINES = 36865
  LINE_SAMPLES = 6292
  SAMPLE_TYPE = UNSIGNED_INTEGER
  SAMPLE_BITS = 8
  BANDS = 1
  BAND_STORAGE_TYPE = BAND_SEQUENTIAL
  MAXIMUM = 255
  MEAN = 73.2558
  MINIMUM = 1
  STANDARD_DEVIATION = 27.5911
END_OBJECT = IMAGE
/* MAP OBJECT DEFINITIONS */
OBJECT = IMAGE_MAP_PROJECTION
  ^DATA_SET_MAP_PROJECTION_CATALOG= "DSMAP.CAT"
  A_AXIS_RADIUS = 3396.0
  B_AXIS_RADIUS = 3396.0
  C_AXIS_RADIUS = 3396.0
  CENTER_LATITUDE = 0.0
  CENTER_LONGITUDE = 254.0
  COORDINATE_SYSTEM_NAME = PLANETOGRAPHIC
  COORDINATE_SYSTEM_TYPE = "BODY-FIXED ROTATING"
  EASTERNMOST_LONGITUDE = 255.154
  FIRST_STANDARD_PARALLEL = "N/A"
  LINE_FIRST_PIXEL = 1
  LINE_LAST_PIXEL = 36865
  LINE_PROJECTION_OFFSET = -100716.0
  MAP_PROJECTION_ROTATION = 0.0
  MAP_PROJECTION_TYPE = SINUSOIDAL
  MAP_RESOLUTION = 4741.71043093333
  MAP_SCALE = 0.0125
  MAXIMUM_LATITUDE = -21.2401
  MINIMUM_LATITUDE = -29.0146
  POSITIVE_LONGITUDE_DIRECTION = EAST
  REFERENCE_LATITUDE = "N/A"
  REFERENCE_LONGITUDE = "N/A"
  SAMPLE_FIRST_PIXEL = 1
  SAMPLE_LAST_PIXEL = 6292
  SAMPLE_PROJECTION_OFFSET = 1193.0
  SECOND_STANDARD_PARALLEL = "N/A"
  WESTERNMOST_LONGITUDE = 253.712
END_OBJECT = IMAGE_MAP_PROJECTION
END
