PDS_VERSION_ID = PDS3
/* FILE DATA ELEMENTS */
RECORD_TYPE = UNDEFINED
/* POINTERS TO DATA OBJECTS */
^IMAGE = ("HC600_0000_IR4.TIF")
/* IDENTIFICATION DATA ELEMENTS */
DATA_SET_ID = "MEX-M-HRSC-4-REFDR-MAPPROJECT-EXT4-V4.0"
DATA_SET_NAME = "MARS EXPRESS HRSC MAP PROJECTED REFDR EXTENSION4 V4.0"
DETECTOR_ID = MEX_HRSC_IR
EVENT_TYPE = "MARS-REGIONAL-STEREO-Vo-Te"
INSTRUMENT_HOST_ID = MEX
INSTRUMENT_HOST_NAME = "MARS EXPRESS"
INSTRUMENT_ID = HRSC
INSTRUMENT_NAME = "HIGH RESOLUTION STEREO CAMERA"
MISSION_NAME = "MARS EXPRESS"
MISSION_PHASE_NAME = ME_Phase_29
PROCESSING_LEVEL_ID = 4
PRODUCT_CREATION_TIME = 2023-01-31T11:51:40.000Z
PRODUCT_ID = "HC600_0000_IR4.TIF"
RELEASE_ID = 0003
REVISION_ID = 0000
/* QUALITY DATA ELEMENTS */
DATA_QUALITY_ID = 1
DATA_QUALITY_DESC = "Data calculated based on original SPICE kernels"
/* TIME DATA ELEMENTS */
SPACECRAFT_CLOCK_START_COUNT = "1/0333919961.07344"
SPACECRAFT_CLOCK_STOP_COUNT = "1/0333920148.29347"
START_TIME = 2013-11-30T19:33:41.527Z
STOP_TIME = 2013-11-30T19:35:44.742Z
/* ORBITAL DATA ELEMENTS */
ASCENDING_NODE_LONGITUDE = 337.21
MAXIMUM_RESOLUTION = 0.1127
FOOTPRINT_POINT_LATITUDE = (-28.966,-28.97,-28.9739,-28.9776, -28.9812,-28.9847,-28.9899,-28.9901, -28.9827,-28.7597,-28.5372,-28.3891, -28.2404,-28.0929,-27.871,-27.7231, -27.5021,-27.354,-27.2044,-27.0561, -26.908,-26.7585,-26.6089,-26.461, -26.3131,-26.1648,-25.9434,-25.652, -25.502,-25.3554,-25.0642,-24.7715, -24.5523,-24.1874,-23.8956,-23.6045, -23.3136,-23.1463,-22.9727,-22.7993, -22.626,-22.4531,-22.2803,-22.1075, -21.935,-21.7624,-21.504,-21.3321, -21.2461,-21.2265,-21.2223,-21.2168, -21.2087,-21.2013,-21.1923,-21.1866, -21.1862,-21.1879,-21.3597,-21.5316, -21.7038,-21.8764,-22.0492,-22.222, -22.395,-22.5681,-22.7412,-22.9146, -23.0881,-23.4042,-23.6229,-23.915, -24.1341,-24.3536,-24.6463,-24.7932, -25.0135,-25.1643,-25.3142,-25.4614, -25.747,-25.8955,-26.0436,-26.3373, -26.4869,-26.6354,-26.7835,-27.006, -27.1544,-27.3024,-27.4515,-27.6, -27.7476,-27.8962,-28.1899,-28.339, -28.5618,-28.8624,-28.9389,-28.966)
FOOTPRINT_POINT_LONGITUDE = (255.071,254.87,254.669,254.465,254.261 ,254.054,253.728,253.715,253.714, 253.717,253.72,253.722,253.724,253.726, 253.728,253.73,253.732,253.733,253.737, 253.739,253.741,253.744,253.747,253.749 ,253.751,253.753,253.755,253.755, 253.759,253.76,253.76,253.762,253.763, 253.764,253.765,253.766,253.767,253.767 ,253.768,253.768,253.769,253.769, 253.769,253.769,253.769,253.769,253.769 ,253.769,253.769,253.769,253.969, 254.222,254.383,254.608,254.947,255.154 ,255.167,255.176,255.174,255.171, 255.169,255.167,255.165,255.163,255.161 ,255.159,255.157,255.155,255.153, 255.149,255.146,255.142,255.139,255.137 ,255.133,255.131,255.128,255.126, 255.124,255.122,255.118,255.116,255.114 ,255.11,255.108,255.106,255.103,255.1, 255.098,255.096,255.094,255.092,255.089 ,255.087,255.083,255.08,255.077,255.072 ,255.071,255.071)
ORBIT_NUMBER = 12600
ORBITAL_ECCENTRICITY = 0.578
ORBITAL_INCLINATION = 86.88
ORBITAL_SEMIMAJOR_AXIS = 8826.28
PERIAPSIS_ALTITUDE = 332.78
PERIAPSIS_ARGUMENT_ANGLE = 324.78
PERIAPSIS_TIME = 2013-11-30T19:31:42.000Z
SPACECRAFT_ORIENTATION = (0.0,1.0,0.0)
^MEX_ORIENTATION_DESC = "MEX_ORIENTATION_DESC.TXT"
SPACECRAFT_POINTING_MODE = ACROSSTRACK
^MEX_POINTING_DESC = "MEX_POINTING_DESC.TXT"
RIGHT_ASCENSION = -1e+32
DECLINATION = -1e+32
OFFSET_ANGLE = 0.6
SPACECRAFT_SOLAR_DISTANCE = 2.48421e+08
TARGET_NAME = MARS
/* CAMERA DATA ELEMENTS */
DETECTOR_TEMPERATURE = 17.5549
FOCAL_PLANE_TEMPERATURE = 8.5833
INST_CMPRS_NAME = "DISCRETE COSINE TRANSFORMATION (DCT)"
INST_CMPRS_RATIO = 5.52126
INST_CMPRS_QUALITY = 0
INST_CMPRS_QUANTZ_TBL_ID = 0
INSTRUMENT_TEMPERATURE = 11.4379
LENS_TEMPERATURE = 8.7872
MACROPIXEL_SIZE = 8
MISSING_FRAMES = 0
PIXEL_SUBSAMPLING_FLAG = N
SIGNAL_CHAIN_ID = 2
/* RADIOMETRIC DATA ELEMENTS */
BANDWIDTH = 81.0
CENTER_FILTER_WAVELENGTH = 955.5
RADIANCE_OFFSET = 0.0798116
RADIANCE_SCALING_FACTOR = 0.00612063
REFLECTANCE_SCALING_FACTOR = 0.000814894
MEX:REFLECTANCE_OFFSET = 0.010626
/* IMAGE OBJECT DEFINITIONS */
OBJECT = IMAGE
  INTERCHANGE_FORMAT = BINARY
  LINES = 4609
  LINE_SAMPLES = 787
  SAMPLE_TYPE = UNSIGNED_INTEGER
  SAMPLE_BITS = 8
  BANDS = 1
  BAND_STORAGE_TYPE = BAND_SEQUENTIAL
  MAXIMUM = 255
  MEAN = 74.1195
  MINIMUM = 1
  STANDARD_DEVIATION = 28.9508
END_OBJECT = IMAGE
/* MAP OBJECT DEFINITIONS */
OBJECT = IMAGE_MAP_PROJECTION
  ^DATA_SET_MAP_PROJECTION_CATALOG= "DSMAP.CAT"
  A_AXIS_RADIUS = 3396.0
  B_AXIS_RADIUS = 3396.0
  C_AXIS_RADIUS = 3396.0
  CENTER_LATITUDE = 0.0
  CENTER_LONGITUDE = 254.0
  COORDINATE_SYSTEM_NAME = PLANETOGRAPHIC
  COORDINATE_SYSTEM_TYPE = "BODY-FIXED ROTATING"
  EASTERNMOST_LONGITUDE = 255.176
  FIRST_STANDARD_PARALLEL = "N/A"
  LINE_FIRST_PIXEL = 1
  LINE_LAST_PIXEL = 4609
  LINE_PROJECTION_OFFSET = -12589.9375
  MAP_PROJECTION_ROTATION = 0.0
  MAP_PROJECTION_TYPE = SINUSOIDAL
  MAP_RESOLUTION = 592.713803866667
  MAP_SCALE = 0.1
  MAXIMUM_LATITUDE = -21.1862
  MINIMUM_LATITUDE = -28.9901
  POSITIVE_LONGITUDE_DIRECTION = EAST
  REFERENCE_LATITUDE = "N/A"
  REFERENCE_LONGITUDE = "N/A"
  SAMPLE_FIRST_PIXEL = 1
  SAMPLE_LAST_PIXEL = 787
  SAMPLE_PROJECTION_OFFSET = 148.6875
  SECOND_STANDARD_PARALLEL = "N/A"
  WESTERNMOST_LONGITUDE = 253.714
END_OBJECT = IMAGE_MAP_PROJECTION
END
