PDS_VERSION_ID = PDS3
/* FILE DATA ELEMENTS */
RECORD_TYPE = UNDEFINED
/* POINTERS TO DATA OBJECTS */
^IMAGE = ("HC580_0000_ND4.TIF")
/* IDENTIFICATION DATA ELEMENTS */
DATA_SET_ID = "MEX-M-HRSC-4-REFDR-MAPPROJECT-EXT4-V4.0"
DATA_SET_NAME = "MARS EXPRESS HRSC MAP PROJECTED REFDR EXTENSION4 V4.0"
DETECTOR_ID = MEX_HRSC_NADIR
EVENT_TYPE = "MARS-LOCAL-STEREO-Vo-Ot"
INSTRUMENT_HOST_ID = MEX
INSTRUMENT_HOST_NAME = "MARS EXPRESS"
INSTRUMENT_ID = HRSC
INSTRUMENT_NAME = "HIGH RESOLUTION STEREO CAMERA"
MISSION_NAME = "MARS EXPRESS"
MISSION_PHASE_NAME = ME_Phase_29
PROCESSING_LEVEL_ID = 4
PRODUCT_CREATION_TIME = 2023-01-31T11:51:40.000Z
PRODUCT_ID = "HC580_0000_ND4.TIF"
RELEASE_ID = 0003
REVISION_ID = 0000
/* QUALITY DATA ELEMENTS */
DATA_QUALITY_ID = 1
DATA_QUALITY_DESC = "Data calculated based on original SPICE kernels"
/* TIME DATA ELEMENTS */
SPACECRAFT_CLOCK_START_COUNT = "1/0333417134.09032"
SPACECRAFT_CLOCK_STOP_COUNT = "1/0333417429.58148"
START_TIME = 2013-11-24T23:53:04.437Z
STOP_TIME = 2013-11-24T23:55:54.428Z
/* ORBITAL DATA ELEMENTS */
ASCENDING_NODE_LONGITUDE = 337.59
MAXIMUM_RESOLUTION = 0.0201
FOOTPRINT_POINT_LATITUDE = (-3.20785,-3.21039,-3.21384,-3.21742, -3.22113,-3.22414,-3.22979,-3.22999, -3.22948,-2.9646,-2.42958,-2.07078, -1.70682,-1.34225,-0.972757,-0.602709, -0.320948,-0.132911,0.0548705,0.340467, 0.531279,0.721829,1.01165,1.20518, 1.39844,1.59457,1.7909,1.98695,2.1853, 2.38438,2.58315,2.78407,2.98583,3.18728 ,3.39072,3.59511,3.79917,4.10936, 4.31614,4.52476,4.73439,4.94367,5.15578 ,5.47376,5.68847,6.01032,6.22758, 6.44477,6.55328,6.58091,6.58811,6.59417 ,6.59796,6.60449,6.61154,6.61717,6.6215 ,6.62185,6.62165,6.2949,6.0769,5.86192, 5.64666,5.3265,5.11383,4.79761,4.58758, 4.37814,4.06725,3.85976,3.65533,3.45057 ,3.24631,3.0445,2.84238,2.64066,2.44155 ,2.24213,2.043,1.84663,1.64996,1.45305, 1.25946,1.06559,0.774828,0.58395, 0.39282,0.106285,-0.0818098,-0.270172, -0.55277,-0.923532,-1.29405,-1.65921, -2.02418,-2.47365,-2.74342,-3.09701, -3.18548,-3.20785)
FOOTPRINT_POINT_LONGITUDE = (139.683,139.494,139.235,138.959, 138.664,138.422,137.951,137.933,137.914 ,137.909,137.89,137.879,137.865,137.851 ,137.837,137.826,137.813,137.805, 137.798,137.786,137.779,137.771,137.759 ,137.751,137.743,137.735,137.726, 137.718,137.71,137.701,137.692,137.683, 137.674,137.665,137.656,137.647,137.637 ,137.623,137.613,137.603,137.593, 137.583,137.573,137.558,137.547,137.531 ,137.52,137.508,137.503,137.502,137.866 ,138.183,138.387,138.748,139.154, 139.492,139.762,139.785,139.796,139.791 ,139.788,139.785,139.782,139.778, 139.775,139.771,139.768,139.765,139.761 ,139.758,139.756,139.753,139.75,139.748 ,139.746,139.743,139.741,139.739, 139.737,139.735,139.733,139.731,139.729 ,139.727,139.724,139.722,139.72,139.717 ,139.715,139.713,139.711,139.707, 139.704,139.701,139.697,139.693,139.689 ,139.686,139.685,139.683)
ORBIT_NUMBER = 12580
ORBITAL_ECCENTRICITY = 0.578
ORBITAL_INCLINATION = 86.87
ORBITAL_SEMIMAJOR_AXIS = 8827.68
PERIAPSIS_ALTITUDE = 334.38
PERIAPSIS_ARGUMENT_ANGLE = 328.23
PERIAPSIS_TIME = 2013-11-24T23:45:36.000Z
SPACECRAFT_ORIENTATION = (0.0,1.0,0.0)
^MEX_ORIENTATION_DESC = "MEX_ORIENTATION_DESC.TXT"
SPACECRAFT_POINTING_MODE = ACROSSTRACK
^MEX_POINTING_DESC = "MEX_POINTING_DESC.TXT"
RIGHT_ASCENSION = -1e+32
DECLINATION = -1e+32
OFFSET_ANGLE = 0.25
SPACECRAFT_SOLAR_DISTANCE = 2.48111e+08
TARGET_NAME = MARS
/* CAMERA DATA ELEMENTS */
DETECTOR_TEMPERATURE = 18.5744
FOCAL_PLANE_TEMPERATURE = 8.3794
INST_CMPRS_NAME = "DISCRETE COSINE TRANSFORMATION (DCT)"
INST_CMPRS_RATIO = 6.60374
INST_CMPRS_QUALITY = 0
INST_CMPRS_QUANTZ_TBL_ID = 0
INSTRUMENT_TEMPERATURE = 11.6418
LENS_TEMPERATURE = 8.7872
MACROPIXEL_SIZE = 1
MISSING_FRAMES = 0
PIXEL_SUBSAMPLING_FLAG = N
SIGNAL_CHAIN_ID = 0
/* RADIOMETRIC DATA ELEMENTS */
BANDWIDTH = 177.0
CENTER_FILTER_WAVELENGTH = 677.5
RADIANCE_OFFSET = 1.77469
RADIANCE_SCALING_FACTOR = 0.0190228
REFLECTANCE_SCALING_FACTOR = 0.000622091
MEX:REFLECTANCE_OFFSET = 0.0580365
/* IMAGE OBJECT DEFINITIONS */
OBJECT = IMAGE
  INTERCHANGE_FORMAT = BINARY
  LINES = 23357
  LINE_SAMPLES = 5405
  SAMPLE_TYPE = UNSIGNED_INTEGER
  SAMPLE_BITS = 8
  BANDS = 1
  BAND_STORAGE_TYPE = BAND_SEQUENTIAL
  MAXIMUM = 255
  MEAN = 117.768
  MINIMUM = 1
  STANDARD_DEVIATION = 18.9287
END_OBJECT = IMAGE
/* MAP OBJECT DEFINITIONS */
OBJECT = IMAGE_MAP_PROJECTION
  ^DATA_SET_MAP_PROJECTION_CATALOG= "DSMAP.CAT"
  A_AXIS_RADIUS = 3396.0
  B_AXIS_RADIUS = 3396.0
  C_AXIS_RADIUS = 3396.0
  CENTER_LATITUDE = 0.0
  CENTER_LONGITUDE = 139.0
  COORDINATE_SYSTEM_NAME = PLANETOGRAPHIC
  COORDINATE_SYSTEM_TYPE = "BODY-FIXED ROTATING"
  EASTERNMOST_LONGITUDE = 139.796
  FIRST_STANDARD_PARALLEL = "N/A"
  LINE_FIRST_PIXEL = 1
  LINE_LAST_PIXEL = 23357
  LINE_PROJECTION_OFFSET = 15698.0
  MAP_PROJECTION_ROTATION = 0.0
  MAP_PROJECTION_TYPE = SINUSOIDAL
  MAP_RESOLUTION = 2370.85521546667
  MAP_SCALE = 0.025
  MAXIMUM_LATITUDE = 6.62185
  MINIMUM_LATITUDE = -3.22999
  POSITIVE_LONGITUDE_DIRECTION = EAST
  REFERENCE_LATITUDE = "N/A"
  REFERENCE_LONGITUDE = "N/A"
  SAMPLE_FIRST_PIXEL = 1
  SAMPLE_LAST_PIXEL = 5405
  SAMPLE_PROJECTION_OFFSET = 3529.0
  SECOND_STANDARD_PARALLEL = "N/A"
  WESTERNMOST_LONGITUDE = 137.502
END_OBJECT = IMAGE_MAP_PROJECTION
END
