PDS_VERSION_ID = PDS3
/* FILE DATA ELEMENTS */
RECORD_TYPE = UNDEFINED
/* POINTERS TO DATA OBJECTS */
^IMAGE = ("HC573_0000_S14.TIF")
/* IDENTIFICATION DATA ELEMENTS */
DATA_SET_ID = "MEX-M-HRSC-4-REFDR-MAPPROJECT-EXT4-V4.0"
DATA_SET_NAME = "MARS EXPRESS HRSC MAP PROJECTED REFDR EXTENSION4 V4.0"
DETECTOR_ID = MEX_HRSC_S1
EVENT_TYPE = "MARS-LOCAL-STEREO-Vo-Ot"
INSTRUMENT_HOST_ID = MEX
INSTRUMENT_HOST_NAME = "MARS EXPRESS"
INSTRUMENT_ID = HRSC
INSTRUMENT_NAME = "HIGH RESOLUTION STEREO CAMERA"
MISSION_NAME = "MARS EXPRESS"
MISSION_PHASE_NAME = ME_Phase_29
PROCESSING_LEVEL_ID = 4
PRODUCT_CREATION_TIME = 2023-01-31T11:51:40.000Z
PRODUCT_ID = "HC573_0000_S14.TIF"
RELEASE_ID = 0003
REVISION_ID = 0000
/* QUALITY DATA ELEMENTS */
DATA_QUALITY_ID = 1
DATA_QUALITY_DESC = "Data calculated based on original SPICE kernels"
/* TIME DATA ELEMENTS */
SPACECRAFT_CLOCK_START_COUNT = "1/0333240998.09046"
SPACECRAFT_CLOCK_STOP_COUNT = "1/0333241296.50007"
START_TIME = 2013-11-22T22:58:18.659Z
STOP_TIME = 2013-11-22T23:01:39.310Z
/* ORBITAL DATA ELEMENTS */
ASCENDING_NODE_LONGITUDE = 337.72
MAXIMUM_RESOLUTION = 0.0223
FOOTPRINT_POINT_LATITUDE = (-3.80645,-3.78435,-3.7674,-3.75121, -3.73572,-3.72091,-3.70667,-3.7058, -3.71824,-3.34308,-2.87147,-2.39519, -2.1064,-1.81951,-1.43304,-0.943434, -0.548592,-0.348736,-0.148931,0.151878, 0.35416,0.555744,0.759881,1.06598, 1.27334,1.48242,1.79045,1.99775,2.20605 ,2.41698,2.62726,2.94583,3.15839, 3.37333,3.69324,3.9146,4.12954,4.34895, 4.56772,4.78838,5.00887,5.232,5.45488, 5.67995,6.01823,6.24526,6.47349,6.58777 ,6.60831,6.59556,6.58496,6.5776,6.56991 ,6.56195,6.55359,6.54486,6.53553, 6.52572,6.50744,6.50611,6.505,6.16204, 5.9351,5.59686,5.3716,5.1489,4.92597, 4.70539,4.48431,4.26564,3.93783,3.7211, 3.50484,3.29038,3.07508,2.86247,2.54384 ,2.33358,2.01826,1.70571,1.49797, 1.29201,1.08558,0.880825,0.677236, 0.371004,0.169212,-0.330959,-0.718014, -0.926537,-1.12477,-1.61501,-2.00377, -2.29246,-2.67447,-2.95886,-3.32031, -3.7153,-3.80794,-3.80645)
FOOTPRINT_POINT_LONGITUDE = (136.996,136.607,136.3,135.998,135.7, 135.407,135.117,135.099,135.093,135.079 ,135.061,135.043,135.031,135.02,135.005 ,134.985,134.968,134.96,134.951,134.939 ,134.93,134.921,134.912,134.899,134.889 ,134.879,134.866,134.856,134.847, 134.837,134.827,134.812,134.802,134.792 ,134.776,134.765,134.755,134.744, 134.733,134.722,134.71,134.699,134.688, 134.676,134.658,134.646,134.634,134.627 ,134.626,135.044,135.367,135.566, 135.767,135.969,136.172,136.377,136.583 ,136.79,137.155,137.181,137.194,137.185 ,137.18,137.171,137.165,137.16,137.154, 137.149,137.144,137.139,137.131,137.127 ,137.122,137.117,137.113,137.109, 137.102,137.098,137.092,137.086,137.083 ,137.079,137.075,137.072,137.068, 137.065,137.061,137.053,137.038,137.044 ,137.042,137.036,137.032,137.028, 137.023,137.019,137.002,137.013,137.012 ,136.996)
ORBIT_NUMBER = 12573
ORBITAL_ECCENTRICITY = 0.578
ORBITAL_INCLINATION = 86.88
ORBITAL_SEMIMAJOR_AXIS = 8829.99
PERIAPSIS_ALTITUDE = 334.55
PERIAPSIS_ARGUMENT_ANGLE = 329.42
PERIAPSIS_TIME = 2013-11-22T22:50:28.000Z
SPACECRAFT_ORIENTATION = (0.0,1.0,0.0)
^MEX_ORIENTATION_DESC = "MEX_ORIENTATION_DESC.TXT"
SPACECRAFT_POINTING_MODE = ACROSSTRACK
^MEX_POINTING_DESC = "MEX_POINTING_DESC.TXT"
RIGHT_ASCENSION = -1e+32
DECLINATION = -1e+32
OFFSET_ANGLE = -1.5
SPACECRAFT_SOLAR_DISTANCE = 2.47991e+08
TARGET_NAME = MARS
/* CAMERA DATA ELEMENTS */
DETECTOR_TEMPERATURE = 17.9627
FOCAL_PLANE_TEMPERATURE = 8.7872
INST_CMPRS_NAME = "DISCRETE COSINE TRANSFORMATION (DCT)"
INST_CMPRS_RATIO = 8.59794
INST_CMPRS_QUALITY = 0
INST_CMPRS_QUANTZ_TBL_ID = 0
INSTRUMENT_TEMPERATURE = 12.0496
LENS_TEMPERATURE = 9.3989
MACROPIXEL_SIZE = 1
MISSING_FRAMES = 0
PIXEL_SUBSAMPLING_FLAG = N
SIGNAL_CHAIN_ID = 2
/* RADIOMETRIC DATA ELEMENTS */
BANDWIDTH = 180.0
CENTER_FILTER_WAVELENGTH = 677.0
RADIANCE_OFFSET = 2.0381
RADIANCE_SCALING_FACTOR = 0.0173424
REFLECTANCE_SCALING_FACTOR = 0.000556442
MEX:REFLECTANCE_OFFSET = 0.0653941
/* IMAGE OBJECT DEFINITIONS */
OBJECT = IMAGE
  INTERCHANGE_FORMAT = BINARY
  LINES = 24584
  LINE_SAMPLES = 5369
  SAMPLE_TYPE = UNSIGNED_INTEGER
  SAMPLE_BITS = 8
  BANDS = 1
  BAND_STORAGE_TYPE = BAND_SEQUENTIAL
  MAXIMUM = 255
  MEAN = 118.383
  MINIMUM = 1
  STANDARD_DEVIATION = 17.026
END_OBJECT = IMAGE
/* MAP OBJECT DEFINITIONS */
OBJECT = IMAGE_MAP_PROJECTION
  ^DATA_SET_MAP_PROJECTION_CATALOG= "DSMAP.CAT"
  A_AXIS_RADIUS = 3396.0
  B_AXIS_RADIUS = 3396.0
  C_AXIS_RADIUS = 3396.0
  CENTER_LATITUDE = 0.0
  CENTER_LONGITUDE = 136.0
  COORDINATE_SYSTEM_NAME = PLANETOGRAPHIC
  COORDINATE_SYSTEM_TYPE = "BODY-FIXED ROTATING"
  EASTERNMOST_LONGITUDE = 137.194
  FIRST_STANDARD_PARALLEL = "N/A"
  LINE_FIRST_PIXEL = 1
  LINE_LAST_PIXEL = 24584
  LINE_PROJECTION_OFFSET = 15642.0
  MAP_PROJECTION_ROTATION = 0.0
  MAP_PROJECTION_TYPE = SINUSOIDAL
  MAP_RESOLUTION = 2370.85521546667
  MAP_SCALE = 0.025
  MAXIMUM_LATITUDE = 6.60831
  MINIMUM_LATITUDE = -3.80794
  POSITIVE_LONGITUDE_DIRECTION = EAST
  REFERENCE_LATITUDE = "N/A"
  REFERENCE_LONGITUDE = "N/A"
  SAMPLE_FIRST_PIXEL = 1
  SAMPLE_LAST_PIXEL = 5369
  SAMPLE_PROJECTION_OFFSET = 2944.0
  SECOND_STANDARD_PARALLEL = "N/A"
  WESTERNMOST_LONGITUDE = 134.626
END_OBJECT = IMAGE_MAP_PROJECTION
END
