PDS_VERSION_ID = PDS3
/* FILE DATA ELEMENTS */
RECORD_TYPE = UNDEFINED
/* POINTERS TO DATA OBJECTS */
^IMAGE = ("HC571_0000_S24.TIF")
/* IDENTIFICATION DATA ELEMENTS */
DATA_SET_ID = "MEX-M-HRSC-4-REFDR-MAPPROJECT-EXT4-V4.0"
DATA_SET_NAME = "MARS EXPRESS HRSC MAP PROJECTED REFDR EXTENSION4 V4.0"
DETECTOR_ID = MEX_HRSC_S2
EVENT_TYPE = "MARS-LOCAL-STEREO-Eb-Tc-Ts"
INSTRUMENT_HOST_ID = MEX
INSTRUMENT_HOST_NAME = "MARS EXPRESS"
INSTRUMENT_ID = HRSC
INSTRUMENT_NAME = "HIGH RESOLUTION STEREO CAMERA"
MISSION_NAME = "MARS EXPRESS"
MISSION_PHASE_NAME = ME_Phase_29
PROCESSING_LEVEL_ID = 4
PRODUCT_CREATION_TIME = 2023-01-31T11:51:40.000Z
PRODUCT_ID = "HC571_0000_S24.TIF"
RELEASE_ID = 0003
REVISION_ID = 0000
/* QUALITY DATA ELEMENTS */
DATA_QUALITY_ID = 1
DATA_QUALITY_DESC = "Data calculated based on original SPICE kernels"
/* TIME DATA ELEMENTS */
SPACECRAFT_CLOCK_START_COUNT = "1/0333190290.09047"
SPACECRAFT_CLOCK_STOP_COUNT = "1/0333190396.35123"
START_TIME = 2013-11-22T08:51:34.659Z
STOP_TIME = 2013-11-22T08:52:18.639Z
/* ORBITAL DATA ELEMENTS */
ASCENDING_NODE_LONGITUDE = 337.77
MAXIMUM_RESOLUTION = 0.0142
FOOTPRINT_POINT_LATITUDE = (-29.1987,-29.1985,-29.198,-29.1975, -29.1968,-29.1956,-29.1946,-29.1934, -29.1921,-29.1906,-29.1891,-29.1869, -29.1867,-29.1516,-29.0105,-28.9273, -28.8424,-28.7567,-28.6712,-28.5853, -28.4409,-28.3262,-28.2417,-28.1562, -28.0703,-27.9845,-27.8986,-27.8126, -27.7552,-27.6977,-27.6116,-27.4688, -27.3829,-27.3255,-27.2395,-27.1821, -27.1238,-27.0384,-26.9237,-26.8661, -26.8087,-26.7512,-26.6937,-26.6076, -26.5215,-26.4641,-26.4066,-26.3202, -26.2915,-26.2827,-26.2841,-26.2854, -26.2867,-26.2877,-26.2881,-26.2892, -26.2898,-26.2899,-26.2901,-26.2903, -26.2909,-26.291,-26.2912,-26.2912, -26.2916,-26.3491,-26.4355,-26.4931, -26.5507,-26.637,-26.7231,-26.8093, -26.8955,-26.9817,-27.0677,-27.1539, -27.2398,-27.3547,-27.4122,-27.5271, -27.6132,-27.6706,-27.7281,-27.8143, -27.9002,-27.986,-28.072,-28.158, -28.244,-28.33,-28.4447,-28.5879, -28.6735,-28.7592,-28.845,-28.9594, -29.0452,-29.1311,-29.1597,-29.1987)
FOOTPRINT_POINT_LONGITUDE = (339.673,339.529,339.385,339.28,339.175 ,339.017,338.913,338.808,338.703, 338.598,338.493,338.361,338.348,338.331 ,338.334,338.336,338.338,338.339, 338.341,338.342,338.344,338.345,338.347 ,338.348,338.349,338.351,338.352, 338.353,338.354,338.354,338.355,338.357 ,338.359,338.359,338.36,338.361,338.361 ,338.363,338.364,338.365,338.365, 338.366,338.366,338.367,338.368,338.369 ,338.37,338.37,338.371,338.371,338.487, 338.604,338.747,338.864,338.954,339.045 ,339.149,339.24,339.305,339.396,339.512 ,339.59,339.668,339.681,339.687,339.687 ,339.687,339.687,339.687,339.687, 339.687,339.687,339.687,339.687,339.687 ,339.686,339.686,339.686,339.686, 339.686,339.686,339.686,339.686,339.686 ,339.685,339.685,339.685,339.685, 339.685,339.685,339.685,339.684,339.684 ,339.684,339.684,339.684,339.684, 339.684,339.684,339.673)
ORBIT_NUMBER = 12571
ORBITAL_ECCENTRICITY = 0.578
ORBITAL_INCLINATION = 86.9
ORBITAL_SEMIMAJOR_AXIS = 8825.52
PERIAPSIS_ALTITUDE = 334.44
PERIAPSIS_ARGUMENT_ANGLE = 329.74
PERIAPSIS_TIME = 2013-11-22T08:51:49.000Z
SPACECRAFT_ORIENTATION = (0.0,1.0,0.0)
^MEX_ORIENTATION_DESC = "MEX_ORIENTATION_DESC.TXT"
SPACECRAFT_POINTING_MODE = NADIR
^MEX_POINTING_DESC = "MEX_POINTING_DESC.TXT"
RIGHT_ASCENSION = -1e+32
DECLINATION = -1e+32
OFFSET_ANGLE = -1e+32
SPACECRAFT_SOLAR_DISTANCE = 2.47955e+08
TARGET_NAME = MARS
/* CAMERA DATA ELEMENTS */
DETECTOR_TEMPERATURE = 18.3705
FOCAL_PLANE_TEMPERATURE = 7.7677
INST_CMPRS_NAME = "DISCRETE COSINE TRANSFORMATION (DCT)"
INST_CMPRS_RATIO = 7.8123
INST_CMPRS_QUALITY = 0
INST_CMPRS_QUANTZ_TBL_ID = 0
INSTRUMENT_TEMPERATURE = 11.0301
LENS_TEMPERATURE = 8.3794
MACROPIXEL_SIZE = 1
MISSING_FRAMES = 0
PIXEL_SUBSAMPLING_FLAG = N
SIGNAL_CHAIN_ID = 1
/* RADIOMETRIC DATA ELEMENTS */
BANDWIDTH = 178.0
CENTER_FILTER_WAVELENGTH = 679.0
RADIANCE_OFFSET = 0.414686
RADIANCE_SCALING_FACTOR = 0.00867318
REFLECTANCE_SCALING_FACTOR = 0.000282393
MEX:REFLECTANCE_OFFSET = 0.0135019
/* IMAGE OBJECT DEFINITIONS */
OBJECT = IMAGE
  INTERCHANGE_FORMAT = BINARY
  LINES = 13661
  LINE_SAMPLES = 5663
  SAMPLE_TYPE = UNSIGNED_INTEGER
  SAMPLE_BITS = 8
  BANDS = 1
  BAND_STORAGE_TYPE = BAND_SEQUENTIAL
  MAXIMUM = 255
  MEAN = 86.1169
  MINIMUM = 1
  STANDARD_DEVIATION = 17.5886
END_OBJECT = IMAGE
/* MAP OBJECT DEFINITIONS */
OBJECT = IMAGE_MAP_PROJECTION
  ^DATA_SET_MAP_PROJECTION_CATALOG= "DSMAP.CAT"
  A_AXIS_RADIUS = 3396.0
  B_AXIS_RADIUS = 3396.0
  C_AXIS_RADIUS = 3396.0
  CENTER_LATITUDE = 0.0
  CENTER_LONGITUDE = 339.0
  COORDINATE_SYSTEM_NAME = PLANETOGRAPHIC
  COORDINATE_SYSTEM_TYPE = "BODY-FIXED ROTATING"
  EASTERNMOST_LONGITUDE = 339.687
  FIRST_STANDARD_PARALLEL = "N/A"
  LINE_FIRST_PIXEL = 1
  LINE_LAST_PIXEL = 13661
  LINE_PROJECTION_OFFSET = -124612.0
  MAP_PROJECTION_ROTATION = 0.0
  MAP_PROJECTION_TYPE = SINUSOIDAL
  MAP_RESOLUTION = 4741.71043093333
  MAP_SCALE = 0.0125
  MAXIMUM_LATITUDE = -26.2827
  MINIMUM_LATITUDE = -29.1987
  POSITIVE_LONGITUDE_DIRECTION = EAST
  REFERENCE_LATITUDE = "N/A"
  REFERENCE_LONGITUDE = "N/A"
  SAMPLE_FIRST_PIXEL = 1
  SAMPLE_LAST_PIXEL = 5663
  SAMPLE_PROJECTION_OFFSET = 2745.0
  SECOND_STANDARD_PARALLEL = "N/A"
  WESTERNMOST_LONGITUDE = 338.331
END_OBJECT = IMAGE_MAP_PROJECTION
END
