PDS_VERSION_ID = PDS3
/* FILE DATA ELEMENTS */
RECORD_TYPE = UNDEFINED
/* POINTERS TO DATA OBJECTS */
^IMAGE = ("HC571_0000_P24.TIF")
/* IDENTIFICATION DATA ELEMENTS */
DATA_SET_ID = "MEX-M-HRSC-4-REFDR-MAPPROJECT-EXT4-V4.0"
DATA_SET_NAME = "MARS EXPRESS HRSC MAP PROJECTED REFDR EXTENSION4 V4.0"
DETECTOR_ID = MEX_HRSC_P2
EVENT_TYPE = "MARS-LOCAL-STEREO-Eb-Tc-Ts"
INSTRUMENT_HOST_ID = MEX
INSTRUMENT_HOST_NAME = "MARS EXPRESS"
INSTRUMENT_ID = HRSC
INSTRUMENT_NAME = "HIGH RESOLUTION STEREO CAMERA"
MISSION_NAME = "MARS EXPRESS"
MISSION_PHASE_NAME = ME_Phase_29
PROCESSING_LEVEL_ID = 4
PRODUCT_CREATION_TIME = 2023-01-31T11:51:40.000Z
PRODUCT_ID = "HC571_0000_P24.TIF"
RELEASE_ID = 0003
REVISION_ID = 0000
/* QUALITY DATA ELEMENTS */
DATA_QUALITY_ID = 1
DATA_QUALITY_DESC = "Data calculated based on original SPICE kernels"
/* TIME DATA ELEMENTS */
SPACECRAFT_CLOCK_START_COUNT = "1/0333190290.09047"
SPACECRAFT_CLOCK_STOP_COUNT = "1/0333190396.35123"
START_TIME = 2013-11-22T08:51:44.923Z
STOP_TIME = 2013-11-22T08:52:29.054Z
/* ORBITAL DATA ELEMENTS */
ASCENDING_NODE_LONGITUDE = 337.77
MAXIMUM_RESOLUTION = 0.0275
FOOTPRINT_POINT_LATITUDE = (-29.1886,-29.1884,-29.1881,-29.1875, -29.1866,-29.1859,-29.185,-29.1842, -29.1831,-29.1819,-29.1799,-29.1782, -29.178,-29.1546,-29.041,-28.9568, -28.8732,-28.76,-28.6466,-28.5611, -28.4179,-28.3041,-28.2195,-28.1345, -28.0492,-27.9639,-27.8785,-27.7931, -27.679,-27.5367,-27.4514,-27.3661, -27.2806,-27.1951,-27.1381,-27.0805, -26.9955,-26.8815,-26.8244,-26.7674, -26.7103,-26.5964,-26.5109,-26.4254, -26.3683,-26.3113,-26.2827,-26.2718, -26.2729,-26.274,-26.2748,-26.2758, -26.2767,-26.2774,-26.2778,-26.278, -26.2782,-26.2784,-26.2788,-26.2789, -26.2789,-26.2793,-26.3364,-26.3936, -26.4507,-26.5364,-26.5935,-26.6791, -26.7647,-26.8503,-26.9359,-27.0214, -27.1069,-27.1638,-27.2208,-27.2779, -27.3635,-27.4492,-27.5062,-27.5633, -27.6203,-27.706,-27.7915,-27.8768, -27.9622,-28.0477,-28.1331,-28.2186, -28.2756,-28.361,-28.4181,-28.4751, -28.5605,-28.7025,-28.7878,-28.9301, -29.0155,-29.1294,-29.1579,-29.1886)
FOOTPRINT_POINT_LONGITUDE = (339.669,339.528,339.426,339.285, 339.131,339.029,338.926,338.837,338.734 ,338.632,338.478,338.363,338.35,338.335 ,338.337,338.338,338.34,338.342,338.344 ,338.346,338.347,338.349,338.35,338.352 ,338.353,338.354,338.355,338.356, 338.358,338.359,338.36,338.361,338.362, 338.363,338.364,338.364,338.366,338.367 ,338.367,338.368,338.369,338.37,338.371 ,338.371,338.372,338.373,338.373, 338.373,338.474,338.588,338.677,338.817 ,338.957,339.046,339.147,339.223, 339.312,339.439,339.553,339.668,339.681 ,339.685,339.685,339.685,339.685, 339.685,339.685,339.684,339.684,339.684 ,339.684,339.684,339.684,339.684, 339.684,339.684,339.683,339.683,339.683 ,339.683,339.683,339.683,339.682, 339.682,339.682,339.682,339.682,339.682 ,339.682,339.681,339.681,339.681, 339.681,339.681,339.681,339.68,339.68, 339.68,339.68,339.669)
ORBIT_NUMBER = 12571
ORBITAL_ECCENTRICITY = 0.578
ORBITAL_INCLINATION = 86.9
ORBITAL_SEMIMAJOR_AXIS = 8825.52
PERIAPSIS_ALTITUDE = 334.44
PERIAPSIS_ARGUMENT_ANGLE = 329.74
PERIAPSIS_TIME = 2013-11-22T08:51:49.000Z
SPACECRAFT_ORIENTATION = (0.0,1.0,0.0)
^MEX_ORIENTATION_DESC = "MEX_ORIENTATION_DESC.TXT"
SPACECRAFT_POINTING_MODE = NADIR
^MEX_POINTING_DESC = "MEX_POINTING_DESC.TXT"
RIGHT_ASCENSION = -1e+32
DECLINATION = -1e+32
OFFSET_ANGLE = -1e+32
SPACECRAFT_SOLAR_DISTANCE = 2.47955e+08
TARGET_NAME = MARS
/* CAMERA DATA ELEMENTS */
DETECTOR_TEMPERATURE = 18.3705
FOCAL_PLANE_TEMPERATURE = 7.7677
INST_CMPRS_NAME = "DISCRETE COSINE TRANSFORMATION (DCT)"
INST_CMPRS_RATIO = 10.1908
INST_CMPRS_QUALITY = 0
INST_CMPRS_QUANTZ_TBL_ID = 0
INSTRUMENT_TEMPERATURE = 11.0301
LENS_TEMPERATURE = 8.3794
MACROPIXEL_SIZE = 2
MISSING_FRAMES = 0
PIXEL_SUBSAMPLING_FLAG = N
SIGNAL_CHAIN_ID = 3
/* RADIOMETRIC DATA ELEMENTS */
BANDWIDTH = 177.0
CENTER_FILTER_WAVELENGTH = 676.5
RADIANCE_OFFSET = 0.523282
RADIANCE_SCALING_FACTOR = 0.00798033
REFLECTANCE_SCALING_FACTOR = 0.00026015
MEX:REFLECTANCE_OFFSET = 0.0170584
/* IMAGE OBJECT DEFINITIONS */
OBJECT = IMAGE
  INTERCHANGE_FORMAT = BINARY
  LINES = 6831
  LINE_SAMPLES = 2832
  SAMPLE_TYPE = UNSIGNED_INTEGER
  SAMPLE_BITS = 8
  BANDS = 1
  BAND_STORAGE_TYPE = BAND_SEQUENTIAL
  MAXIMUM = 255
  MEAN = 80.7326
  MINIMUM = 1
  STANDARD_DEVIATION = 17.3439
END_OBJECT = IMAGE
/* MAP OBJECT DEFINITIONS */
OBJECT = IMAGE_MAP_PROJECTION
  ^DATA_SET_MAP_PROJECTION_CATALOG= "DSMAP.CAT"
  A_AXIS_RADIUS = 3396.0
  B_AXIS_RADIUS = 3396.0
  C_AXIS_RADIUS = 3396.0
  CENTER_LATITUDE = 0.0
  CENTER_LONGITUDE = 339.0
  COORDINATE_SYSTEM_NAME = PLANETOGRAPHIC
  COORDINATE_SYSTEM_TYPE = "BODY-FIXED ROTATING"
  EASTERNMOST_LONGITUDE = 339.685
  FIRST_STANDARD_PARALLEL = "N/A"
  LINE_FIRST_PIXEL = 1
  LINE_LAST_PIXEL = 6831
  LINE_PROJECTION_OFFSET = -62306.25
  MAP_PROJECTION_ROTATION = 0.0
  MAP_PROJECTION_TYPE = SINUSOIDAL
  MAP_RESOLUTION = 2370.85521546667
  MAP_SCALE = 0.025
  MAXIMUM_LATITUDE = -26.2718
  MINIMUM_LATITUDE = -29.1886
  POSITIVE_LONGITUDE_DIRECTION = EAST
  REFERENCE_LATITUDE = "N/A"
  REFERENCE_LONGITUDE = "N/A"
  SAMPLE_FIRST_PIXEL = 1
  SAMPLE_LAST_PIXEL = 2832
  SAMPLE_PROJECTION_OFFSET = 1372.25
  SECOND_STANDARD_PARALLEL = "N/A"
  WESTERNMOST_LONGITUDE = 338.335
END_OBJECT = IMAGE_MAP_PROJECTION
END
