PDS_VERSION_ID = PDS3
/* FILE DATA ELEMENTS */
RECORD_TYPE = UNDEFINED
/* POINTERS TO DATA OBJECTS */
^IMAGE = ("HC571_0000_ND4.TIF")
/* IDENTIFICATION DATA ELEMENTS */
DATA_SET_ID = "MEX-M-HRSC-4-REFDR-MAPPROJECT-EXT4-V4.0"
DATA_SET_NAME = "MARS EXPRESS HRSC MAP PROJECTED REFDR EXTENSION4 V4.0"
DETECTOR_ID = MEX_HRSC_NADIR
EVENT_TYPE = "MARS-LOCAL-STEREO-Eb-Tc-Ts"
INSTRUMENT_HOST_ID = MEX
INSTRUMENT_HOST_NAME = "MARS EXPRESS"
INSTRUMENT_ID = HRSC
INSTRUMENT_NAME = "HIGH RESOLUTION STEREO CAMERA"
MISSION_NAME = "MARS EXPRESS"
MISSION_PHASE_NAME = ME_Phase_29
PROCESSING_LEVEL_ID = 4
PRODUCT_CREATION_TIME = 2023-01-31T11:51:40.000Z
PRODUCT_ID = "HC571_0000_ND4.TIF"
RELEASE_ID = 0003
REVISION_ID = 0000
/* QUALITY DATA ELEMENTS */
DATA_QUALITY_ID = 1
DATA_QUALITY_DESC = "Data calculated based on original SPICE kernels"
/* TIME DATA ELEMENTS */
SPACECRAFT_CLOCK_START_COUNT = "1/0333190290.09047"
SPACECRAFT_CLOCK_STOP_COUNT = "1/0333190396.35123"
START_TIME = 2013-11-22T08:52:04.664Z
STOP_TIME = 2013-11-22T08:52:48.644Z
/* ORBITAL DATA ELEMENTS */
ASCENDING_NODE_LONGITUDE = 337.77
MAXIMUM_RESOLUTION = 0.0134
FOOTPRINT_POINT_LATITUDE = (-29.1611,-29.1607,-29.1604,-29.16, -29.1595,-29.159,-29.1583,-29.1572, -29.1564,-29.1553,-29.1543,-29.153, -29.152,-29.1518,-29.1509,-29.0936, -28.979,-28.8932,-28.8073,-28.7214, -28.6355,-28.5209,-28.4637,-28.4064, -28.2918,-28.206,-28.0628,-27.9769, -27.891,-27.7765,-27.6906,-27.6047, -27.5189,-27.433,-27.3471,-27.2327, -27.1182,-27.0323,-26.9179,-26.832, -26.6889,-26.5459,-26.4315,-26.317, -26.2884,-26.2797,-26.2807,-26.2816, -26.2823,-26.2831,-26.2836,-26.2841, -26.2845,-26.2849,-26.2851,-26.2853, -26.2854,-26.2855,-26.2855,-26.2857, -26.4002,-26.4575,-26.5148,-26.6007, -26.6867,-26.7726,-26.8585,-26.9445, -27.0018,-27.0591,-27.1451,-27.2024, -27.2597,-27.317,-27.3743,-27.4316, -27.5176,-27.6036,-27.6609,-27.7183, -27.7756,-27.8616,-27.9476,-28.0336, -28.1196,-28.2056,-28.2916,-28.3489, -28.4063,-28.4636,-28.5496,-28.6357, -28.7217,-28.8077,-28.8937,-28.9511, -29.0371,-29.1231,-29.1518,-29.1611)
FOOTPRINT_POINT_LONGITUDE = (339.667,339.537,339.433,339.342, 339.238,339.147,339.043,338.9,338.797, 338.68,338.576,338.458,338.367,338.354, 338.337,338.337,338.339,338.342,338.343 ,338.344,338.346,338.347,338.348, 338.348,338.349,338.351,338.353,338.354 ,338.355,338.357,338.358,338.359,338.36 ,338.361,338.362,338.363,338.364, 338.365,338.366,338.367,338.368,338.369 ,338.37,338.371,338.372,338.372,338.488 ,338.605,338.708,338.838,338.928, 339.032,339.136,339.252,339.33,339.434, 339.563,339.667,339.68,339.686,339.686, 339.686,339.685,339.685,339.685,339.685 ,339.684,339.684,339.684,339.684, 339.684,339.684,339.684,339.683,339.683 ,339.683,339.683,339.682,339.682, 339.682,339.682,339.682,339.681,339.681 ,339.681,339.681,339.68,339.68,339.68, 339.68,339.68,339.679,339.679,339.679, 339.679,339.678,339.678,339.678,339.678 ,339.667)
ORBIT_NUMBER = 12571
ORBITAL_ECCENTRICITY = 0.578
ORBITAL_INCLINATION = 86.9
ORBITAL_SEMIMAJOR_AXIS = 8825.52
PERIAPSIS_ALTITUDE = 334.44
PERIAPSIS_ARGUMENT_ANGLE = 329.74
PERIAPSIS_TIME = 2013-11-22T08:51:49.000Z
SPACECRAFT_ORIENTATION = (0.0,1.0,0.0)
^MEX_ORIENTATION_DESC = "MEX_ORIENTATION_DESC.TXT"
SPACECRAFT_POINTING_MODE = NADIR
^MEX_POINTING_DESC = "MEX_POINTING_DESC.TXT"
RIGHT_ASCENSION = -1e+32
DECLINATION = -1e+32
OFFSET_ANGLE = -1e+32
SPACECRAFT_SOLAR_DISTANCE = 2.47955e+08
TARGET_NAME = MARS
/* CAMERA DATA ELEMENTS */
DETECTOR_TEMPERATURE = 18.3705
FOCAL_PLANE_TEMPERATURE = 7.7677
INST_CMPRS_NAME = "DISCRETE COSINE TRANSFORMATION (DCT)"
INST_CMPRS_RATIO = 6.68316
INST_CMPRS_QUALITY = 0
INST_CMPRS_QUANTZ_TBL_ID = 0
INSTRUMENT_TEMPERATURE = 11.0301
LENS_TEMPERATURE = 8.3794
MACROPIXEL_SIZE = 1
MISSING_FRAMES = 0
PIXEL_SUBSAMPLING_FLAG = N
SIGNAL_CHAIN_ID = 0
/* RADIOMETRIC DATA ELEMENTS */
BANDWIDTH = 177.0
CENTER_FILTER_WAVELENGTH = 677.5
RADIANCE_OFFSET = 0.274418
RADIANCE_SCALING_FACTOR = 0.00820565
REFLECTANCE_SCALING_FACTOR = 0.000268005
MEX:REFLECTANCE_OFFSET = 0.0089628
/* IMAGE OBJECT DEFINITIONS */
OBJECT = IMAGE
  INTERCHANGE_FORMAT = BINARY
  LINES = 13661
  LINE_SAMPLES = 5663
  SAMPLE_TYPE = UNSIGNED_INTEGER
  SAMPLE_BITS = 8
  BANDS = 1
  BAND_STORAGE_TYPE = BAND_SEQUENTIAL
  MAXIMUM = 255
  MEAN = 88.6172
  MINIMUM = 1
  STANDARD_DEVIATION = 17.0785
END_OBJECT = IMAGE
/* MAP OBJECT DEFINITIONS */
OBJECT = IMAGE_MAP_PROJECTION
  ^DATA_SET_MAP_PROJECTION_CATALOG= "DSMAP.CAT"
  A_AXIS_RADIUS = 3396.0
  B_AXIS_RADIUS = 3396.0
  C_AXIS_RADIUS = 3396.0
  CENTER_LATITUDE = 0.0
  CENTER_LONGITUDE = 339.0
  COORDINATE_SYSTEM_NAME = PLANETOGRAPHIC
  COORDINATE_SYSTEM_TYPE = "BODY-FIXED ROTATING"
  EASTERNMOST_LONGITUDE = 339.686
  FIRST_STANDARD_PARALLEL = "N/A"
  LINE_FIRST_PIXEL = 1
  LINE_LAST_PIXEL = 13661
  LINE_PROJECTION_OFFSET = -124612.0
  MAP_PROJECTION_ROTATION = 0.0
  MAP_PROJECTION_TYPE = SINUSOIDAL
  MAP_RESOLUTION = 4741.71043093333
  MAP_SCALE = 0.0125
  MAXIMUM_LATITUDE = -26.2797
  MINIMUM_LATITUDE = -29.1611
  POSITIVE_LONGITUDE_DIRECTION = EAST
  REFERENCE_LATITUDE = "N/A"
  REFERENCE_LONGITUDE = "N/A"
  SAMPLE_FIRST_PIXEL = 1
  SAMPLE_LAST_PIXEL = 5663
  SAMPLE_PROJECTION_OFFSET = 2745.0
  SECOND_STANDARD_PARALLEL = "N/A"
  WESTERNMOST_LONGITUDE = 338.337
END_OBJECT = IMAGE_MAP_PROJECTION
END
