PDS_VERSION_ID = PDS3
/* FILE DATA ELEMENTS */
RECORD_TYPE = UNDEFINED
/* POINTERS TO DATA OBJECTS */
^IMAGE = ("HC567_0000_IR4.TIF")
/* IDENTIFICATION DATA ELEMENTS */
DATA_SET_ID = "MEX-M-HRSC-4-REFDR-MAPPROJECT-EXT4-V4.0"
DATA_SET_NAME = "MARS EXPRESS HRSC MAP PROJECTED REFDR EXTENSION4 V4.0"
DETECTOR_ID = MEX_HRSC_IR
EVENT_TYPE = "MARS-REGIONAL-MAPPING-Im-Fl"
INSTRUMENT_HOST_ID = MEX
INSTRUMENT_HOST_NAME = "MARS EXPRESS"
INSTRUMENT_ID = HRSC
INSTRUMENT_NAME = "HIGH RESOLUTION STEREO CAMERA"
MISSION_NAME = "MARS EXPRESS"
MISSION_PHASE_NAME = ME_Phase_29
PROCESSING_LEVEL_ID = 4
PRODUCT_CREATION_TIME = 2023-01-31T11:51:40.000Z
PRODUCT_ID = "HC567_0000_IR4.TIF"
RELEASE_ID = 0003
REVISION_ID = 0000
/* QUALITY DATA ELEMENTS */
DATA_QUALITY_ID = 1
DATA_QUALITY_DESC = "Data calculated based on original SPICE kernels"
/* TIME DATA ELEMENTS */
SPACECRAFT_CLOCK_START_COUNT = "1/0333089874.09055"
SPACECRAFT_CLOCK_STOP_COUNT = "1/0333090120.05633"
START_TIME = 2013-11-21T04:59:01.551Z
STOP_TIME = 2013-11-21T05:01:53.990Z
/* ORBITAL DATA ELEMENTS */
ASCENDING_NODE_LONGITUDE = 337.84
MAXIMUM_RESOLUTION = 0.0647
FOOTPRINT_POINT_LATITUDE = (-14.6564,-14.6593,-14.6613,-14.6638, -14.666,-14.6681,-14.6705,-14.6706, -14.6617,-14.4665,-14.1742,-13.7858, -13.3003,-12.9141,-12.6243,-12.3374, -11.95,-11.7533,-11.5566,-11.3603, -11.0663,-10.7709,-10.4714,-10.2717, -10.072,-9.87254,-9.67008,-9.46638, -9.26266,-9.05877,-8.85543,-8.64925, -8.44185,-8.131,-7.92511,-7.71461, -7.50499,-7.2944,-6.97912,-6.76462, -6.55001,-6.33533,-6.01242,-5.7946, -5.57701,-5.36115,-5.14182,-4.92103, -4.5912,-4.48063,-4.47841,-4.47286, -4.46978,-4.46278,-4.45824,-4.4531, -4.45288,-4.45393,-4.78534,-5.00642, -5.33687,-5.55412,-5.77041,-5.98779, -6.20308,-6.41642,-6.62948,-6.84385, -7.16183,-7.37327,-7.58524,-7.90087, -8.10793,-8.41926,-8.62683,-8.83318, -9.03665,-9.24024,-9.44428,-9.75032, -9.9508,-10.1509,-10.3497,-10.5504, -10.7502,-10.9468,-11.147,-11.5368, -11.831,-12.2193,-12.5081,-12.8937, -13.1897,-13.3872,-13.6801,-13.9712, -14.1661,-14.5483,-14.6463,-14.6564)
FOOTPRINT_POINT_LONGITUDE = (28.4026,28.1156,27.9066,27.6581, 27.4487,27.239,27.0156,27.0024,27.0026, 26.9997,26.9951,26.9887,26.9809,26.9739 ,26.9688,26.9626,26.9562,26.9522, 26.9483,26.9442,26.938,26.9316,26.9246, 26.92,26.9155,26.9109,26.9062,26.9013, 26.8965,26.8918,26.8869,26.8817,26.8764 ,26.8685,26.8629,26.8577,26.8515, 26.8458,26.8371,26.8312,26.8252,26.8193 ,26.8102,26.8037,26.7972,26.7901, 26.7832,26.7762,26.7653,26.7617,26.7616 ,27.1122,27.3198,27.7826,28.0696, 28.4519,28.4679,28.4732,28.47,28.4679, 28.4649,28.4629,28.4605,28.4583,28.4564 ,28.4544,28.4522,28.4503,28.4479, 28.4465,28.4452,28.4429,28.4414,28.4392 ,28.4376,28.436,28.4347,28.4332,28.4319 ,28.4296,28.4283,28.4271,28.4253, 28.4241,28.4225,28.4207,28.4208,28.4173 ,28.4151,28.4129,28.4111,28.4087, 28.4089,28.409,28.408,28.4062,28.4051, 28.4003,28.3999,28.4026)
ORBIT_NUMBER = 12567
ORBITAL_ECCENTRICITY = 0.578
ORBITAL_INCLINATION = 86.88
ORBITAL_SEMIMAJOR_AXIS = 8831.95
PERIAPSIS_ALTITUDE = 334.73
PERIAPSIS_ARGUMENT_ANGLE = 330.44
PERIAPSIS_TIME = 2013-11-21T04:54:44.000Z
SPACECRAFT_ORIENTATION = (0.0,1.0,0.0)
^MEX_ORIENTATION_DESC = "MEX_ORIENTATION_DESC.TXT"
SPACECRAFT_POINTING_MODE = ACROSSTRACK
^MEX_POINTING_DESC = "MEX_POINTING_DESC.TXT"
RIGHT_ASCENSION = -1e+32
DECLINATION = -1e+32
OFFSET_ANGLE = 0.1
SPACECRAFT_SOLAR_DISTANCE = 2.47883e+08
TARGET_NAME = MARS
/* CAMERA DATA ELEMENTS */
DETECTOR_TEMPERATURE = 16.3315
FOCAL_PLANE_TEMPERATURE = 7.9716
INST_CMPRS_NAME = "DISCRETE COSINE TRANSFORMATION (DCT)"
INST_CMPRS_RATIO = 8.40029
INST_CMPRS_QUALITY = 0
INST_CMPRS_QUANTZ_TBL_ID = 0
INSTRUMENT_TEMPERATURE = 11.4379
LENS_TEMPERATURE = 8.9911
MACROPIXEL_SIZE = 4
MISSING_FRAMES = 0
PIXEL_SUBSAMPLING_FLAG = N
SIGNAL_CHAIN_ID = 2
/* RADIOMETRIC DATA ELEMENTS */
BANDWIDTH = 81.0
CENTER_FILTER_WAVELENGTH = 955.5
RADIANCE_OFFSET = 0.169379
RADIANCE_SCALING_FACTOR = 0.00462074
REFLECTANCE_SCALING_FACTOR = 0.000612538
MEX:REFLECTANCE_OFFSET = 0.0224534
/* IMAGE OBJECT DEFINITIONS */
OBJECT = IMAGE
  INTERCHANGE_FORMAT = BINARY
  LINES = 12102
  LINE_SAMPLES = 1911
  SAMPLE_TYPE = UNSIGNED_INTEGER
  SAMPLE_BITS = 8
  BANDS = 1
  BAND_STORAGE_TYPE = BAND_SEQUENTIAL
  MAXIMUM = 255
  MEAN = 74.5962
  MINIMUM = 1
  STANDARD_DEVIATION = 33.8495
END_OBJECT = IMAGE
/* MAP OBJECT DEFINITIONS */
OBJECT = IMAGE_MAP_PROJECTION
  ^DATA_SET_MAP_PROJECTION_CATALOG= "DSMAP.CAT"
  A_AXIS_RADIUS = 3396.0
  B_AXIS_RADIUS = 3396.0
  C_AXIS_RADIUS = 3396.0
  CENTER_LATITUDE = 0.0
  CENTER_LONGITUDE = 28.0
  COORDINATE_SYSTEM_NAME = PLANETOGRAPHIC
  COORDINATE_SYSTEM_TYPE = "BODY-FIXED ROTATING"
  EASTERNMOST_LONGITUDE = 28.4732
  FIRST_STANDARD_PARALLEL = "N/A"
  LINE_FIRST_PIXEL = 1
  LINE_LAST_PIXEL = 12102
  LINE_PROJECTION_OFFSET = -5287.625
  MAP_PROJECTION_ROTATION = 0.0
  MAP_PROJECTION_TYPE = SINUSOIDAL
  MAP_RESOLUTION = 1185.42760773333
  MAP_SCALE = 0.05
  MAXIMUM_LATITUDE = -4.45288
  MINIMUM_LATITUDE = -14.6706
  POSITIVE_LONGITUDE_DIRECTION = EAST
  REFERENCE_LATITUDE = "N/A"
  REFERENCE_LONGITUDE = "N/A"
  SAMPLE_FIRST_PIXEL = 1
  SAMPLE_LAST_PIXEL = 1911
  SAMPLE_PROJECTION_OFFSET = 1411.375
  SECOND_STANDARD_PARALLEL = "N/A"
  WESTERNMOST_LONGITUDE = 26.7616
END_OBJECT = IMAGE_MAP_PROJECTION
END
