PDS_VERSION_ID = PDS3
/* FILE DATA ELEMENTS */
RECORD_TYPE = UNDEFINED
/* POINTERS TO DATA OBJECTS */
^IMAGE = ("HC565_0000_P24.TIF")
/* IDENTIFICATION DATA ELEMENTS */
DATA_SET_ID = "MEX-M-HRSC-4-REFDR-MAPPROJECT-EXT4-V4.0"
DATA_SET_NAME = "MARS EXPRESS HRSC MAP PROJECTED REFDR EXTENSION4 V4.0"
DETECTOR_ID = MEX_HRSC_P2
EVENT_TYPE = "MARS-LOCAL-STEREO-Vo"
INSTRUMENT_HOST_ID = MEX
INSTRUMENT_HOST_NAME = "MARS EXPRESS"
INSTRUMENT_ID = HRSC
INSTRUMENT_NAME = "HIGH RESOLUTION STEREO CAMERA"
MISSION_NAME = "MARS EXPRESS"
MISSION_PHASE_NAME = ME_Phase_29
PROCESSING_LEVEL_ID = 4
PRODUCT_CREATION_TIME = 2023-01-31T11:51:40.000Z
PRODUCT_ID = "HC565_0000_P24.TIF"
RELEASE_ID = 0003
REVISION_ID = 0000
/* QUALITY DATA ELEMENTS */
DATA_QUALITY_ID = 1
DATA_QUALITY_DESC = "Data calculated based on original SPICE kernels"
/* TIME DATA ELEMENTS */
SPACECRAFT_CLOCK_START_COUNT = "1/0333039476.08242"
SPACECRAFT_CLOCK_STOP_COUNT = "1/0333039665.09163"
START_TIME = 2013-11-20T14:58:11.168Z
STOP_TIME = 2013-11-20T15:00:06.619Z
/* ORBITAL DATA ELEMENTS */
ASCENDING_NODE_LONGITUDE = 337.88
MAXIMUM_RESOLUTION = 0.0282 <m/pixel>
FOOTPRINT_POINT_LATITUDE = (-19.5908,-19.5908,-19.5899,-19.5888, -19.5873,-19.5853,-19.5851,-19.5912, -19.4472,-19.3031,-19.1588,-19.0146, -18.8704,-18.6543,-18.5101,-18.2939, -18.0778,-17.9338,-17.7177,-17.5017, -17.2856,-17.1415,-16.9976,-16.8538, -16.7098,-16.4941,-16.2782,-16.1343, -15.8466,-15.7027,-15.4868,-15.1994, -14.7685,-14.4812,-14.3374,-14.1217, -13.9583,-13.7869,-13.5302,-13.2733, -13.102,-12.9308,-12.7598,-12.5033, -12.3323,-12.1613,-12.0758,-12.0314, -12.0326,-12.0336,-12.0336,-12.0333, -12.0329,-12.0322,-12.0322,-12.0326, -12.2036,-12.3748,-12.5462,-12.7174, -12.8887,-13.0599,-13.2313,-13.4026, -13.5742,-13.7458,-13.9171,-14.0878, -14.3751,-14.519,-14.7346,-15.0222, -15.238,-15.4538,-15.5978,-15.8853, -16.0293,-16.2455,-16.3893,-16.5334, -16.6773,-16.8213,-16.9652,-17.1094, -17.3255,-17.5417,-17.6859,-17.9022, -18.0465,-18.1906,-18.3347,-18.551, -18.6953,-18.9118,-19.0562,-19.2004, -19.3446,-19.4892,-19.5614,-19.5908)
FOOTPRINT_POINT_LONGITUDE = (232.771,232.438,232.116,231.918,231.72 ,231.508,231.496,231.495,231.495, 231.495,231.494,231.494,231.493,231.492 ,231.492,231.491,231.49,231.489,231.488 ,231.486,231.485,231.484,231.483, 231.482,231.481,231.48,231.478,231.477, 231.474,231.473,231.471,231.468,231.464 ,231.461,231.459,231.456,231.454, 231.452,231.449,231.446,231.443,231.441 ,231.438,231.435,231.432,231.43,231.428 ,231.427,231.677,231.939,232.095, 232.317,232.487,232.76,232.773,232.778, 232.777,232.777,232.777,232.776,232.776 ,232.776,232.776,232.775,232.775, 232.775,232.774,232.774,232.774,232.774 ,232.773,232.773,232.773,232.773, 232.772,232.772,232.772,232.772,232.772 ,232.771,232.771,232.771,232.771, 232.771,232.771,232.771,232.77,232.77, 232.77,232.77,232.77,232.77,232.77, 232.769,232.769,232.769,232.769,232.769 ,232.768,232.771)
ORBIT_NUMBER = 12565
ORBITAL_ECCENTRICITY = 0.578
ORBITAL_INCLINATION = 86.9
ORBITAL_SEMIMAJOR_AXIS = 8833.27
PERIAPSIS_ALTITUDE = 334.05
PERIAPSIS_ARGUMENT_ANGLE = 330.75
PERIAPSIS_TIME = 2013-11-20T14:56:04.000Z
SPACECRAFT_ORIENTATION = (0.0,1.0,0.0)
^MEX_ORIENTATION_DESC = "MEX_ORIENTATION_DESC.TXT"
SPACECRAFT_POINTING_MODE = ACROSSTRACK
^MEX_POINTING_DESC = "MEX_POINTING_DESC.TXT"
RIGHT_ASCENSION = -1e+32
DECLINATION = -1e+32
OFFSET_ANGLE = 0.1
SPACECRAFT_SOLAR_DISTANCE = 2.47846e+08
TARGET_NAME = MARS
/* CAMERA DATA ELEMENTS */
DETECTOR_TEMPERATURE = 18.7783 <degC>
FOCAL_PLANE_TEMPERATURE = 8.7872 <degC>
INST_CMPRS_NAME = "DISCRETE COSINE TRANSFORMATION (DCT)"
INST_CMPRS_RATIO = 4.38722
INST_CMPRS_QUALITY = 0
INST_CMPRS_QUANTZ_TBL_ID = 0
INSTRUMENT_TEMPERATURE = 11.6418 <degC>
LENS_TEMPERATURE = 9.195 <degC>
MACROPIXEL_SIZE = 2
MISSING_FRAMES = 0
PIXEL_SUBSAMPLING_FLAG = N
SIGNAL_CHAIN_ID = 3
/* RADIOMETRIC DATA ELEMENTS */
BANDWIDTH = 177.0 <nm>
CENTER_FILTER_WAVELENGTH = 676.5 <nm>
RADIANCE_OFFSET = 1.30823 <W*m**-2*sr**-1>
RADIANCE_SCALING_FACTOR = 0.018548 <W*m**-2*sr**-1>
REFLECTANCE_SCALING_FACTOR = 0.000604116
MEX:REFLECTANCE_OFFSET = 0.0426094
/* IMAGE OBJECT DEFINITIONS */
OBJECT = IMAGE
  INTERCHANGE_FORMAT = BINARY
  LINES = 17951
  LINE_SAMPLES = 3203
  SAMPLE_TYPE = UNSIGNED_INTEGER
  SAMPLE_BITS = 8
  BANDS = 1
  BAND_STORAGE_TYPE = BAND_SEQUENTIAL
  MAXIMUM = 255
  MEAN = 94.1135
  MINIMUM = 1
  STANDARD_DEVIATION = 16.9163
END_OBJECT = IMAGE
/* MAP OBJECT DEFINITIONS */
OBJECT = IMAGE_MAP_PROJECTION
  ^DATA_SET_MAP_PROJECTION_CATALOG= "DSMAP.CAT"
  A_AXIS_RADIUS = 3396.0 <km>
  B_AXIS_RADIUS = 3396.0 <km>
  C_AXIS_RADIUS = 3396.0 <km>
  CENTER_LATITUDE = 0.0
  CENTER_LONGITUDE = 232.0
  COORDINATE_SYSTEM_NAME = PLANETOGRAPHIC
  COORDINATE_SYSTEM_TYPE = "BODY-FIXED ROTATING"
  EASTERNMOST_LONGITUDE = 232.778
  FIRST_STANDARD_PARALLEL = "N/A"
  LINE_FIRST_PIXEL = 1
  LINE_LAST_PIXEL = 17951
  LINE_PROJECTION_OFFSET = -28470.75
  MAP_PROJECTION_ROTATION = 0.0
  MAP_PROJECTION_TYPE = SINUSOIDAL
  MAP_RESOLUTION = 2370.85521546667 <pixel/degree>
  MAP_SCALE = 0.025 <km/pixel>
  MAXIMUM_LATITUDE = -12.0314
  MINIMUM_LATITUDE = -19.5912
  POSITIVE_LONGITUDE_DIRECTION = EAST
  REFERENCE_LATITUDE = "N/A"
  REFERENCE_LONGITUDE = "N/A"
  SAMPLE_FIRST_PIXEL = 1
  SAMPLE_LAST_PIXEL = 3203
  SAMPLE_PROJECTION_OFFSET = 1361.75
  SECOND_STANDARD_PARALLEL = "N/A"
  WESTERNMOST_LONGITUDE = 231.427
END_OBJECT = IMAGE_MAP_PROJECTION
END
