PDS_VERSION_ID = PDS3
/* FILE DATA ELEMENTS */
RECORD_TYPE = UNDEFINED
/* POINTERS TO DATA OBJECTS */
^IMAGE = ("HC562_0000_IR4.TIF")
/* IDENTIFICATION DATA ELEMENTS */
DATA_SET_ID = "MEX-M-HRSC-4-REFDR-MAPPROJECT-EXT4-V4.0"
DATA_SET_NAME = "MARS EXPRESS HRSC MAP PROJECTED REFDR EXTENSION4 V4.0"
DETECTOR_ID = MEX_HRSC_IR
EVENT_TYPE = "MARS-REGIONAL-MAPPING-Im-Fl"
INSTRUMENT_HOST_ID = MEX
INSTRUMENT_HOST_NAME = "MARS EXPRESS"
INSTRUMENT_ID = HRSC
INSTRUMENT_NAME = "HIGH RESOLUTION STEREO CAMERA"
MISSION_NAME = "MARS EXPRESS"
MISSION_PHASE_NAME = ME_Phase_29
PROCESSING_LEVEL_ID = 4
PRODUCT_CREATION_TIME = 2023-01-31T11:51:40.000Z
PRODUCT_ID = "HC562_0000_IR4.TIF"
RELEASE_ID = 0003
REVISION_ID = 0000
/* QUALITY DATA ELEMENTS */
DATA_QUALITY_ID = 1
DATA_QUALITY_DESC = "Data calculated based on original SPICE kernels"
/* TIME DATA ELEMENTS */
SPACECRAFT_CLOCK_START_COUNT = "1/0332963964.08246"
SPACECRAFT_CLOCK_STOP_COUNT = "1/0332964191.00530"
START_TIME = 2013-11-19T18:00:25.036Z
STOP_TIME = 2013-11-19T18:03:06.843Z
/* ORBITAL DATA ELEMENTS */
ASCENDING_NODE_LONGITUDE = 337.93
MAXIMUM_RESOLUTION = 0.0578
FOOTPRINT_POINT_LATITUDE = (-22.3315,-22.3284,-22.3235,-22.3183, -22.3148,-22.3146,-22.3253,-22.1361, -21.9468,-21.7576,-21.5683,-21.3782, -21.188,-20.9052,-20.7167,-20.5307, -20.3428,-20.1546,-19.8721,-19.5919, -19.2226,-18.9391,-18.7464,-18.5611, -18.3755,-18.1905,-17.9133,-17.5434, -17.1748,-16.9894,-16.769,-16.4406, -16.2218,-16.0012,-15.7826,-15.4565, -15.2389,-15.0203,-14.8033,-14.5848, -14.3708,-14.1539,-13.8287,-13.5045, -13.2935,-13.0777,-12.8622,-12.6461, -12.4306,-12.3234,-12.2414,-12.2431, -12.2424,-12.2439,-12.2456,-12.2458, -12.2453,-12.2463,-12.5671,-12.8899, -13.1058,-13.3242,-13.5406,-13.7581, -13.9725,-14.1882,-14.4034,-14.6206, -14.9457,-15.2733,-15.6021,-15.8213, -16.0406,-16.3708,-16.591,-16.81, -17.0178,-17.2069,-17.5774,-17.9468, -18.2282,-18.4156,-18.7823,-18.9743, -19.1649,-19.3526,-19.5401,-19.7277, -19.9154,-20.1033,-20.4703,-20.661, -20.9493,-21.1376,-21.4172,-21.6068, -21.8905,-22.175,-22.2701,-22.3315)
FOOTPRINT_POINT_LONGITUDE = (179.779,179.521,179.131,178.744, 178.491,178.479,178.474,178.473,178.473 ,178.472,178.472,178.471,178.47,178.469 ,178.468,178.466,178.465,178.464, 178.462,178.46,178.456,178.454,178.454, 178.452,178.45,178.448,178.445,178.44, 178.436,178.434,178.431,178.427,178.424 ,178.421,178.418,178.412,178.409, 178.406,178.402,178.399,178.394,178.391 ,178.385,178.379,178.374,178.37,178.366 ,178.362,178.358,178.356,178.355, 178.608,178.985,179.188,179.487,179.786 ,179.8,179.804,179.802,179.801,179.801, 179.801,179.801,179.801,179.799,179.797 ,179.796,179.795,179.793,179.792, 179.792,179.791,179.791,179.79,179.79, 179.789,179.785,179.787,179.786,179.785 ,179.786,179.786,179.782,179.785, 179.787,179.788,179.788,179.788,179.788 ,179.788,179.782,179.784,179.787, 179.787,179.785,179.785,179.785,179.785 ,179.786,179.779)
ORBIT_NUMBER = 12562
ORBITAL_ECCENTRICITY = 0.578
ORBITAL_INCLINATION = 86.9
ORBITAL_SEMIMAJOR_AXIS = 8826.88
PERIAPSIS_ALTITUDE = 335.11
PERIAPSIS_ARGUMENT_ANGLE = 331.31
PERIAPSIS_TIME = 2013-11-19T17:58:23.000Z
SPACECRAFT_ORIENTATION = (0.0,1.0,0.0)
^MEX_ORIENTATION_DESC = "MEX_ORIENTATION_DESC.TXT"
SPACECRAFT_POINTING_MODE = ACROSSTRACK
^MEX_POINTING_DESC = "MEX_POINTING_DESC.TXT"
RIGHT_ASCENSION = -1e+32
DECLINATION = -1e+32
OFFSET_ANGLE = -0.3
SPACECRAFT_SOLAR_DISTANCE = 2.4779e+08
TARGET_NAME = MARS
/* CAMERA DATA ELEMENTS */
DETECTOR_TEMPERATURE = 18.5744
FOCAL_PLANE_TEMPERATURE = 9.3989
INST_CMPRS_NAME = "DISCRETE COSINE TRANSFORMATION (DCT)"
INST_CMPRS_RATIO = 5.27724
INST_CMPRS_QUALITY = 0
INST_CMPRS_QUANTZ_TBL_ID = 0
INSTRUMENT_TEMPERATURE = 12.4574
LENS_TEMPERATURE = 9.3989
MACROPIXEL_SIZE = 4
MISSING_FRAMES = 0
PIXEL_SUBSAMPLING_FLAG = N
SIGNAL_CHAIN_ID = 2
/* RADIOMETRIC DATA ELEMENTS */
BANDWIDTH = 81.0
CENTER_FILTER_WAVELENGTH = 955.5
RADIANCE_OFFSET = 0.140631
RADIANCE_SCALING_FACTOR = 0.0051358
REFLECTANCE_SCALING_FACTOR = 0.000680305
MEX:REFLECTANCE_OFFSET = 0.0186285
/* IMAGE OBJECT DEFINITIONS */
OBJECT = IMAGE
  INTERCHANGE_FORMAT = BINARY
  LINES = 11999
  LINE_SAMPLES = 1620
  SAMPLE_TYPE = UNSIGNED_INTEGER
  SAMPLE_BITS = 8
  BANDS = 1
  BAND_STORAGE_TYPE = BAND_SEQUENTIAL
  MAXIMUM = 255
  MEAN = 107.599
  MINIMUM = 1
  STANDARD_DEVIATION = 31.8345
END_OBJECT = IMAGE
/* MAP OBJECT DEFINITIONS */
OBJECT = IMAGE_MAP_PROJECTION
  ^DATA_SET_MAP_PROJECTION_CATALOG= "DSMAP.CAT"
  A_AXIS_RADIUS = 3396.0
  B_AXIS_RADIUS = 3396.0
  C_AXIS_RADIUS = 3396.0
  CENTER_LATITUDE = 0.0
  CENTER_LONGITUDE = 179.0
  COORDINATE_SYSTEM_NAME = PLANETOGRAPHIC
  COORDINATE_SYSTEM_TYPE = "BODY-FIXED ROTATING"
  EASTERNMOST_LONGITUDE = 179.804
  FIRST_STANDARD_PARALLEL = "N/A"
  LINE_FIRST_PIXEL = 1
  LINE_LAST_PIXEL = 11999
  LINE_PROJECTION_OFFSET = -14501.375
  MAP_PROJECTION_ROTATION = 0.0
  MAP_PROJECTION_TYPE = SINUSOIDAL
  MAP_RESOLUTION = 1185.42760773333
  MAP_SCALE = 0.05
  MAXIMUM_LATITUDE = -12.2414
  MINIMUM_LATITUDE = -22.3315
  POSITIVE_LONGITUDE_DIRECTION = EAST
  REFERENCE_LATITUDE = "N/A"
  REFERENCE_LONGITUDE = "N/A"
  SAMPLE_FIRST_PIXEL = 1
  SAMPLE_LAST_PIXEL = 1620
  SAMPLE_PROJECTION_OFFSET = 723.625
  SECOND_STANDARD_PARALLEL = "N/A"
  WESTERNMOST_LONGITUDE = 178.355
END_OBJECT = IMAGE_MAP_PROJECTION
END
