PDS_VERSION_ID = PDS3
/* FILE DATA ELEMENTS */
RECORD_TYPE = UNDEFINED
/* POINTERS TO DATA OBJECTS */
^IMAGE = ("HC551_0000_P14.TIF")
/* IDENTIFICATION DATA ELEMENTS */
DATA_SET_ID = "MEX-M-HRSC-4-REFDR-MAPPROJECT-EXT4-V4.0"
DATA_SET_NAME = "MARS EXPRESS HRSC MAP PROJECTED REFDR EXTENSION4 V4.0"
DETECTOR_ID = MEX_HRSC_P1
EVENT_TYPE = "MARS-LOCAL-STEREO-Vo-Te"
INSTRUMENT_HOST_ID = MEX
INSTRUMENT_HOST_NAME = "MARS EXPRESS"
INSTRUMENT_ID = HRSC
INSTRUMENT_NAME = "HIGH RESOLUTION STEREO CAMERA"
MISSION_NAME = "MARS EXPRESS"
MISSION_PHASE_NAME = ME_Phase_29
PROCESSING_LEVEL_ID = 4
PRODUCT_CREATION_TIME = 2023-01-31T11:51:40.000Z
PRODUCT_ID = "HC551_0000_P14.TIF"
RELEASE_ID = 0003
REVISION_ID = 0000
/* QUALITY DATA ELEMENTS */
DATA_QUALITY_ID = 1
DATA_QUALITY_DESC = "Data calculated based on original SPICE kernels"
/* TIME DATA ELEMENTS */
SPACECRAFT_CLOCK_START_COUNT = "1/0332687133.07322"
SPACECRAFT_CLOCK_STOP_COUNT = "1/0332687311.33522"
START_TIME = 2013-11-16T13:06:27.494Z
STOP_TIME = 2013-11-16T13:08:23.237Z
/* ORBITAL DATA ELEMENTS */
ASCENDING_NODE_LONGITUDE = 338.14
MAXIMUM_RESOLUTION = 0.0274
FOOTPRINT_POINT_LATITUDE = (-27.5953,-27.5943,-27.5929,-27.5919, -27.5895,-27.5894,-27.5966,-27.299, -27.1501,-27.0014,-26.8526,-26.704, -26.5553,-26.4067,-26.2582,-26.1097, -25.9612,-25.8128,-25.6644,-25.5161, -25.3678,-25.2196,-25.0713,-24.9233, -24.7752,-24.6271,-24.405,-24.0354, -23.6661,-23.3704,-23.0757,-22.8544, -22.6274,-22.4754,-22.3233,-22.1714, -22.019,-21.8675,-21.7157,-21.5639, -21.4122,-21.2606,-21.109,-20.9576, -20.7305,-20.5792,-20.428,-20.2014, -20.1258,-20.096,-20.0958,-20.0954, -20.095,-20.0943,-20.0937,-20.0936, -20.094,-20.2454,-20.4723,-20.6237, -20.7751,-20.9268,-21.0785,-21.3061, -21.4579,-21.6856,-21.8375,-21.9895, -22.1417,-22.2938,-22.446,-22.5983, -22.8265,-23.1217,-23.4908,-23.9344, -24.2304,-24.3785,-24.5266,-24.6748, -24.8229,-24.9712,-25.1194,-25.2678, -25.4162,-25.5648,-25.7134,-25.8621, -26.085,-26.2337,-26.3824,-26.5312, -26.68,-26.8289,-26.9778,-27.1267, -27.2756,-27.4989,-27.5734,-27.5953)
FOOTPRINT_POINT_LONGITUDE = (223.596,223.205,222.876,222.674, 222.307,222.295,222.287,222.29,222.292, 222.294,222.296,222.297,222.299,222.301 ,222.302,222.304,222.305,222.306, 222.308,222.309,222.31,222.311,222.313, 222.314,222.315,222.316,222.317,222.319 ,222.321,222.322,222.323,222.324, 222.325,222.325,222.325,222.325,222.326 ,222.326,222.326,222.326,222.326, 222.326,222.326,222.326,222.325,222.325 ,222.325,222.324,222.324,222.324, 222.659,222.931,223.129,223.39,223.588, 223.6,223.605,223.605,223.605,223.604, 223.604,223.604,223.604,223.604,223.604 ,223.604,223.604,223.604,223.604, 223.603,223.603,223.603,223.603,223.603 ,223.603,223.602,223.602,223.602, 223.602,223.602,223.602,223.602,223.602 ,223.602,223.602,223.602,223.602, 223.601,223.601,223.601,223.601,223.601 ,223.601,223.601,223.601,223.601, 223.601,223.6,223.6,223.596)
ORBIT_NUMBER = 12551
ORBITAL_ECCENTRICITY = 0.578
ORBITAL_INCLINATION = 86.9
ORBITAL_SEMIMAJOR_AXIS = 8834.36
PERIAPSIS_ALTITUDE = 334.79
PERIAPSIS_ARGUMENT_ANGLE = 333.17
PERIAPSIS_TIME = 2013-11-16T13:06:21.000Z
SPACECRAFT_ORIENTATION = (0.0,1.0,0.0)
^MEX_ORIENTATION_DESC = "MEX_ORIENTATION_DESC.TXT"
SPACECRAFT_POINTING_MODE = NADIR
^MEX_POINTING_DESC = "MEX_POINTING_DESC.TXT"
RIGHT_ASCENSION = -1e+32
DECLINATION = -1e+32
OFFSET_ANGLE = -1e+32
SPACECRAFT_SOLAR_DISTANCE = 2.47575e+08
TARGET_NAME = MARS
/* CAMERA DATA ELEMENTS */
DETECTOR_TEMPERATURE = 17.351
FOCAL_PLANE_TEMPERATURE = 8.3794
INST_CMPRS_NAME = "DISCRETE COSINE TRANSFORMATION (DCT)"
INST_CMPRS_RATIO = 6.33559
INST_CMPRS_QUALITY = 0
INST_CMPRS_QUANTZ_TBL_ID = 0
INSTRUMENT_TEMPERATURE = 11.8457
LENS_TEMPERATURE = 8.7872
MACROPIXEL_SIZE = 2
MISSING_FRAMES = 0
PIXEL_SUBSAMPLING_FLAG = N
SIGNAL_CHAIN_ID = 3
/* RADIOMETRIC DATA ELEMENTS */
BANDWIDTH = 174.0
CENTER_FILTER_WAVELENGTH = 675.0
RADIANCE_OFFSET = 0.745597
RADIANCE_SCALING_FACTOR = 0.0152943
REFLECTANCE_SCALING_FACTOR = 0.000504227
MEX:REFLECTANCE_OFFSET = 0.0245811
/* IMAGE OBJECT DEFINITIONS */
OBJECT = IMAGE
  INTERCHANGE_FORMAT = BINARY
  LINES = 17806
  LINE_SAMPLES = 2828
  SAMPLE_TYPE = UNSIGNED_INTEGER
  SAMPLE_BITS = 8
  BANDS = 1
  BAND_STORAGE_TYPE = BAND_SEQUENTIAL
  MAXIMUM = 255
  MEAN = 81.1264
  MINIMUM = 1
  STANDARD_DEVIATION = 24.3933
END_OBJECT = IMAGE
/* MAP OBJECT DEFINITIONS */
OBJECT = IMAGE_MAP_PROJECTION
  ^DATA_SET_MAP_PROJECTION_CATALOG= "DSMAP.CAT"
  A_AXIS_RADIUS = 3396.0
  B_AXIS_RADIUS = 3396.0
  C_AXIS_RADIUS = 3396.0
  CENTER_LATITUDE = 0.0
  CENTER_LONGITUDE = 223.0
  COORDINATE_SYSTEM_NAME = PLANETOGRAPHIC
  COORDINATE_SYSTEM_TYPE = "BODY-FIXED ROTATING"
  EASTERNMOST_LONGITUDE = 223.605
  FIRST_STANDARD_PARALLEL = "N/A"
  LINE_FIRST_PIXEL = 1
  LINE_LAST_PIXEL = 17806
  LINE_PROJECTION_OFFSET = -47681.25
  MAP_PROJECTION_ROTATION = 0.0
  MAP_PROJECTION_TYPE = SINUSOIDAL
  MAP_RESOLUTION = 2370.85521546667
  MAP_SCALE = 0.025
  MAXIMUM_LATITUDE = -20.0936
  MINIMUM_LATITUDE = -27.5966
  POSITIVE_LONGITUDE_DIRECTION = EAST
  REFERENCE_LATITUDE = "N/A"
  REFERENCE_LONGITUDE = "N/A"
  SAMPLE_FIRST_PIXEL = 1
  SAMPLE_LAST_PIXEL = 2828
  SAMPLE_PROJECTION_OFFSET = 1502.25
  SECOND_STANDARD_PARALLEL = "N/A"
  WESTERNMOST_LONGITUDE = 222.287
END_OBJECT = IMAGE_MAP_PROJECTION
END
