PDS_VERSION_ID = PDS3
/* FILE DATA ELEMENTS */
RECORD_TYPE = UNDEFINED
/* POINTERS TO DATA OBJECTS */
^IMAGE = ("HC551_0000_ND4.TIF")
/* IDENTIFICATION DATA ELEMENTS */
DATA_SET_ID = "MEX-M-HRSC-4-REFDR-MAPPROJECT-EXT4-V4.0"
DATA_SET_NAME = "MARS EXPRESS HRSC MAP PROJECTED REFDR EXTENSION4 V4.0"
DETECTOR_ID = MEX_HRSC_NADIR
EVENT_TYPE = "MARS-LOCAL-STEREO-Vo-Te"
INSTRUMENT_HOST_ID = MEX
INSTRUMENT_HOST_NAME = "MARS EXPRESS"
INSTRUMENT_ID = HRSC
INSTRUMENT_NAME = "HIGH RESOLUTION STEREO CAMERA"
MISSION_NAME = "MARS EXPRESS"
MISSION_PHASE_NAME = ME_Phase_29
PROCESSING_LEVEL_ID = 4
PRODUCT_CREATION_TIME = 2023-01-31T11:51:40.000Z
PRODUCT_ID = "HC551_0000_ND4.TIF"
RELEASE_ID = 0003
REVISION_ID = 0000
/* QUALITY DATA ELEMENTS */
DATA_QUALITY_ID = 1
DATA_QUALITY_DESC = "Data calculated based on original SPICE kernels"
/* TIME DATA ELEMENTS */
SPACECRAFT_CLOCK_START_COUNT = "1/0332687133.07322"
SPACECRAFT_CLOCK_STOP_COUNT = "1/0332687311.33522"
START_TIME = 2013-11-16T13:06:07.731Z
STOP_TIME = 2013-11-16T13:08:02.739Z
/* ORBITAL DATA ELEMENTS */
ASCENDING_NODE_LONGITUDE = 338.14
MAXIMUM_RESOLUTION = 0.0133 <m/pixel>
FOOTPRINT_POINT_LATITUDE = (-27.6214,-27.6204,-27.6188,-27.6172, -27.6145,-27.6143,-27.6138,-27.4646, -27.3154,-27.0916,-26.9424,-26.7186, -26.5694,-26.4202,-26.2709,-26.0471, -25.8979,-25.7487,-25.5995,-25.4502, -25.301,-25.1518,-25.0026,-24.8534, -24.7043,-24.5551,-24.4059,-24.2567, -23.9585,-23.6602,-23.362,-23.1384, -22.8403,-22.5423,-22.2444,-21.9465, -21.7232,-21.4221,-21.2683,-21.1146, -20.9609,-20.8072,-20.6535,-20.4999, -20.3463,-20.1927,-20.1159,-20.112, -20.1125,-20.1127,-20.1126,-20.1119, -20.1112,-20.1111,-20.1113,-20.265, -20.4188,-20.5725,-20.7263,-20.8802, -21.034,-21.1879,-21.3418,-21.5713, -21.8693,-22.1675,-22.4657,-22.764, -22.9132,-23.0624,-23.2116,-23.3608, -23.5101,-23.6593,-23.8086,-23.9579, -24.1072,-24.2565,-24.4058,-24.5552, -24.7045,-24.8539,-25.0032,-25.1526, -25.302,-25.4513,-25.6007,-25.7501, -25.8995,-26.1236,-26.273,-26.4224, -26.5718,-26.7212,-26.9452,-27.0946, -27.3187,-27.5428,-27.6175,-27.6214)
FOOTPRINT_POINT_LONGITUDE = (223.594,223.17,222.835,222.617,222.308 ,222.295,222.285,222.287,222.289, 222.292,222.294,222.297,222.298,222.3, 222.302,222.304,222.306,222.307,222.309 ,222.31,222.312,222.313,222.314,222.315 ,222.317,222.318,222.319,222.32,222.322 ,222.323,222.325,222.326,222.327, 222.328,222.329,222.33,222.33,222.331, 222.331,222.331,222.331,222.331,222.331 ,222.331,222.331,222.331,222.331, 222.331,222.518,222.792,223.053,223.39, 223.576,223.589,223.595,223.595,223.595 ,223.595,223.595,223.595,223.595, 223.596,223.596,223.596,223.596,223.596 ,223.596,223.596,223.596,223.596, 223.596,223.596,223.596,223.596,223.596 ,223.596,223.597,223.597,223.597, 223.597,223.597,223.597,223.597,223.597 ,223.597,223.597,223.597,223.597, 223.597,223.598,223.598,223.598,223.598 ,223.598,223.598,223.598,223.598, 223.598,223.598,223.594)
ORBIT_NUMBER = 12551
ORBITAL_ECCENTRICITY = 0.578
ORBITAL_INCLINATION = 86.9
ORBITAL_SEMIMAJOR_AXIS = 8834.36
PERIAPSIS_ALTITUDE = 334.79
PERIAPSIS_ARGUMENT_ANGLE = 333.17
PERIAPSIS_TIME = 2013-11-16T13:06:21.000Z
SPACECRAFT_ORIENTATION = (0.0,1.0,0.0)
^MEX_ORIENTATION_DESC = "MEX_ORIENTATION_DESC.TXT"
SPACECRAFT_POINTING_MODE = NADIR
^MEX_POINTING_DESC = "MEX_POINTING_DESC.TXT"
RIGHT_ASCENSION = -1e+32
DECLINATION = -1e+32
OFFSET_ANGLE = -1e+32
SPACECRAFT_SOLAR_DISTANCE = 2.47575e+08
TARGET_NAME = MARS
/* CAMERA DATA ELEMENTS */
DETECTOR_TEMPERATURE = 18.3705 <degC>
FOCAL_PLANE_TEMPERATURE = 8.3794 <degC>
INST_CMPRS_NAME = "DISCRETE COSINE TRANSFORMATION (DCT)"
INST_CMPRS_RATIO = 5.31972
INST_CMPRS_QUALITY = 0
INST_CMPRS_QUANTZ_TBL_ID = 0
INSTRUMENT_TEMPERATURE = 11.8457 <degC>
LENS_TEMPERATURE = 8.7872 <degC>
MACROPIXEL_SIZE = 1
MISSING_FRAMES = 0
PIXEL_SUBSAMPLING_FLAG = N
SIGNAL_CHAIN_ID = 0
/* RADIOMETRIC DATA ELEMENTS */
BANDWIDTH = 177.0 <nm>
CENTER_FILTER_WAVELENGTH = 677.5 <nm>
RADIANCE_OFFSET = 0.597526 <W*m**-2*sr**-1>
RADIANCE_SCALING_FACTOR = 0.0151009 <W*m**-2*sr**-1>
REFLECTANCE_SCALING_FACTOR = 0.000491699
MEX:REFLECTANCE_OFFSET = 0.019456
/* IMAGE OBJECT DEFINITIONS */
OBJECT = IMAGE
  INTERCHANGE_FORMAT = BINARY
  LINES = 35611
  LINE_SAMPLES = 5656
  SAMPLE_TYPE = UNSIGNED_INTEGER
  SAMPLE_BITS = 8
  BANDS = 1
  BAND_STORAGE_TYPE = BAND_SEQUENTIAL
  MAXIMUM = 255
  MEAN = 78.6202
  MINIMUM = 1
  STANDARD_DEVIATION = 23.9396
END_OBJECT = IMAGE
/* MAP OBJECT DEFINITIONS */
OBJECT = IMAGE_MAP_PROJECTION
  ^DATA_SET_MAP_PROJECTION_CATALOG= "DSMAP.CAT"
  A_AXIS_RADIUS = 3396.0 <km>
  B_AXIS_RADIUS = 3396.0 <km>
  C_AXIS_RADIUS = 3396.0 <km>
  CENTER_LATITUDE = 0.0
  CENTER_LONGITUDE = 223.0
  COORDINATE_SYSTEM_NAME = PLANETOGRAPHIC
  COORDINATE_SYSTEM_TYPE = "BODY-FIXED ROTATING"
  EASTERNMOST_LONGITUDE = 223.598
  FIRST_STANDARD_PARALLEL = "N/A"
  LINE_FIRST_PIXEL = 1
  LINE_LAST_PIXEL = 35611
  LINE_PROJECTION_OFFSET = -95362.0
  MAP_PROJECTION_ROTATION = 0.0
  MAP_PROJECTION_TYPE = SINUSOIDAL
  MAP_RESOLUTION = 4741.71043093333 <pixel/degree>
  MAP_SCALE = 0.0125 <km/pixel>
  MAXIMUM_LATITUDE = -20.1111
  MINIMUM_LATITUDE = -27.6214
  POSITIVE_LONGITUDE_DIRECTION = EAST
  REFERENCE_LATITUDE = "N/A"
  REFERENCE_LONGITUDE = "N/A"
  SAMPLE_FIRST_PIXEL = 1
  SAMPLE_LAST_PIXEL = 5656
  SAMPLE_PROJECTION_OFFSET = 3005.0
  SECOND_STANDARD_PARALLEL = "N/A"
  WESTERNMOST_LONGITUDE = 222.285
END_OBJECT = IMAGE_MAP_PROJECTION
END
