PDS_VERSION_ID = PDS3
/* FILE DATA ELEMENTS */
RECORD_TYPE = UNDEFINED
/* POINTERS TO DATA OBJECTS */
^IMAGE = ("HC543_0000_P24.TIF")
/* IDENTIFICATION DATA ELEMENTS */
DATA_SET_ID = "MEX-M-HRSC-4-REFDR-MAPPROJECT-EXT4-V4.0"
DATA_SET_NAME = "MARS EXPRESS HRSC MAP PROJECTED REFDR EXTENSION4 V4.0"
DETECTOR_ID = MEX_HRSC_P2
EVENT_TYPE = "MARS-REGIONAL-MAPPING-Te-Im-Fl"
INSTRUMENT_HOST_ID = MEX
INSTRUMENT_HOST_NAME = "MARS EXPRESS"
INSTRUMENT_ID = HRSC
INSTRUMENT_NAME = "HIGH RESOLUTION STEREO CAMERA"
MISSION_NAME = "MARS EXPRESS"
MISSION_PHASE_NAME = ME_Phase_29
PROCESSING_LEVEL_ID = 4
PRODUCT_CREATION_TIME = 2023-01-31T11:51:40.000Z
PRODUCT_ID = "HC543_0000_P24.TIF"
RELEASE_ID = 0003
REVISION_ID = 0000
/* QUALITY DATA ELEMENTS */
DATA_QUALITY_ID = 1
DATA_QUALITY_DESC = "Data calculated based on original SPICE kernels"
/* TIME DATA ELEMENTS */
SPACECRAFT_CLOCK_START_COUNT = "1/0332485934.09046"
SPACECRAFT_CLOCK_STOP_COUNT = "1/0332486183.01471"
START_TIME = 2013-11-14T05:12:29.066Z
STOP_TIME = 2013-11-14T05:15:28.861Z
/* ORBITAL DATA ELEMENTS */
ASCENDING_NODE_LONGITUDE = 338.29
MAXIMUM_RESOLUTION = 0.0552
FOOTPRINT_POINT_LATITUDE = (-23.7846,-23.7852,-23.7848,-23.7836, -23.7809,-23.7808,-23.7687,-23.312, -22.9691,-22.6257,-22.3924,-22.1626, -21.8178,-21.3654,-21.1349,-20.9048, -20.5597,-20.101,-19.8706,-19.6408, -19.4088,-19.1719,-18.9334,-18.5771, -18.3387,-18.1006,-17.7438,-17.5043, -17.2662,-17.026,-16.7882,-16.5544, -16.3153,-16.0768,-15.8399,-15.6022, -15.3652,-15.1272,-14.8881,-14.6495, -14.293,-14.0511,-13.8116,-13.5713, -13.3224,-13.0831,-12.8449,-12.608, -12.371,-12.1337,-12.0159,-11.9656, -11.9639,-11.9587,-11.9557,-11.9556, -11.9564,-12.1948,-12.4381,-12.8084, -13.1682,-13.524,-13.7616,-14.1179, -14.3557,-14.5939,-14.9509,-15.189, -15.4273,-15.6645,-16.023,-16.2621, -16.5011,-16.7396,-16.9777,-17.3349, -17.6922,-17.9308,-18.169,-18.4068, -18.7612,-18.9987,-19.2366,-19.4736, -19.7039,-20.1613,-20.3922,-20.7401, -20.9713,-21.2013,-21.6534,-21.8827, -22.1128,-22.349,-22.5806,-22.8098, -23.1534,-23.6107,-23.7252,-23.7846)
FOOTPRINT_POINT_LONGITUDE = (321.105,320.821,320.478,320.206, 319.851,319.839,319.83,319.834,319.837, 319.839,319.838,319.839,319.84,319.845, 319.845,319.845,319.846,319.847,319.846 ,319.847,319.846,319.846,319.846, 319.845,319.844,319.843,319.842,319.84, 319.839,319.837,319.836,319.837,319.835 ,319.833,319.832,319.83,319.829,319.827 ,319.824,319.822,319.819,319.815, 319.812,319.808,319.8,319.797,319.794, 319.792,319.789,319.786,319.785,319.784 ,320.212,320.838,321.083,321.096,321.1, 321.1,321.097,321.091,321.09,321.091, 321.091,321.092,321.093,321.093,321.093 ,321.093,321.094,321.094,321.094, 321.094,321.094,321.095,321.095,321.095 ,321.096,321.096,321.097,321.097, 321.099,321.1,321.1,321.101,321.101, 321.104,321.104,321.103,321.103,321.103 ,321.108,321.109,321.109,321.107, 321.106,321.107,321.108,321.11,321.11, 321.105)
ORBIT_NUMBER = 12543
ORBITAL_ECCENTRICITY = 0.578
ORBITAL_INCLINATION = 86.9
ORBITAL_SEMIMAJOR_AXIS = 8831.48
PERIAPSIS_ALTITUDE = 335.77
PERIAPSIS_ARGUMENT_ANGLE = 334.58
PERIAPSIS_TIME = 2013-11-14T05:12:25.000Z
SPACECRAFT_ORIENTATION = (0.0,1.0,0.0)
^MEX_ORIENTATION_DESC = "MEX_ORIENTATION_DESC.TXT"
SPACECRAFT_POINTING_MODE = NADIR
^MEX_POINTING_DESC = "MEX_POINTING_DESC.TXT"
RIGHT_ASCENSION = -1e+32
DECLINATION = -1e+32
OFFSET_ANGLE = -1e+32
SPACECRAFT_SOLAR_DISTANCE = 2.47409e+08
TARGET_NAME = MARS
/* CAMERA DATA ELEMENTS */
DETECTOR_TEMPERATURE = 18.5744
FOCAL_PLANE_TEMPERATURE = 8.1755
INST_CMPRS_NAME = "DISCRETE COSINE TRANSFORMATION (DCT)"
INST_CMPRS_RATIO = 10.6474
INST_CMPRS_QUALITY = 0
INST_CMPRS_QUANTZ_TBL_ID = 0
INSTRUMENT_TEMPERATURE = 11.6418
LENS_TEMPERATURE = 8.7872
MACROPIXEL_SIZE = 4
MISSING_FRAMES = 0
PIXEL_SUBSAMPLING_FLAG = N
SIGNAL_CHAIN_ID = 3
/* RADIOMETRIC DATA ELEMENTS */
BANDWIDTH = 177.0
CENTER_FILTER_WAVELENGTH = 676.5
RADIANCE_OFFSET = 0.596303
RADIANCE_SCALING_FACTOR = 0.00968784
REFLECTANCE_SCALING_FACTOR = 0.000314423
MEX:REFLECTANCE_OFFSET = 0.0193533
/* IMAGE OBJECT DEFINITIONS */
OBJECT = IMAGE
  INTERCHANGE_FORMAT = BINARY
  LINES = 14000
  LINE_SAMPLES = 1556
  SAMPLE_TYPE = UNSIGNED_INTEGER
  SAMPLE_BITS = 8
  BANDS = 1
  BAND_STORAGE_TYPE = BAND_SEQUENTIAL
  MAXIMUM = 255
  MEAN = 95.2635
  MINIMUM = 1
  STANDARD_DEVIATION = 33.6166
END_OBJECT = IMAGE
/* MAP OBJECT DEFINITIONS */
OBJECT = IMAGE_MAP_PROJECTION
  ^DATA_SET_MAP_PROJECTION_CATALOG= "DSMAP.CAT"
  A_AXIS_RADIUS = 3396.0
  B_AXIS_RADIUS = 3396.0
  C_AXIS_RADIUS = 3396.0
  CENTER_LATITUDE = 0.0
  CENTER_LONGITUDE = 320.0
  COORDINATE_SYSTEM_NAME = PLANETOGRAPHIC
  COORDINATE_SYSTEM_TYPE = "BODY-FIXED ROTATING"
  EASTERNMOST_LONGITUDE = 321.11
  FIRST_STANDARD_PARALLEL = "N/A"
  LINE_FIRST_PIXEL = 1
  LINE_LAST_PIXEL = 14000
  LINE_PROJECTION_OFFSET = -14191.625
  MAP_PROJECTION_ROTATION = 0.0
  MAP_PROJECTION_TYPE = SINUSOIDAL
  MAP_RESOLUTION = 1185.42760773333
  MAP_SCALE = 0.05
  MAXIMUM_LATITUDE = -11.9556
  MINIMUM_LATITUDE = -23.7852
  POSITIVE_LONGITUDE_DIRECTION = EAST
  REFERENCE_LATITUDE = "N/A"
  REFERENCE_LONGITUDE = "N/A"
  SAMPLE_FIRST_PIXEL = 1
  SAMPLE_LAST_PIXEL = 1556
  SAMPLE_PROJECTION_OFFSET = 266.875
  SECOND_STANDARD_PARALLEL = "N/A"
  WESTERNMOST_LONGITUDE = 319.784
END_OBJECT = IMAGE_MAP_PROJECTION
END
