PDS_VERSION_ID = PDS3
/* FILE DATA ELEMENTS */
RECORD_TYPE = UNDEFINED
/* POINTERS TO DATA OBJECTS */
^IMAGE = ("HC543_0000_GR4.TIF")
/* IDENTIFICATION DATA ELEMENTS */
DATA_SET_ID = "MEX-M-HRSC-4-REFDR-MAPPROJECT-EXT4-V4.0"
DATA_SET_NAME = "MARS EXPRESS HRSC MAP PROJECTED REFDR EXTENSION4 V4.0"
DETECTOR_ID = MEX_HRSC_GREEN
EVENT_TYPE = "MARS-REGIONAL-MAPPING-Te-Im-Fl"
INSTRUMENT_HOST_ID = MEX
INSTRUMENT_HOST_NAME = "MARS EXPRESS"
INSTRUMENT_ID = HRSC
INSTRUMENT_NAME = "HIGH RESOLUTION STEREO CAMERA"
MISSION_NAME = "MARS EXPRESS"
MISSION_PHASE_NAME = ME_Phase_29
PROCESSING_LEVEL_ID = 4
PRODUCT_CREATION_TIME = 2023-01-31T11:51:40.000Z
PRODUCT_ID = "HC543_0000_GR4.TIF"
RELEASE_ID = 0003
REVISION_ID = 0000
/* QUALITY DATA ELEMENTS */
DATA_QUALITY_ID = 1
DATA_QUALITY_DESC = "Data calculated based on original SPICE kernels"
/* TIME DATA ELEMENTS */
SPACECRAFT_CLOCK_START_COUNT = "1/0332485934.09046"
SPACECRAFT_CLOCK_STOP_COUNT = "1/0332486183.01471"
START_TIME = 2013-11-14T05:12:53.740Z
STOP_TIME = 2013-11-14T05:15:56.330Z
/* ORBITAL DATA ELEMENTS */
ASCENDING_NODE_LONGITUDE = 338.29
MAXIMUM_RESOLUTION = 0.1074
FOOTPRINT_POINT_LATITUDE = (-23.7758,-23.7755,-23.7743,-23.7724, -23.7723,-23.7729,-23.5425,-23.312, -23.0817,-22.7363,-22.3918,-21.9322, -21.7018,-21.4713,-21.1258,-20.8901, -20.653,-20.4155,-20.0597,-19.8228, -19.4675,-19.2307,-18.876,-18.5209, -18.1666,-17.9306,-17.6943,-17.4587, -17.2229,-16.9878,-16.7521,-16.3982, -16.1633,-15.9279,-15.6927,-15.4578, -15.1058,-14.8715,-14.5204,-14.1693, -13.8198,-13.5867,-13.3559,-13.1228, -12.7735,-12.5406,-12.1446,-12.0058, -11.9857,-11.9812,-11.9788,-11.9787, -11.9806,-12.2581,-12.5166,-12.7482, -12.9812,-13.213,-13.4467,-13.6805, -13.9144,-14.2657,-14.4999,-14.7344, -14.969,-15.2037,-15.4386,-15.6739, -15.909,-16.1439,-16.3793,-16.6147, -16.8504,-17.0863,-17.3223,-17.5584, -17.7946,-18.0309,-18.2673,-18.6226, -18.8597,-19.0966,-19.4521,-19.6892, -20.0454,-20.2829,-20.5197,-20.757, -20.9943,-21.2276,-21.4587,-21.6892, -22.1495,-22.6084,-22.8388,-23.0694, -23.4154,-23.6461,-23.7615,-23.7758)
FOOTPRINT_POINT_LONGITUDE = (321.103,320.596,320.243,319.865, 319.854,319.843,319.844,319.846,319.847 ,319.849,319.848,319.849,319.85,319.852 ,319.854,319.854,319.854,319.854, 319.854,319.854,319.853,319.852,319.851 ,319.85,319.849,319.847,319.846,319.844 ,319.843,319.84,319.839,319.838,319.836 ,319.834,319.833,319.831,319.828, 319.825,319.821,319.818,319.811,319.808 ,319.8,319.796,319.792,319.789,319.784, 319.782,319.782,320.567,321.093,321.106 ,321.114,321.114,321.11,321.107,321.106 ,321.103,321.103,321.103,321.103, 321.103,321.103,321.103,321.103,321.103 ,321.103,321.104,321.103,321.103, 321.102,321.102,321.102,321.102,321.102 ,321.103,321.102,321.102,321.103, 321.103,321.104,321.105,321.105,321.105 ,321.106,321.107,321.106,321.106, 321.105,321.106,321.109,321.11,321.11, 321.107,321.107,321.107,321.108,321.109 ,321.109,321.103)
ORBIT_NUMBER = 12543
ORBITAL_ECCENTRICITY = 0.578
ORBITAL_INCLINATION = 86.9
ORBITAL_SEMIMAJOR_AXIS = 8831.48
PERIAPSIS_ALTITUDE = 335.77
PERIAPSIS_ARGUMENT_ANGLE = 334.58
PERIAPSIS_TIME = 2013-11-14T05:12:25.000Z
SPACECRAFT_ORIENTATION = (0.0,1.0,0.0)
^MEX_ORIENTATION_DESC = "MEX_ORIENTATION_DESC.TXT"
SPACECRAFT_POINTING_MODE = NADIR
^MEX_POINTING_DESC = "MEX_POINTING_DESC.TXT"
RIGHT_ASCENSION = -1e+32
DECLINATION = -1e+32
OFFSET_ANGLE = -1e+32
SPACECRAFT_SOLAR_DISTANCE = 2.47409e+08
TARGET_NAME = MARS
/* CAMERA DATA ELEMENTS */
DETECTOR_TEMPERATURE = 18.3705
FOCAL_PLANE_TEMPERATURE = 8.1755
INST_CMPRS_NAME = "DISCRETE COSINE TRANSFORMATION (DCT)"
INST_CMPRS_RATIO = 10.0727
INST_CMPRS_QUALITY = 0
INST_CMPRS_QUANTZ_TBL_ID = 0
INSTRUMENT_TEMPERATURE = 11.6418
LENS_TEMPERATURE = 8.7872
MACROPIXEL_SIZE = 8
MISSING_FRAMES = 0
PIXEL_SUBSAMPLING_FLAG = N
SIGNAL_CHAIN_ID = 2
/* RADIOMETRIC DATA ELEMENTS */
BANDWIDTH = 88.0
CENTER_FILTER_WAVELENGTH = 538.0
RADIANCE_OFFSET = 0.260125
RADIANCE_SCALING_FACTOR = 0.00334592
REFLECTANCE_SCALING_FACTOR = 0.000176335
MEX:REFLECTANCE_OFFSET = 0.013709
/* IMAGE OBJECT DEFINITIONS */
OBJECT = IMAGE
  INTERCHANGE_FORMAT = BINARY
  LINES = 7000
  LINE_SAMPLES = 778
  SAMPLE_TYPE = UNSIGNED_INTEGER
  SAMPLE_BITS = 8
  BANDS = 1
  BAND_STORAGE_TYPE = BAND_SEQUENTIAL
  MAXIMUM = 255
  MEAN = 110.352
  MINIMUM = 1
  STANDARD_DEVIATION = 40.067
END_OBJECT = IMAGE
/* MAP OBJECT DEFINITIONS */
OBJECT = IMAGE_MAP_PROJECTION
  ^DATA_SET_MAP_PROJECTION_CATALOG= "DSMAP.CAT"
  A_AXIS_RADIUS = 3396.0
  B_AXIS_RADIUS = 3396.0
  C_AXIS_RADIUS = 3396.0
  CENTER_LATITUDE = 0.0
  CENTER_LONGITUDE = 320.0
  COORDINATE_SYSTEM_NAME = PLANETOGRAPHIC
  COORDINATE_SYSTEM_TYPE = "BODY-FIXED ROTATING"
  EASTERNMOST_LONGITUDE = 321.114
  FIRST_STANDARD_PARALLEL = "N/A"
  LINE_FIRST_PIXEL = 1
  LINE_LAST_PIXEL = 7000
  LINE_PROJECTION_OFFSET = -7096.0625
  MAP_PROJECTION_ROTATION = 0.0
  MAP_PROJECTION_TYPE = SINUSOIDAL
  MAP_RESOLUTION = 592.713803866667
  MAP_SCALE = 0.1
  MAXIMUM_LATITUDE = -11.9787
  MINIMUM_LATITUDE = -23.7758
  POSITIVE_LONGITUDE_DIRECTION = EAST
  REFERENCE_LATITUDE = "N/A"
  REFERENCE_LONGITUDE = "N/A"
  SAMPLE_FIRST_PIXEL = 1
  SAMPLE_LAST_PIXEL = 778
  SAMPLE_PROJECTION_OFFSET = 133.1875
  SECOND_STANDARD_PARALLEL = "N/A"
  WESTERNMOST_LONGITUDE = 319.782
END_OBJECT = IMAGE_MAP_PROJECTION
END
