PDS_VERSION_ID = PDS3
/* FILE DATA ELEMENTS */
RECORD_TYPE = UNDEFINED
/* POINTERS TO DATA OBJECTS */
^IMAGE = ("HC537_0000_IR4.TIF")
/* IDENTIFICATION DATA ELEMENTS */
DATA_SET_ID = "MEX-M-HRSC-4-REFDR-MAPPROJECT-EXT4-V4.0"
DATA_SET_NAME = "MARS EXPRESS HRSC MAP PROJECTED REFDR EXTENSION4 V4.0"
DETECTOR_ID = MEX_HRSC_IR
EVENT_TYPE = "MARS-REGIONAL-MAPPING-Te-Im-Fl"
INSTRUMENT_HOST_ID = MEX
INSTRUMENT_HOST_NAME = "MARS EXPRESS"
INSTRUMENT_ID = HRSC
INSTRUMENT_NAME = "HIGH RESOLUTION STEREO CAMERA"
MISSION_NAME = "MARS EXPRESS"
MISSION_PHASE_NAME = ME_Phase_29
PROCESSING_LEVEL_ID = 4
PRODUCT_CREATION_TIME = 2023-01-31T11:51:40.000Z
PRODUCT_ID = "HC537_0000_IR4.TIF"
RELEASE_ID = 0003
REVISION_ID = 0000
/* QUALITY DATA ELEMENTS */
DATA_QUALITY_ID = 1
DATA_QUALITY_DESC = "Data calculated based on original SPICE kernels"
/* TIME DATA ELEMENTS */
SPACECRAFT_CLOCK_START_COUNT = "1/0332335114.09046"
SPACECRAFT_CLOCK_STOP_COUNT = "1/0332335341.14869"
START_TIME = 2013-11-12T11:19:36.525Z
STOP_TIME = 2013-11-12T11:22:16.340Z
/* ORBITAL DATA ELEMENTS */
ASCENDING_NODE_LONGITUDE = 338.41
MAXIMUM_RESOLUTION = 0.0598
FOOTPRINT_POINT_LATITUDE = (-15.1286,-15.1295,-15.1309,-15.1321, -15.133,-15.1348,-15.1349,-15.1293, -14.7844,-14.4349,-14.1734,-13.7382, -13.3904,-13.0443,-12.7848,-12.4803, -12.2755,-11.9667,-11.6583,-11.3505, -11.1453,-10.9444,-10.7413,-10.5371, -10.3293,-10.1217,-9.91862,-9.71539, -9.51303,-9.31227,-9.11007,-8.90821, -8.70619,-8.50491,-8.30421,-8.10309, -7.9019,-7.70189,-7.5024,-7.20314, -6.90114,-6.69747,-6.39198,-6.18847, -5.88379,-5.67738,-5.47008,-5.36541, -5.33967,-5.33454,-5.33073,-5.32987, -5.32354,-5.32135,-5.32123,-5.32219, -5.52952,-5.73717,-5.94276,-6.14584, -6.45179,-6.65587,-6.86053,-7.06367, -7.26356,-7.46386,-7.76424,-7.96502, -8.16446,-8.36519,-8.56702,-8.76864, -8.97127,-9.17443,-9.37729,-9.58027, -9.78344,-9.9869,-10.1907,-10.3947, -10.599,-10.8033,-11.0083,-11.2127, -11.4196,-11.7252,-11.9305,-12.1365, -12.4452,-12.7556,-13.1026,-13.4503, -13.7115,-14.06,-14.4093,-14.5841, -14.7591,-15.0219,-15.1096,-15.1286)
FOOTPRINT_POINT_LONGITUDE = (214.275,214.094,213.805,213.552, 213.359,212.997,212.985,212.984,212.979 ,212.975,212.972,212.967,212.962, 212.958,212.954,212.949,212.946,212.941 ,212.937,212.932,212.929,212.924,212.92 ,212.917,212.914,212.912,212.908, 212.905,212.901,212.896,212.892,212.888 ,212.884,212.88,212.876,212.871,212.867 ,212.863,212.858,212.851,212.844, 212.839,212.832,212.827,212.819,212.813 ,212.808,212.805,212.805,213.155, 213.519,213.884,214.093,214.289,214.303 ,214.308,214.306,214.305,214.304, 214.302,214.301,214.299,214.298,214.298 ,214.297,214.296,214.294,214.293, 214.292,214.291,214.29,214.289,214.289, 214.288,214.288,214.287,214.287,214.286 ,214.285,214.285,214.284,214.284, 214.283,214.283,214.283,214.281,214.28, 214.28,214.279,214.279,214.278,214.278, 214.278,214.277,214.277,214.277,214.277 ,214.276,214.276,214.275)
ORBIT_NUMBER = 12537
ORBITAL_ECCENTRICITY = 0.578
ORBITAL_INCLINATION = 86.9
ORBITAL_SEMIMAJOR_AXIS = 8835.59
PERIAPSIS_ALTITUDE = 335.74
PERIAPSIS_ARGUMENT_ANGLE = 335.6
PERIAPSIS_TIME = 2013-11-12T11:16:48.000Z
SPACECRAFT_ORIENTATION = (0.0,1.0,0.0)
^MEX_ORIENTATION_DESC = "MEX_ORIENTATION_DESC.TXT"
SPACECRAFT_POINTING_MODE = NADIR
^MEX_POINTING_DESC = "MEX_POINTING_DESC.TXT"
RIGHT_ASCENSION = -1e+32
DECLINATION = -1e+32
OFFSET_ANGLE = -1e+32
SPACECRAFT_SOLAR_DISTANCE = 2.4728e+08
TARGET_NAME = MARS
/* CAMERA DATA ELEMENTS */
DETECTOR_TEMPERATURE = 16.9432
FOCAL_PLANE_TEMPERATURE = 7.9716
INST_CMPRS_NAME = "DISCRETE COSINE TRANSFORMATION (DCT)"
INST_CMPRS_RATIO = 7.52111
INST_CMPRS_QUALITY = 0
INST_CMPRS_QUANTZ_TBL_ID = 0
INSTRUMENT_TEMPERATURE = 11.6418
LENS_TEMPERATURE = 8.5833
MACROPIXEL_SIZE = 4
MISSING_FRAMES = 0
PIXEL_SUBSAMPLING_FLAG = N
SIGNAL_CHAIN_ID = 2
/* RADIOMETRIC DATA ELEMENTS */
BANDWIDTH = 81.0
CENTER_FILTER_WAVELENGTH = 955.5
RADIANCE_OFFSET = 0.292566
RADIANCE_SCALING_FACTOR = 0.00495806
REFLECTANCE_SCALING_FACTOR = 0.000654055
MEX:REFLECTANCE_OFFSET = 0.0385946
/* IMAGE OBJECT DEFINITIONS */
OBJECT = IMAGE
  INTERCHANGE_FORMAT = BINARY
  LINES = 11672
  LINE_SAMPLES = 1701
  SAMPLE_TYPE = UNSIGNED_INTEGER
  SAMPLE_BITS = 8
  BANDS = 1
  BAND_STORAGE_TYPE = BAND_SEQUENTIAL
  MAXIMUM = 255
  MEAN = 104.676
  MINIMUM = 1
  STANDARD_DEVIATION = 25.3741
END_OBJECT = IMAGE
/* MAP OBJECT DEFINITIONS */
OBJECT = IMAGE_MAP_PROJECTION
  ^DATA_SET_MAP_PROJECTION_CATALOG= "DSMAP.CAT"
  A_AXIS_RADIUS = 3396.0
  B_AXIS_RADIUS = 3396.0
  C_AXIS_RADIUS = 3396.0
  CENTER_LATITUDE = 0.0
  CENTER_LONGITUDE = 214.0
  COORDINATE_SYSTEM_NAME = PLANETOGRAPHIC
  COORDINATE_SYSTEM_TYPE = "BODY-FIXED ROTATING"
  EASTERNMOST_LONGITUDE = 214.308
  FIRST_STANDARD_PARALLEL = "N/A"
  LINE_FIRST_PIXEL = 1
  LINE_LAST_PIXEL = 11672
  LINE_PROJECTION_OFFSET = -6285.125
  MAP_PROJECTION_ROTATION = 0.0
  MAP_PROJECTION_TYPE = SINUSOIDAL
  MAP_RESOLUTION = 1185.42760773333
  MAP_SCALE = 0.05
  MAXIMUM_LATITUDE = -5.32123
  MINIMUM_LATITUDE = -15.1349
  POSITIVE_LONGITUDE_DIRECTION = EAST
  REFERENCE_LATITUDE = "N/A"
  REFERENCE_LONGITUDE = "N/A"
  SAMPLE_FIRST_PIXEL = 1
  SAMPLE_LAST_PIXEL = 1701
  SAMPLE_PROJECTION_OFFSET = 1377.875
  SECOND_STANDARD_PARALLEL = "N/A"
  WESTERNMOST_LONGITUDE = 212.805
END_OBJECT = IMAGE_MAP_PROJECTION
END
