PDS_VERSION_ID = PDS3
/* FILE DATA ELEMENTS */
RECORD_TYPE = UNDEFINED
/* POINTERS TO DATA OBJECTS */
^IMAGE = ("HC523_0000_S24.TIF")
/* IDENTIFICATION DATA ELEMENTS */
DATA_SET_ID = "MEX-M-HRSC-4-REFDR-MAPPROJECT-EXT4-V4.0"
DATA_SET_NAME = "MARS EXPRESS HRSC MAP PROJECTED REFDR EXTENSION4 V4.0"
DETECTOR_ID = MEX_HRSC_S2
EVENT_TYPE = "MARS-REGIONAL-MAPPING-Vo-Eo-La"
INSTRUMENT_HOST_ID = MEX
INSTRUMENT_HOST_NAME = "MARS EXPRESS"
INSTRUMENT_ID = HRSC
INSTRUMENT_NAME = "HIGH RESOLUTION STEREO CAMERA"
MISSION_NAME = "MARS EXPRESS"
MISSION_PHASE_NAME = ME_Phase_29
PROCESSING_LEVEL_ID = 4
PRODUCT_CREATION_TIME = 2023-01-31T11:51:40.000Z
PRODUCT_ID = "HC523_0000_S24.TIF"
RELEASE_ID = 0003
REVISION_ID = 0000
/* QUALITY DATA ELEMENTS */
DATA_QUALITY_ID = 1
DATA_QUALITY_DESC = "Data calculated based on original SPICE kernels"
/* TIME DATA ELEMENTS */
SPACECRAFT_CLOCK_START_COUNT = "1/0331982990.09061"
SPACECRAFT_CLOCK_STOP_COUNT = "1/0331983220.08034"
START_TIME = 2013-11-08T09:29:54.600Z
STOP_TIME = 2013-11-08T09:32:17.765Z
/* ORBITAL DATA ELEMENTS */
ASCENDING_NODE_LONGITUDE = 338.67
MAXIMUM_RESOLUTION = 0.0309
FOOTPRINT_POINT_LATITUDE = (-8.44542,-8.4486,-8.45037,-8.45252, -8.45321,-8.45359,-8.4536,-8.44222, -8.19852,-7.87281,-7.54305,-7.21741, -6.89623,-6.54371,-6.35167,-6.15703, -5.86462,-5.66971,-5.47538,-5.18434, -4.99251,-4.79891,-4.60523,-4.31499, -4.1212,-3.83123,-3.63789,-3.44541, -3.15565,-2.96022,-2.76753,-2.57627, -2.38304,-2.18967,-1.99637,-1.7067, -1.51339,-1.32013,-1.12695,-0.933387, -0.739969,-0.546056,-0.348677,-0.148871 ,0.0504904,0.250869,0.450245,0.649678, 0.850032,0.951866,1.00332,1.00276, 1.00613,1.0115,1.01862,1.02521,1.02644, 1.02598,0.724729,0.526266,0.329436, 0.130932,-0.0672834,-0.267183,-0.564412 ,-0.758053,-0.953321,-1.1455,-1.33906, -1.53308,-1.72642,-1.92003,-2.21022, -2.40347,-2.598,-2.79381,-3.08486, -3.46913,-3.67089,-3.86479,-4.15447, -4.35073,-4.54379,-4.73743,-4.93205, -5.12313,-5.31573,-5.50971,-5.70462, -6.0894,-6.28527,-6.581,-6.92693, -7.17174,-7.49772,-7.74166,-8.06705, -8.31349,-8.39503,-8.44542)
FOOTPRINT_POINT_LONGITUDE = (204.968,204.682,204.483,204.135, 203.936,203.699,203.686,203.679,203.676 ,203.671,203.664,203.659,203.655, 203.649,203.647,203.643,203.638,203.634 ,203.63,203.625,203.622,203.618,203.615 ,203.609,203.605,203.6,203.596,203.592, 203.586,203.582,203.578,203.574,203.57, 203.566,203.561,203.555,203.55,203.546, 203.541,203.536,203.532,203.527,203.521 ,203.516,203.51,203.505,203.499,203.494 ,203.488,203.485,203.484,203.788,204.15 ,204.526,204.758,204.962,204.977, 204.982,204.982,204.981,204.981,204.98, 204.979,204.978,204.977,204.976,204.975 ,204.975,204.974,204.974,204.974, 204.973,204.973,204.973,204.972,204.971 ,204.971,204.971,204.969,204.969, 204.969,204.968,204.969,204.969,204.968 ,204.969,204.97,204.97,204.97,204.971, 204.97,204.969,204.969,204.969,204.97, 204.97,204.97,204.97,204.97,204.968)
ORBIT_NUMBER = 12523
ORBITAL_ECCENTRICITY = 0.578
ORBITAL_INCLINATION = 86.9
ORBITAL_SEMIMAJOR_AXIS = 8837.26
PERIAPSIS_ALTITUDE = 336.65
PERIAPSIS_ARGUMENT_ANGLE = 338.02
PERIAPSIS_TIME = 2013-11-08T09:27:00.000Z
SPACECRAFT_ORIENTATION = (0.0,1.0,0.0)
^MEX_ORIENTATION_DESC = "MEX_ORIENTATION_DESC.TXT"
SPACECRAFT_POINTING_MODE = NADIR
^MEX_POINTING_DESC = "MEX_POINTING_DESC.TXT"
RIGHT_ASCENSION = -1e+32
DECLINATION = -1e+32
OFFSET_ANGLE = -1e+32
SPACECRAFT_SOLAR_DISTANCE = 2.46961e+08
TARGET_NAME = MARS
/* CAMERA DATA ELEMENTS */
DETECTOR_TEMPERATURE = 18.3705
FOCAL_PLANE_TEMPERATURE = 8.1755
INST_CMPRS_NAME = "DISCRETE COSINE TRANSFORMATION (DCT)"
INST_CMPRS_RATIO = 4.63264
INST_CMPRS_QUALITY = 0
INST_CMPRS_QUANTZ_TBL_ID = 0
INSTRUMENT_TEMPERATURE = 11.4379
LENS_TEMPERATURE = 10.4184
MACROPIXEL_SIZE = 2
MISSING_FRAMES = 0
PIXEL_SUBSAMPLING_FLAG = N
SIGNAL_CHAIN_ID = 1
/* RADIOMETRIC DATA ELEMENTS */
BANDWIDTH = 178.0
CENTER_FILTER_WAVELENGTH = 679.0
RADIANCE_OFFSET = 1.63133
RADIANCE_SCALING_FACTOR = 0.0156006
REFLECTANCE_SCALING_FACTOR = 0.000503883
MEX:REFLECTANCE_OFFSET = 0.0526902
/* IMAGE OBJECT DEFINITIONS */
OBJECT = IMAGE
  INTERCHANGE_FORMAT = BINARY
  LINES = 22411
  LINE_SAMPLES = 3713
  SAMPLE_TYPE = UNSIGNED_INTEGER
  SAMPLE_BITS = 8
  BANDS = 1
  BAND_STORAGE_TYPE = BAND_SEQUENTIAL
  MAXIMUM = 255
  MEAN = 98.9453
  MINIMUM = 1
  STANDARD_DEVIATION = 25.2656
END_OBJECT = IMAGE
/* MAP OBJECT DEFINITIONS */
OBJECT = IMAGE_MAP_PROJECTION
  ^DATA_SET_MAP_PROJECTION_CATALOG= "DSMAP.CAT"
  A_AXIS_RADIUS = 3396.0
  B_AXIS_RADIUS = 3396.0
  C_AXIS_RADIUS = 3396.0
  CENTER_LATITUDE = 0.0
  CENTER_LONGITUDE = 204.0
  COORDINATE_SYSTEM_NAME = PLANETOGRAPHIC
  COORDINATE_SYSTEM_TYPE = "BODY-FIXED ROTATING"
  EASTERNMOST_LONGITUDE = 204.982
  FIRST_STANDARD_PARALLEL = "N/A"
  LINE_FIRST_PIXEL = 1
  LINE_LAST_PIXEL = 22411
  LINE_PROJECTION_OFFSET = 2386.75
  MAP_PROJECTION_ROTATION = 0.0
  MAP_PROJECTION_TYPE = SINUSOIDAL
  MAP_RESOLUTION = 2370.85521546667
  MAP_SCALE = 0.025
  MAXIMUM_LATITUDE = 1.02644
  MINIMUM_LATITUDE = -8.4536
  POSITIVE_LONGITUDE_DIRECTION = EAST
  REFERENCE_LATITUDE = "N/A"
  REFERENCE_LONGITUDE = "N/A"
  SAMPLE_FIRST_PIXEL = 1
  SAMPLE_LAST_PIXEL = 3713
  SAMPLE_PROJECTION_OFFSET = 1301.75
  SECOND_STANDARD_PARALLEL = "N/A"
  WESTERNMOST_LONGITUDE = 203.484
END_OBJECT = IMAGE_MAP_PROJECTION
END
