PDS_VERSION_ID = PDS3
/* FILE DATA ELEMENTS */
RECORD_TYPE = UNDEFINED
/* POINTERS TO DATA OBJECTS */
^IMAGE = ("HC517_0000_RE4.TIF")
/* IDENTIFICATION DATA ELEMENTS */
DATA_SET_ID = "MEX-M-HRSC-4-REFDR-MAPPROJECT-EXT4-V4.0"
DATA_SET_NAME = "MARS EXPRESS HRSC MAP PROJECTED REFDR EXTENSION4 V4.0"
DETECTOR_ID = MEX_HRSC_RED
EVENT_TYPE = "MARS-REGIONAL-MAPPING-Vo-Fl"
INSTRUMENT_HOST_ID = MEX
INSTRUMENT_HOST_NAME = "MARS EXPRESS"
INSTRUMENT_ID = HRSC
INSTRUMENT_NAME = "HIGH RESOLUTION STEREO CAMERA"
MISSION_NAME = "MARS EXPRESS"
MISSION_PHASE_NAME = ME_Phase_29
PROCESSING_LEVEL_ID = 4
PRODUCT_CREATION_TIME = 2023-01-31T11:51:40.000Z
PRODUCT_ID = "HC517_0000_RE4.TIF"
RELEASE_ID = 0003
REVISION_ID = 0000
/* QUALITY DATA ELEMENTS */
DATA_QUALITY_ID = 1
DATA_QUALITY_DESC = "Data calculated based on original SPICE kernels"
/* TIME DATA ELEMENTS */
SPACECRAFT_CLOCK_START_COUNT = "1/0331832075.08425"
SPACECRAFT_CLOCK_STOP_COUNT = "1/0331832280.47988"
START_TIME = 2013-11-06T15:34:45.208Z
STOP_TIME = 2013-11-06T15:36:44.098Z
/* ORBITAL DATA ELEMENTS */
ASCENDING_NODE_LONGITUDE = 338.78
MAXIMUM_RESOLUTION = 0.1246
FOOTPRINT_POINT_LATITUDE = (-5.40229,-5.40433,-5.40607,-5.4084, -5.41,-5.411,-5.41181,-5.41256,-5.41261 ,-5.41937,-5.26532,-5.11101,-4.95709, -4.80375,-4.57384,-4.4205,-4.26785, -4.1134,-3.95759,-3.8041,-3.65139, -3.49699,-3.19117,-2.96176,-2.65888, -2.503,-2.34963,-2.19676,-2.0433, -1.81358,-1.51457,-1.35831,-1.20222, -0.973069,-0.819826,-0.516522,-0.363758 ,-0.209431,0.0197228,0.328366,0.485368, 0.642346,0.87775,1.03401,1.19086, 1.34706,1.5049,1.66516,1.82538,1.98522, 2.22464,2.30487,2.36093,2.36191,2.36598 ,2.36988,2.37288,2.37582,2.37602,2.374, 2.05503,1.89527,1.73484,1.49314,1.25614 ,1.09699,0.792749,0.636202,0.477942, 0.314166,0.158069,-0.145441,-0.29821, -0.596497,-0.826079,-1.06186,-1.21718, -1.52109,-1.75055,-1.98007,-2.13324, -2.28582,-2.51612,-2.6696,-2.82362, -2.9772,-3.1303,-3.43003,-3.73538, -3.97083,-4.12766,-4.2805,-4.43408, -4.66399,-4.81774,-4.9716,-5.12641, -5.28313,-5.36163,-5.40229)
FOOTPRINT_POINT_LONGITUDE = (98.1597,97.9882,97.8291,97.5843, 97.3764,97.2175,97.0583,96.8744,96.8621 ,96.8591,96.8562,96.8532,96.8503, 96.8476,96.8435,96.8407,96.8381,96.8348 ,96.831,96.8279,96.8251,96.8217,96.8158 ,96.8112,96.8061,96.8019,96.7985, 96.7953,96.7918,96.7867,96.7823,96.7776 ,96.773,96.7677,96.764,96.7575,96.7538, 96.7495,96.7438,96.736,96.7319,96.7278, 96.7215,96.7176,96.7133,96.7092,96.7049 ,96.7006,96.6964,96.6922,96.6859, 96.6836,96.6821,97.0032,97.4091,97.6054 ,97.9275,98.1519,98.166,98.1753,98.1743 ,98.1737,98.173,98.1716,98.1699,98.1684 ,98.1702,98.1696,98.1685,98.1655, 98.1646,98.1643,98.1638,98.1654,98.1647 ,98.1619,98.1607,98.1608,98.1603,98.16, 98.1597,98.1596,98.1591,98.1588,98.1583 ,98.158,98.1579,98.16,98.1603,98.1583, 98.1571,98.1573,98.1572,98.1573,98.1572 ,98.1571,98.1567,98.1556,98.1551, 98.1597)
ORBIT_NUMBER = 12517
ORBITAL_ECCENTRICITY = 0.578
ORBITAL_INCLINATION = 86.89
ORBITAL_SEMIMAJOR_AXIS = 8845.58
PERIAPSIS_ALTITUDE = 336.35
PERIAPSIS_ARGUMENT_ANGLE = 339.03
PERIAPSIS_TIME = 2013-11-06T15:31:14.000Z
SPACECRAFT_ORIENTATION = (0.0,1.0,0.0)
^MEX_ORIENTATION_DESC = "MEX_ORIENTATION_DESC.TXT"
SPACECRAFT_POINTING_MODE = NADIR
^MEX_POINTING_DESC = "MEX_POINTING_DESC.TXT"
RIGHT_ASCENSION = -1e+32
DECLINATION = -1e+32
OFFSET_ANGLE = -1e+32
SPACECRAFT_SOLAR_DISTANCE = 2.46818e+08
TARGET_NAME = MARS
/* CAMERA DATA ELEMENTS */
DETECTOR_TEMPERATURE = 18.9822
FOCAL_PLANE_TEMPERATURE = 8.1755
INST_CMPRS_NAME = "DISCRETE COSINE TRANSFORMATION (DCT)"
INST_CMPRS_RATIO = 6.01657
INST_CMPRS_QUALITY = 0
INST_CMPRS_QUANTZ_TBL_ID = 0
INSTRUMENT_TEMPERATURE = 11.234
LENS_TEMPERATURE = 7.3599
MACROPIXEL_SIZE = 8
MISSING_FRAMES = 0
PIXEL_SUBSAMPLING_FLAG = N
SIGNAL_CHAIN_ID = 2
/* RADIOMETRIC DATA ELEMENTS */
BANDWIDTH = 48.0
CENTER_FILTER_WAVELENGTH = 748.0
RADIANCE_OFFSET = 0.330685
RADIANCE_SCALING_FACTOR = 0.00437294
REFLECTANCE_SCALING_FACTOR = 0.000607931
MEX:REFLECTANCE_OFFSET = 0.0459722
/* IMAGE OBJECT DEFINITIONS */
OBJECT = IMAGE
  INTERCHANGE_FORMAT = BINARY
  LINES = 4613
  LINE_SAMPLES = 929
  SAMPLE_TYPE = UNSIGNED_INTEGER
  SAMPLE_BITS = 8
  BANDS = 1
  BAND_STORAGE_TYPE = BAND_SEQUENTIAL
  MAXIMUM = 255
  MEAN = 83.1956
  MINIMUM = 1
  STANDARD_DEVIATION = 29.4308
END_OBJECT = IMAGE
/* MAP OBJECT DEFINITIONS */
OBJECT = IMAGE_MAP_PROJECTION
  ^DATA_SET_MAP_PROJECTION_CATALOG= "DSMAP.CAT"
  A_AXIS_RADIUS = 3396.0
  B_AXIS_RADIUS = 3396.0
  C_AXIS_RADIUS = 3396.0
  CENTER_LATITUDE = 0.0
  CENTER_LONGITUDE = 97.0
  COORDINATE_SYSTEM_NAME = PLANETOGRAPHIC
  COORDINATE_SYSTEM_TYPE = "BODY-FIXED ROTATING"
  EASTERNMOST_LONGITUDE = 98.17529999999999
  FIRST_STANDARD_PARALLEL = "N/A"
  LINE_FIRST_PIXEL = 1
  LINE_LAST_PIXEL = 4613
  LINE_PROJECTION_OFFSET = 1406.4375
  MAP_PROJECTION_ROTATION = 0.0
  MAP_PROJECTION_TYPE = SINUSOIDAL
  MAP_RESOLUTION = 592.713803866667
  MAP_SCALE = 0.1
  MAXIMUM_LATITUDE = 2.37602
  MINIMUM_LATITUDE = -5.41937
  POSITIVE_LONGITUDE_DIRECTION = EAST
  REFERENCE_LATITUDE = "N/A"
  REFERENCE_LONGITUDE = "N/A"
  SAMPLE_FIRST_PIXEL = 1
  SAMPLE_LAST_PIXEL = 929
  SAMPLE_PROJECTION_OFFSET = 213.0625
  SECOND_STANDARD_PARALLEL = "N/A"
  WESTERNMOST_LONGITUDE = 96.68210000000001
END_OBJECT = IMAGE_MAP_PROJECTION
END
