PDS_VERSION_ID = PDS3
/* FILE DATA ELEMENTS */
RECORD_TYPE = UNDEFINED
/* POINTERS TO DATA OBJECTS */
^IMAGE = ("HC517_0000_GR4.TIF")
/* IDENTIFICATION DATA ELEMENTS */
DATA_SET_ID = "MEX-M-HRSC-4-REFDR-MAPPROJECT-EXT4-V4.0"
DATA_SET_NAME = "MARS EXPRESS HRSC MAP PROJECTED REFDR EXTENSION4 V4.0"
DETECTOR_ID = MEX_HRSC_GREEN
EVENT_TYPE = "MARS-REGIONAL-MAPPING-Vo-Fl"
INSTRUMENT_HOST_ID = MEX
INSTRUMENT_HOST_NAME = "MARS EXPRESS"
INSTRUMENT_ID = HRSC
INSTRUMENT_NAME = "HIGH RESOLUTION STEREO CAMERA"
MISSION_NAME = "MARS EXPRESS"
MISSION_PHASE_NAME = ME_Phase_29
PROCESSING_LEVEL_ID = 4
PRODUCT_CREATION_TIME = 2023-01-31T11:51:40.000Z
PRODUCT_ID = "HC517_0000_GR4.TIF"
RELEASE_ID = 0003
REVISION_ID = 0000
/* QUALITY DATA ELEMENTS */
DATA_QUALITY_ID = 1
DATA_QUALITY_DESC = "Data calculated based on original SPICE kernels"
/* TIME DATA ELEMENTS */
SPACECRAFT_CLOCK_START_COUNT = "1/0331832075.08425"
SPACECRAFT_CLOCK_STOP_COUNT = "1/0331832280.47988"
START_TIME = 2013-11-06T15:35:19.561Z
STOP_TIME = 2013-11-06T15:37:24.694Z
/* ORBITAL DATA ELEMENTS */
ASCENDING_NODE_LONGITUDE = 338.78
MAXIMUM_RESOLUTION = 0.1234
FOOTPRINT_POINT_LATITUDE = (-5.39816,-5.40102,-5.40267,-5.40427, -5.40564,-5.40717,-5.40871,-5.40881, -5.40526,-5.17839,-5.0273,-4.87618, -4.72512,-4.57415,-4.42332,-4.27254, -4.04676,-3.74615,-3.52099,-3.2205, -2.92061,-2.54625,-2.24744,-2.01945, -1.86638,-1.71315,-1.55868,-1.40642, -1.17859,-1.026,-0.870753,-0.636273, -0.479858,-0.323935,-0.0906787, 0.0651049,0.302974,0.462179,0.621266, 0.780177,0.939029,1.09773,1.25899, 1.42131,1.5836,1.74572,1.90777,2.06969, 2.23368,2.31638,2.34689,2.34968,2.35154 ,2.35445,2.35601,2.3579,2.36128,2.36306 ,2.3632,2.36111,2.11372,1.95167,1.70848 ,1.5463,1.38391,1.22225,1.06166, 0.822046,0.662869,0.503738,0.345578, 0.186399,0.0290907,-0.126842,-0.361096, -0.518203,-0.674483,-0.830819,-0.986039 ,-1.13811,-1.36744,-1.52041,-1.67344, -1.82659,-1.97984,-2.2088,-2.58258, -2.88202,-3.25779,-3.70948,-4.00909, -4.31076,-4.4616,-4.61263,-4.76372, -4.91489,-5.14144,-5.29227,-5.36784, -5.39816)
FOOTPRINT_POINT_LONGITUDE = (98.1811,97.8411,97.6396,97.4383, 97.2621,97.0608,96.859,96.8464,96.8431, 96.8385,96.8353,96.8323,96.8293,96.8263 ,96.8232,96.8201,96.8151,96.8081, 96.8028,96.7967,96.7901,96.7819,96.7747 ,96.7692,96.7654,96.7621,96.7613, 96.7565,96.7486,96.7449,96.7407,96.7348 ,96.7314,96.7272,96.7202,96.7163, 96.7096,96.7051,96.7005,96.6959,96.6914 ,96.6868,96.6822,96.6773,96.6727, 96.6679,96.6633,96.6586,96.6539,96.6513 ,96.6505,96.8546,97.0306,97.28,97.4412, 97.6616,97.9696,98.1906,98.2053,98.2151 ,98.213,98.2121,98.2103,98.2089,98.2077 ,98.2047,98.2046,98.2054,98.2045, 98.2033,98.1998,98.1981,98.1976,98.1969 ,98.1963,98.1974,98.1967,98.1958, 98.1931,98.1913,98.1907,98.1901,98.1895 ,98.1889,98.1883,98.1875,98.1859, 98.1846,98.1848,98.185,98.1812,98.1808, 98.1803,98.1801,98.1797,98.1794,98.1782 ,98.1767,98.1762,98.1811)
ORBIT_NUMBER = 12517
ORBITAL_ECCENTRICITY = 0.578
ORBITAL_INCLINATION = 86.89
ORBITAL_SEMIMAJOR_AXIS = 8845.58
PERIAPSIS_ALTITUDE = 336.35
PERIAPSIS_ARGUMENT_ANGLE = 339.03
PERIAPSIS_TIME = 2013-11-06T15:31:14.000Z
SPACECRAFT_ORIENTATION = (0.0,1.0,0.0)
^MEX_ORIENTATION_DESC = "MEX_ORIENTATION_DESC.TXT"
SPACECRAFT_POINTING_MODE = NADIR
^MEX_POINTING_DESC = "MEX_POINTING_DESC.TXT"
RIGHT_ASCENSION = -1e+32
DECLINATION = -1e+32
OFFSET_ANGLE = -1e+32
SPACECRAFT_SOLAR_DISTANCE = 2.46818e+08
TARGET_NAME = MARS
/* CAMERA DATA ELEMENTS */
DETECTOR_TEMPERATURE = 18.5744
FOCAL_PLANE_TEMPERATURE = 8.1755
INST_CMPRS_NAME = "DISCRETE COSINE TRANSFORMATION (DCT)"
INST_CMPRS_RATIO = 5.66935
INST_CMPRS_QUALITY = 0
INST_CMPRS_QUANTZ_TBL_ID = 0
INSTRUMENT_TEMPERATURE = 11.234
LENS_TEMPERATURE = 7.3599
MACROPIXEL_SIZE = 8
MISSING_FRAMES = 0
PIXEL_SUBSAMPLING_FLAG = N
SIGNAL_CHAIN_ID = 2
/* RADIOMETRIC DATA ELEMENTS */
BANDWIDTH = 88.0
CENTER_FILTER_WAVELENGTH = 538.0
RADIANCE_OFFSET = 0.529932
RADIANCE_SCALING_FACTOR = 0.00388526
REFLECTANCE_SCALING_FACTOR = 0.000203781
MEX:REFLECTANCE_OFFSET = 0.0277948
/* IMAGE OBJECT DEFINITIONS */
OBJECT = IMAGE
  INTERCHANGE_FORMAT = BINARY
  LINES = 4613
  LINE_SAMPLES = 929
  SAMPLE_TYPE = UNSIGNED_INTEGER
  SAMPLE_BITS = 8
  BANDS = 1
  BAND_STORAGE_TYPE = BAND_SEQUENTIAL
  MAXIMUM = 255
  MEAN = 94.839
  MINIMUM = 1
  STANDARD_DEVIATION = 27.6702
END_OBJECT = IMAGE
/* MAP OBJECT DEFINITIONS */
OBJECT = IMAGE_MAP_PROJECTION
  ^DATA_SET_MAP_PROJECTION_CATALOG= "DSMAP.CAT"
  A_AXIS_RADIUS = 3396.0
  B_AXIS_RADIUS = 3396.0
  C_AXIS_RADIUS = 3396.0
  CENTER_LATITUDE = 0.0
  CENTER_LONGITUDE = 97.0
  COORDINATE_SYSTEM_NAME = PLANETOGRAPHIC
  COORDINATE_SYSTEM_TYPE = "BODY-FIXED ROTATING"
  EASTERNMOST_LONGITUDE = 98.21510000000001
  FIRST_STANDARD_PARALLEL = "N/A"
  LINE_FIRST_PIXEL = 1
  LINE_LAST_PIXEL = 4613
  LINE_PROJECTION_OFFSET = 1406.4375
  MAP_PROJECTION_ROTATION = 0.0
  MAP_PROJECTION_TYPE = SINUSOIDAL
  MAP_RESOLUTION = 592.713803866667
  MAP_SCALE = 0.1
  MAXIMUM_LATITUDE = 2.3632
  MINIMUM_LATITUDE = -5.40881
  POSITIVE_LONGITUDE_DIRECTION = EAST
  REFERENCE_LATITUDE = "N/A"
  REFERENCE_LONGITUDE = "N/A"
  SAMPLE_FIRST_PIXEL = 1
  SAMPLE_LAST_PIXEL = 929
  SAMPLE_PROJECTION_OFFSET = 213.0625
  SECOND_STANDARD_PARALLEL = "N/A"
  WESTERNMOST_LONGITUDE = 96.65049999999999
END_OBJECT = IMAGE_MAP_PROJECTION
END
