PDS_VERSION_ID = PDS3
/* FILE DATA ELEMENTS */
RECORD_TYPE = UNDEFINED
/* POINTERS TO DATA OBJECTS */
^IMAGE = ("HC516_0000_ND4.TIF")
/* IDENTIFICATION DATA ELEMENTS */
DATA_SET_ID = "MEX-M-HRSC-4-REFDR-MAPPROJECT-EXT4-V4.0"
DATA_SET_NAME = "MARS EXPRESS HRSC MAP PROJECTED REFDR EXTENSION4 V4.0"
DETECTOR_ID = MEX_HRSC_NADIR
EVENT_TYPE = "MARS-REGIONAL-MAPPING-Vo-Eo-La"
INSTRUMENT_HOST_ID = MEX
INSTRUMENT_HOST_NAME = "MARS EXPRESS"
INSTRUMENT_ID = HRSC
INSTRUMENT_NAME = "HIGH RESOLUTION STEREO CAMERA"
MISSION_NAME = "MARS EXPRESS"
MISSION_PHASE_NAME = ME_Phase_29
PROCESSING_LEVEL_ID = 4
PRODUCT_CREATION_TIME = 2023-01-31T11:51:40.000Z
PRODUCT_ID = "HC516_0000_ND4.TIF"
RELEASE_ID = 0003
REVISION_ID = 0000
/* QUALITY DATA ELEMENTS */
DATA_QUALITY_ID = 1
DATA_QUALITY_DESC = "Data calculated based on original SPICE kernels"
/* TIME DATA ELEMENTS */
SPACECRAFT_CLOCK_START_COUNT = "1/0331806917.07324"
SPACECRAFT_CLOCK_STOP_COUNT = "1/0331807123.61540"
START_TIME = 2013-11-06T08:35:55.685Z
STOP_TIME = 2013-11-06T08:38:00.676Z
/* ORBITAL DATA ELEMENTS */
ASCENDING_NODE_LONGITUDE = 338.8
MAXIMUM_RESOLUTION = 0.0155
FOOTPRINT_POINT_LATITUDE = (-5.14027,-5.14453,-5.14638,-5.14861, -5.15096,-5.15225,-5.15235,-5.15191, -4.92177,-4.76844,-4.61519,-4.46203, -4.30895,-4.15596,-3.8502,-3.54476, -3.23965,-2.93498,-2.63066,-2.32679, -2.02324,-1.72008,-1.56628,-1.41082, -1.25549,-1.10026,-0.945142,-0.790124, -0.635215,-0.480409,-0.322721,-0.164033 ,-0.00546466,0.152974,0.311285,0.469471 ,0.627528,0.869398,1.03121,1.1929, 1.35447,1.51591,1.67722,1.92349,2.0885, 2.25337,2.41811,2.5827,2.66494,2.66656, 2.66919,2.67214,2.67451,2.67754,2.68195 ,2.68453,2.6847,2.68451,2.51987,2.35507 ,2.19014,2.02507,1.85987,1.69597, 1.53453,1.37296,1.21127,1.04945, 0.887492,0.645399,0.487193,0.328879, 0.170446,0.0118855,-0.146791,-0.305559, -0.463373,-0.618301,-0.773339,-0.928481 ,-1.08373,-1.23909,-1.39454,-1.55009, -1.70405,-2.00748,-2.31127,-2.61545, -2.92,-3.22488,-3.53012,-3.83573, -4.14164,-4.29468,-4.44787,-4.67791, -4.83129,-5.06159,-5.13839,-5.14027)
FOOTPRINT_POINT_LONGITUDE = (200.387,199.947,199.747,199.494, 199.214,199.054,199.041,199.03,199.026, 199.023,199.02,199.017,199.014,199.01, 199.004,198.996,198.988,198.981,198.975 ,198.969,198.962,198.956,198.952, 198.948,198.944,198.94,198.937,198.933, 198.929,198.925,198.921,198.916,198.911 ,198.907,198.903,198.899,198.895, 198.888,198.884,198.879,198.875,198.87, 198.866,198.859,198.854,198.849,198.844 ,198.839,198.837,198.837,199.056, 199.306,199.509,199.774,200.165,200.399 ,200.414,200.422,200.421,200.42,200.419 ,200.418,200.417,200.416,200.415, 200.414,200.413,200.412,200.411,200.409 ,200.408,200.408,200.407,200.406, 200.405,200.405,200.404,200.404,200.403 ,200.402,200.402,200.401,200.4,200.4, 200.399,200.398,200.397,200.397,200.396 ,200.395,200.395,200.394,200.395, 200.395,200.395,200.394,200.394,200.393 ,200.393,200.387)
ORBIT_NUMBER = 12516
ORBITAL_ECCENTRICITY = 0.578
ORBITAL_INCLINATION = 86.89
ORBITAL_SEMIMAJOR_AXIS = 8838.12
PERIAPSIS_ALTITUDE = 337.09
PERIAPSIS_ARGUMENT_ANGLE = 339.22
PERIAPSIS_TIME = 2013-11-06T08:31:55.000Z
SPACECRAFT_ORIENTATION = (0.0,1.0,0.0)
^MEX_ORIENTATION_DESC = "MEX_ORIENTATION_DESC.TXT"
SPACECRAFT_POINTING_MODE = NADIR
^MEX_POINTING_DESC = "MEX_POINTING_DESC.TXT"
RIGHT_ASCENSION = -1e+32
DECLINATION = -1e+32
OFFSET_ANGLE = -1e+32
SPACECRAFT_SOLAR_DISTANCE = 2.46794e+08
TARGET_NAME = MARS
/* CAMERA DATA ELEMENTS */
DETECTOR_TEMPERATURE = 18.3705
FOCAL_PLANE_TEMPERATURE = 8.5833
INST_CMPRS_NAME = "DISCRETE COSINE TRANSFORMATION (DCT)"
INST_CMPRS_RATIO = 4.26024
INST_CMPRS_QUALITY = 0
INST_CMPRS_QUANTZ_TBL_ID = 0
INSTRUMENT_TEMPERATURE = 11.8457
LENS_TEMPERATURE = 8.5833
MACROPIXEL_SIZE = 1
MISSING_FRAMES = 0
PIXEL_SUBSAMPLING_FLAG = N
SIGNAL_CHAIN_ID = 0
/* RADIOMETRIC DATA ELEMENTS */
BANDWIDTH = 177.0
CENTER_FILTER_WAVELENGTH = 677.5
RADIANCE_OFFSET = 1.33031
RADIANCE_SCALING_FACTOR = 0.0132883
REFLECTANCE_SCALING_FACTOR = 0.000429954
MEX:REFLECTANCE_OFFSET = 0.0430432
/* IMAGE OBJECT DEFINITIONS */
OBJECT = IMAGE
  INTERCHANGE_FORMAT = BINARY
  LINES = 37161
  LINE_SAMPLES = 7510
  SAMPLE_TYPE = UNSIGNED_INTEGER
  SAMPLE_BITS = 8
  BANDS = 1
  BAND_STORAGE_TYPE = BAND_SEQUENTIAL
  MAXIMUM = 255
  MEAN = 112.229
  MINIMUM = 1
  STANDARD_DEVIATION = 19.2639
END_OBJECT = IMAGE
/* MAP OBJECT DEFINITIONS */
OBJECT = IMAGE_MAP_PROJECTION
  ^DATA_SET_MAP_PROJECTION_CATALOG= "DSMAP.CAT"
  A_AXIS_RADIUS = 3396.0
  B_AXIS_RADIUS = 3396.0
  C_AXIS_RADIUS = 3396.0
  CENTER_LATITUDE = 0.0
  CENTER_LONGITUDE = 200.0
  COORDINATE_SYSTEM_NAME = PLANETOGRAPHIC
  COORDINATE_SYSTEM_TYPE = "BODY-FIXED ROTATING"
  EASTERNMOST_LONGITUDE = 200.422
  FIRST_STANDARD_PARALLEL = "N/A"
  LINE_FIRST_PIXEL = 1
  LINE_LAST_PIXEL = 37161
  LINE_PROJECTION_OFFSET = 12729.0
  MAP_PROJECTION_ROTATION = 0.0
  MAP_PROJECTION_TYPE = SINUSOIDAL
  MAP_RESOLUTION = 4741.71043093333
  MAP_SCALE = 0.0125
  MAXIMUM_LATITUDE = 2.6847
  MINIMUM_LATITUDE = -5.15235
  POSITIVE_LONGITUDE_DIRECTION = EAST
  REFERENCE_LATITUDE = "N/A"
  REFERENCE_LONGITUDE = "N/A"
  SAMPLE_FIRST_PIXEL = 1
  SAMPLE_LAST_PIXEL = 7510
  SAMPLE_PROJECTION_OFFSET = 5510.0
  SECOND_STANDARD_PARALLEL = "N/A"
  WESTERNMOST_LONGITUDE = 198.837
END_OBJECT = IMAGE_MAP_PROJECTION
END
