PDS_VERSION_ID = PDS3
/* FILE DATA ELEMENTS */
RECORD_TYPE = UNDEFINED
/* POINTERS TO DATA OBJECTS */
^IMAGE = ("HC511_0000_IR4.TIF")
/* IDENTIFICATION DATA ELEMENTS */
DATA_SET_ID = "MEX-M-HRSC-4-REFDR-MAPPROJECT-EXT4-V4.0"
DATA_SET_NAME = "MARS EXPRESS HRSC MAP PROJECTED REFDR EXTENSION4 V4.0"
DETECTOR_ID = MEX_HRSC_IR
EVENT_TYPE = "MARS-CLOUD-VARIABLE-At"
INSTRUMENT_HOST_ID = MEX
INSTRUMENT_HOST_NAME = "MARS EXPRESS"
INSTRUMENT_ID = HRSC
INSTRUMENT_NAME = "HIGH RESOLUTION STEREO CAMERA"
MISSION_NAME = "MARS EXPRESS"
MISSION_PHASE_NAME = ME_Phase_29
PROCESSING_LEVEL_ID = 4
PRODUCT_CREATION_TIME = 2023-01-31T11:51:40.000Z
PRODUCT_ID = "HC511_0000_IR4.TIF"
RELEASE_ID = 0003
REVISION_ID = 0000
/* QUALITY DATA ELEMENTS */
DATA_QUALITY_ID = 1
DATA_QUALITY_DESC = "Data calculated based on original SPICE kernels"
/* TIME DATA ELEMENTS */
SPACECRAFT_CLOCK_START_COUNT = "1/0331680926.09037"
SPACECRAFT_CLOCK_STOP_COUNT = "1/0331681645.25937"
START_TIME = 2013-11-04T21:36:20.838Z
STOP_TIME = 2013-11-04T21:47:28.037Z
/* ORBITAL DATA ELEMENTS */
ASCENDING_NODE_LONGITUDE = 338.9
MAXIMUM_RESOLUTION = 0.0571
FOOTPRINT_POINT_LATITUDE = (-17.6565,-17.6596,-17.6597,-17.6755, -16.7502,-16.1351,-15.2141,-14.6011, -13.9902,-12.7753,-11.5631,-10.3595, -9.16256,-8.15019,-7.44259,-6.73869, -6.03921,-5.33774,-4.64213,-3.94913, -3.2599,-2.5608,-1.50092,-0.787255, -0.0583327,0.678092,1.42265,2.17721, 2.94456,3.72116,4.50461,5.30239,6.12465 ,6.95291,7.79187,8.64659,9.51778, 10.4056,11.3088,12.2284,13.1691,14.1266 ,15.1015,16.102,17.1222,18.1607,19.7743 ,20.3199,20.4097,20.4293,20.4396, 20.4347,20.4345,20.4328,19.341,18.2751, 17.2299,16.2081,15.2077,14.2277,13.2687 ,12.3259,11.4043,10.4984,9.61213, 8.73744,7.88065,7.04025,6.20876,5.3938, 4.5905,3.80131,3.02352,2.25592,1.50021, 0.753936,0.0156785,-0.714127,-1.42997, -2.4942,-3.19054,-3.88066,-4.57341, -5.26949,-5.96877,-6.67074,-7.37866, -8.44028,-9.10279,-10.3024,-11.5066, -12.1163,-13.0226,-14.2491,-14.8614, -15.7733,-16.3885,-17.3141,-17.6231, -17.6565)
FOOTPRINT_POINT_LONGITUDE = (351.436,350.21,350.199,350.189,350.187 ,350.185,350.181,350.178,350.174, 350.163,350.151,350.137,350.12,350.105, 350.094,350.081,350.067,350.054,350.04, 350.025,350.009,349.993,349.966,349.947 ,349.927,349.907,349.885,349.862, 349.839,349.813,349.784,349.755,349.729 ,349.697,349.664,349.629,349.592, 349.554,349.513,349.47,349.424,349.376, 349.324,349.27,349.212,349.149,349.051, 349.015,349.009,349.894,351.127,351.853 ,351.88,351.889,351.847,351.807,351.772 ,351.74,351.711,351.684,351.66,351.638, 351.618,351.6,351.582,351.567,351.553, 351.539,351.529,351.517,351.508,351.499 ,351.49,351.483,351.477,351.471,351.466 ,351.461,351.456,351.451,351.447, 351.444,351.441,351.438,351.436,351.435 ,351.434,351.432,351.431,351.431, 351.431,351.433,351.432,351.437,351.438 ,351.437,351.439,351.441,351.442, 351.436)
ORBIT_NUMBER = 12511
ORBITAL_ECCENTRICITY = 0.578
ORBITAL_INCLINATION = 86.88
ORBITAL_SEMIMAJOR_AXIS = 8840.33
PERIAPSIS_ALTITUDE = 337.53
PERIAPSIS_ARGUMENT_ANGLE = 340.06
PERIAPSIS_TIME = 2013-11-04T21:35:22.000Z
SPACECRAFT_ORIENTATION = (0.0,1.0,0.0)
^MEX_ORIENTATION_DESC = "MEX_ORIENTATION_DESC.TXT"
SPACECRAFT_POINTING_MODE = NADIR
^MEX_POINTING_DESC = "MEX_POINTING_DESC.TXT"
RIGHT_ASCENSION = -1e+32
DECLINATION = -1e+32
OFFSET_ANGLE = -1e+32
SPACECRAFT_SOLAR_DISTANCE = 2.4667e+08
TARGET_NAME = MARS
/* CAMERA DATA ELEMENTS */
DETECTOR_TEMPERATURE = 18.1666
FOCAL_PLANE_TEMPERATURE = 9.6028
INST_CMPRS_NAME = "DISCRETE COSINE TRANSFORMATION (DCT)"
INST_CMPRS_RATIO = 8.74261
INST_CMPRS_QUALITY = 0
INST_CMPRS_QUANTZ_TBL_ID = 0
INSTRUMENT_TEMPERATURE = 12.2535
LENS_TEMPERATURE = 9.6028
MACROPIXEL_SIZE = 4
MISSING_FRAMES = 0
PIXEL_SUBSAMPLING_FLAG = N
SIGNAL_CHAIN_ID = 2
/* RADIOMETRIC DATA ELEMENTS */
BANDWIDTH = 81.0
CENTER_FILTER_WAVELENGTH = 955.5
RADIANCE_OFFSET = 0.181937
RADIANCE_SCALING_FACTOR = 0.00454841
REFLECTANCE_SCALING_FACTOR = 0.000597065
MEX:REFLECTANCE_OFFSET = 0.0238826
/* IMAGE OBJECT DEFINITIONS */
OBJECT = IMAGE
  INTERCHANGE_FORMAT = BINARY
  LINES = 45186
  LINE_SAMPLES = 2816
  SAMPLE_TYPE = UNSIGNED_INTEGER
  SAMPLE_BITS = 8
  BANDS = 1
  BAND_STORAGE_TYPE = BAND_SEQUENTIAL
  MAXIMUM = 255
  MEAN = 96.2187
  MINIMUM = 1
  STANDARD_DEVIATION = 43.6951
END_OBJECT = IMAGE
/* MAP OBJECT DEFINITIONS */
OBJECT = IMAGE_MAP_PROJECTION
  ^DATA_SET_MAP_PROJECTION_CATALOG= "DSMAP.CAT"
  A_AXIS_RADIUS = 3396.0
  B_AXIS_RADIUS = 3396.0
  C_AXIS_RADIUS = 3396.0
  CENTER_LATITUDE = 0.0
  CENTER_LONGITUDE = 351.0
  COORDINATE_SYSTEM_NAME = PLANETOGRAPHIC
  COORDINATE_SYSTEM_TYPE = "BODY-FIXED ROTATING"
  EASTERNMOST_LONGITUDE = 351.889
  FIRST_STANDARD_PARALLEL = "N/A"
  LINE_FIRST_PIXEL = 1
  LINE_LAST_PIXEL = 45186
  LINE_PROJECTION_OFFSET = 24243.0
  MAP_PROJECTION_ROTATION = 0.0
  MAP_PROJECTION_TYPE = SINUSOIDAL
  MAP_RESOLUTION = 1185.42760773333
  MAP_SCALE = 0.05
  MAXIMUM_LATITUDE = 20.4396
  MINIMUM_LATITUDE = -17.6755
  POSITIVE_LONGITUDE_DIRECTION = EAST
  REFERENCE_LATITUDE = "N/A"
  REFERENCE_LONGITUDE = "N/A"
  SAMPLE_FIRST_PIXEL = 1
  SAMPLE_LAST_PIXEL = 2816
  SAMPLE_PROJECTION_OFFSET = 2013.0
  SECOND_STANDARD_PARALLEL = "N/A"
  WESTERNMOST_LONGITUDE = 349.009
END_OBJECT = IMAGE_MAP_PROJECTION
END
