PDS_VERSION_ID = PDS3
/* FILE DATA ELEMENTS */
RECORD_TYPE = UNDEFINED
/* POINTERS TO DATA OBJECTS */
^IMAGE = ("HC510_0000_IR4.TIF")
/* IDENTIFICATION DATA ELEMENTS */
DATA_SET_ID = "MEX-M-HRSC-4-REFDR-MAPPROJECT-EXT4-V4.0"
DATA_SET_NAME = "MARS EXPRESS HRSC MAP PROJECTED REFDR EXTENSION4 V4.0"
DETECTOR_ID = MEX_HRSC_IR
EVENT_TYPE = "MARS-REGIONAL-MAPPING-Vo-Im-Fl"
INSTRUMENT_HOST_ID = MEX
INSTRUMENT_HOST_NAME = "MARS EXPRESS"
INSTRUMENT_ID = HRSC
INSTRUMENT_NAME = "HIGH RESOLUTION STEREO CAMERA"
MISSION_NAME = "MARS EXPRESS"
MISSION_PHASE_NAME = ME_Phase_29
PROCESSING_LEVEL_ID = 4
PRODUCT_CREATION_TIME = 2023-01-31T11:51:40.000Z
PRODUCT_ID = "HC510_0000_IR4.TIF"
RELEASE_ID = 0003
REVISION_ID = 0000
/* QUALITY DATA ELEMENTS */
DATA_QUALITY_ID = 1
DATA_QUALITY_DESC = "Data calculated based on original SPICE kernels"
/* TIME DATA ELEMENTS */
SPACECRAFT_CLOCK_START_COUNT = "1/0331655950.09052"
SPACECRAFT_CLOCK_STOP_COUNT = "1/0331656152.63544"
START_TIME = 2013-11-04T14:40:17.997Z
STOP_TIME = 2013-11-04T14:42:27.785Z
/* ORBITAL DATA ELEMENTS */
ASCENDING_NODE_LONGITUDE = 338.92
MAXIMUM_RESOLUTION = 0.1299
FOOTPRINT_POINT_LATITUDE = (-5.21896,-5.22372,-5.22859,-5.23359, -5.23878,-5.24414,-5.25287,-5.25323, -5.23966,-5.08824,-4.93707,-4.78629, -4.63577,-4.34002,-4.18959,-3.96482, -3.81213,-3.51198,-3.22064,-2.9262, -2.6257,-2.47342,-2.32159,-2.16951, -2.01781,-1.79058,-1.63918,-1.40622, -1.25071,-1.09766,-0.943023,-0.712449, -0.479472,-0.321818,-0.164616, -0.0071449,0.149956,0.385506,0.626456, 0.788467,0.948163,1.10726,1.26534, 1.42178,1.58461,1.8274,2.07184,2.39663, 2.47955,2.48381,2.49405,2.50624,2.50954 ,2.51462,2.52167,2.52517,2.52868, 2.52911,2.52731,2.36175,2.19964,1.95652 ,1.79417,1.55049,1.38709,1.22688, 1.06765,0.908338,0.669716,0.506855, 0.267523,0.0312658,-0.126409,-0.281448, -0.441235,-0.597164,-0.900384,-1.13271, -1.28758,-1.52041,-1.74824,-1.90067, -2.05192,-2.27926,-2.43407,-2.7325, -3.03251,-3.18244,-3.48181,-3.70504, -3.85542,-4.07937,-4.37681,-4.52652, -4.6787,-4.83151,-4.98557,-5.13748, -5.21304,-5.21896)
FOOTPRINT_POINT_LONGITUDE = (93.2664,93.0635,92.8599,92.6554, 92.4502,92.2443,91.9204,91.9074,91.9073 ,91.9047,91.902,91.8991,91.8962,91.8875 ,91.8847,91.88,91.8784,91.8727,91.8624, 91.854,91.8467,91.8432,91.8394,91.8358, 91.8321,91.8265,91.8227,91.8172,91.8136 ,91.8087,91.8047,91.7981,91.792,91.7877 ,91.7832,91.7789,91.7745,91.7679, 91.7622,91.7584,91.7535,91.7484,91.7428 ,91.7364,91.7313,91.723,91.7157,91.7047 ,91.7021,91.702,92.0056,92.2951,92.4461 ,92.6723,92.9129,93.1228,93.2874, 93.3023,93.3122,93.3107,93.3092,93.3069 ,93.3054,93.3031,93.3022,93.301,93.2996 ,93.2982,93.296,93.2953,93.2944,93.2928 ,93.2918,93.2902,93.2895,93.2885, 93.2854,93.2841,93.2832,93.2818,93.2803 ,93.2797,93.2788,93.2774,93.2772, 93.2744,93.2735,93.273,93.2718,93.2707, 93.2702,93.2692,93.2675,93.2668,93.2666 ,93.2665,93.2666,93.2663,93.266, 93.2664)
ORBIT_NUMBER = 12510
ORBITAL_ECCENTRICITY = 0.578
ORBITAL_INCLINATION = 86.89
ORBITAL_SEMIMAJOR_AXIS = 8847.08
PERIAPSIS_ALTITUDE = 336.68
PERIAPSIS_ARGUMENT_ANGLE = 340.23
PERIAPSIS_TIME = 2013-11-04T14:36:05.000Z
SPACECRAFT_ORIENTATION = (0.0,1.0,0.0)
^MEX_ORIENTATION_DESC = "MEX_ORIENTATION_DESC.TXT"
SPACECRAFT_POINTING_MODE = ACROSSTRACK
^MEX_POINTING_DESC = "MEX_POINTING_DESC.TXT"
RIGHT_ASCENSION = -1e+32
DECLINATION = -1e+32
OFFSET_ANGLE = 0.35
SPACECRAFT_SOLAR_DISTANCE = 2.46645e+08
TARGET_NAME = MARS
/* CAMERA DATA ELEMENTS */
DETECTOR_TEMPERATURE = 17.7588
FOCAL_PLANE_TEMPERATURE = 8.3794
INST_CMPRS_NAME = "DISCRETE COSINE TRANSFORMATION (DCT)"
INST_CMPRS_RATIO = 6.88174
INST_CMPRS_QUALITY = 0
INST_CMPRS_QUANTZ_TBL_ID = 0
INSTRUMENT_TEMPERATURE = 11.234
LENS_TEMPERATURE = 8.5833
MACROPIXEL_SIZE = 8
MISSING_FRAMES = 0
PIXEL_SUBSAMPLING_FLAG = N
SIGNAL_CHAIN_ID = 2
/* RADIOMETRIC DATA ELEMENTS */
BANDWIDTH = 81.0
CENTER_FILTER_WAVELENGTH = 955.5
RADIANCE_OFFSET = 0.230332
RADIANCE_SCALING_FACTOR = 0.00361305
REFLECTANCE_SCALING_FACTOR = 0.000474186
MEX:REFLECTANCE_OFFSET = 0.0302293
/* IMAGE OBJECT DEFINITIONS */
OBJECT = IMAGE
  INTERCHANGE_FORMAT = BINARY
  LINES = 4593
  LINE_SAMPLES = 914
  SAMPLE_TYPE = UNSIGNED_INTEGER
  SAMPLE_BITS = 8
  BANDS = 1
  BAND_STORAGE_TYPE = BAND_SEQUENTIAL
  MAXIMUM = 255
  MEAN = 99.1065
  MINIMUM = 1
  STANDARD_DEVIATION = 35.9491
END_OBJECT = IMAGE
/* MAP OBJECT DEFINITIONS */
OBJECT = IMAGE_MAP_PROJECTION
  ^DATA_SET_MAP_PROJECTION_CATALOG= "DSMAP.CAT"
  A_AXIS_RADIUS = 3396.0
  B_AXIS_RADIUS = 3396.0
  C_AXIS_RADIUS = 3396.0
  CENTER_LATITUDE = 0.0
  CENTER_LONGITUDE = 93.0
  COORDINATE_SYSTEM_NAME = PLANETOGRAPHIC
  COORDINATE_SYSTEM_TYPE = "BODY-FIXED ROTATING"
  EASTERNMOST_LONGITUDE = 93.3122
  FIRST_STANDARD_PARALLEL = "N/A"
  LINE_FIRST_PIXEL = 1
  LINE_LAST_PIXEL = 4593
  LINE_PROJECTION_OFFSET = 1482.1875
  MAP_PROJECTION_ROTATION = 0.0
  MAP_PROJECTION_TYPE = SINUSOIDAL
  MAP_RESOLUTION = 592.713803866667
  MAP_SCALE = 0.1
  MAXIMUM_LATITUDE = 2.52911
  MINIMUM_LATITUDE = -5.25323
  POSITIVE_LONGITUDE_DIRECTION = EAST
  REFERENCE_LATITUDE = "N/A"
  REFERENCE_LONGITUDE = "N/A"
  SAMPLE_FIRST_PIXEL = 1
  SAMPLE_LAST_PIXEL = 914
  SAMPLE_PROJECTION_OFFSET = 751.8125
  SECOND_STANDARD_PARALLEL = "N/A"
  WESTERNMOST_LONGITUDE = 91.702
END_OBJECT = IMAGE_MAP_PROJECTION
END
