PDS_VERSION_ID = PDS3
/* FILE DATA ELEMENTS */
RECORD_TYPE = UNDEFINED
/* POINTERS TO DATA OBJECTS */
^IMAGE = ("HC510_0000_BL4.TIF")
/* IDENTIFICATION DATA ELEMENTS */
DATA_SET_ID = "MEX-M-HRSC-4-REFDR-MAPPROJECT-EXT4-V4.0"
DATA_SET_NAME = "MARS EXPRESS HRSC MAP PROJECTED REFDR EXTENSION4 V4.0"
DETECTOR_ID = MEX_HRSC_BLUE
EVENT_TYPE = "MARS-REGIONAL-MAPPING-Vo-Im-Fl"
INSTRUMENT_HOST_ID = MEX
INSTRUMENT_HOST_NAME = "MARS EXPRESS"
INSTRUMENT_ID = HRSC
INSTRUMENT_NAME = "HIGH RESOLUTION STEREO CAMERA"
MISSION_NAME = "MARS EXPRESS"
MISSION_PHASE_NAME = ME_Phase_29
PROCESSING_LEVEL_ID = 4
PRODUCT_CREATION_TIME = 2023-01-31T11:51:40.000Z
PRODUCT_ID = "HC510_0000_BL4.TIF"
RELEASE_ID = 0003
REVISION_ID = 0000
/* QUALITY DATA ELEMENTS */
DATA_QUALITY_ID = 1
DATA_QUALITY_DESC = "Data calculated based on original SPICE kernels"
/* TIME DATA ELEMENTS */
SPACECRAFT_CLOCK_START_COUNT = "1/0331655950.09052"
SPACECRAFT_CLOCK_STOP_COUNT = "1/0331656152.63544"
START_TIME = 2013-11-04T14:39:42.633Z
STOP_TIME = 2013-11-04T14:41:44.124Z
/* ORBITAL DATA ELEMENTS */
ASCENDING_NODE_LONGITUDE = 338.92
MAXIMUM_RESOLUTION = 0.1198
FOOTPRINT_POINT_LATITUDE = (-5.22301,-5.22398,-5.22488,-5.22569, -5.2264,-5.22702,-5.22783,-5.22786, -5.22837,-5.00355,-4.77881,-4.62897, -4.47895,-4.3288,-4.17917,-3.95463, -3.65691,-3.50656,-3.35666,-3.20716, -3.05768,-2.90833,-2.75934,-2.61033, -2.46147,-2.16387,-1.79234,-1.49552, -1.19953,-0.902755,-0.680615,-0.384626, -0.232937,-0.00543254,0.146031,0.297377 ,0.448703,0.599816,0.750472,0.902899, 1.05834,1.29131,1.52399,1.67873,1.91049 ,2.06713,2.22514,2.38365,2.46265, 2.47976,2.48183,2.48265,2.48381,2.48568 ,2.4881,2.49018,2.49028,2.48822,2.25079 ,2.09248,1.93503,1.78042,1.62574, 1.39367,1.16124,1.00605,0.850722, 0.699063,0.472813,0.321781,0.170323, 0.0187398,-0.133045,-0.361136,-0.657432 ,-0.880624,-1.17711,-1.47387,-1.62298, -1.91968,-2.0687,-2.21799,-2.51491, -2.66546,-2.9631,-3.18678,-3.33594, -3.48527,-3.63504,-3.78436,-4.00902, -4.15881,-4.30892,-4.534,-4.68383, -4.83279,-4.98216,-5.13216,-5.20725, -5.22301)
FOOTPRINT_POINT_LONGITUDE = (93.2399,93.0456,92.8506,92.6548, 92.4583,92.261,91.9508,91.9384,91.9384, 91.935,91.9314,91.9287,91.9255,91.9217, 91.919,91.9143,91.9116,91.9063,91.9019, 91.8982,91.8944,91.8908,91.8878,91.8846 ,91.8815,91.8751,91.867,91.8605,91.8552 ,91.8472,91.8417,91.834,91.8301,91.8244 ,91.8208,91.8172,91.8134,91.81,91.8073, 91.8046,91.7994,91.7916,91.7838,91.7793 ,91.7728,91.7687,91.7647,91.7593,91.757 ,91.7565,92.055,92.2264,92.4108,92.6652 ,93.0168,93.241,93.255,93.2643,93.2629, 93.262,93.2611,93.2602,93.2594,93.2583, 93.2572,93.2564,93.2555,93.2547,93.2544 ,93.2541,93.2535,93.253,93.2524,93.2512 ,93.2501,93.2485,93.2476,93.2467, 93.2458,93.2454,93.2448,93.244,93.244, 93.2425,93.2423,93.2419,93.2418,93.2415 ,93.241,93.2409,93.2404,93.2401,93.2396 ,93.239,93.2389,93.2395,93.2398,93.2397 ,93.2396,93.2399)
ORBIT_NUMBER = 12510
ORBITAL_ECCENTRICITY = 0.578
ORBITAL_INCLINATION = 86.89
ORBITAL_SEMIMAJOR_AXIS = 8847.08
PERIAPSIS_ALTITUDE = 336.68
PERIAPSIS_ARGUMENT_ANGLE = 340.23
PERIAPSIS_TIME = 2013-11-04T14:36:05.000Z
SPACECRAFT_ORIENTATION = (0.0,1.0,0.0)
^MEX_ORIENTATION_DESC = "MEX_ORIENTATION_DESC.TXT"
SPACECRAFT_POINTING_MODE = ACROSSTRACK
^MEX_POINTING_DESC = "MEX_POINTING_DESC.TXT"
RIGHT_ASCENSION = -1e+32
DECLINATION = -1e+32
OFFSET_ANGLE = 0.35
SPACECRAFT_SOLAR_DISTANCE = 2.46645e+08
TARGET_NAME = MARS
/* CAMERA DATA ELEMENTS */
DETECTOR_TEMPERATURE = 18.3705
FOCAL_PLANE_TEMPERATURE = 8.3794
INST_CMPRS_NAME = "DISCRETE COSINE TRANSFORMATION (DCT)"
INST_CMPRS_RATIO = 6.87718
INST_CMPRS_QUALITY = 0
INST_CMPRS_QUANTZ_TBL_ID = 0
INSTRUMENT_TEMPERATURE = 11.234
LENS_TEMPERATURE = 8.5833
MACROPIXEL_SIZE = 8
MISSING_FRAMES = 0
PIXEL_SUBSAMPLING_FLAG = N
SIGNAL_CHAIN_ID = 2
/* RADIOMETRIC DATA ELEMENTS */
BANDWIDTH = 76.0
CENTER_FILTER_WAVELENGTH = 444.0
RADIANCE_OFFSET = 0.248509
RADIANCE_SCALING_FACTOR = 0.00136127
REFLECTANCE_SCALING_FACTOR = 8.50836e-05
MEX:REFLECTANCE_OFFSET = 0.0155326
/* IMAGE OBJECT DEFINITIONS */
OBJECT = IMAGE
  INTERCHANGE_FORMAT = BINARY
  LINES = 4593
  LINE_SAMPLES = 914
  SAMPLE_TYPE = UNSIGNED_INTEGER
  SAMPLE_BITS = 8
  BANDS = 1
  BAND_STORAGE_TYPE = BAND_SEQUENTIAL
  MAXIMUM = 255
  MEAN = 113.442
  MINIMUM = 1
  STANDARD_DEVIATION = 33.507
END_OBJECT = IMAGE
/* MAP OBJECT DEFINITIONS */
OBJECT = IMAGE_MAP_PROJECTION
  ^DATA_SET_MAP_PROJECTION_CATALOG= "DSMAP.CAT"
  A_AXIS_RADIUS = 3396.0
  B_AXIS_RADIUS = 3396.0
  C_AXIS_RADIUS = 3396.0
  CENTER_LATITUDE = 0.0
  CENTER_LONGITUDE = 93.0
  COORDINATE_SYSTEM_NAME = PLANETOGRAPHIC
  COORDINATE_SYSTEM_TYPE = "BODY-FIXED ROTATING"
  EASTERNMOST_LONGITUDE = 93.26430000000001
  FIRST_STANDARD_PARALLEL = "N/A"
  LINE_FIRST_PIXEL = 1
  LINE_LAST_PIXEL = 4593
  LINE_PROJECTION_OFFSET = 1482.1875
  MAP_PROJECTION_ROTATION = 0.0
  MAP_PROJECTION_TYPE = SINUSOIDAL
  MAP_RESOLUTION = 592.713803866667
  MAP_SCALE = 0.1
  MAXIMUM_LATITUDE = 2.49028
  MINIMUM_LATITUDE = -5.22837
  POSITIVE_LONGITUDE_DIRECTION = EAST
  REFERENCE_LATITUDE = "N/A"
  REFERENCE_LONGITUDE = "N/A"
  SAMPLE_FIRST_PIXEL = 1
  SAMPLE_LAST_PIXEL = 914
  SAMPLE_PROJECTION_OFFSET = 751.8125
  SECOND_STANDARD_PARALLEL = "N/A"
  WESTERNMOST_LONGITUDE = 91.7565
END_OBJECT = IMAGE_MAP_PROJECTION
END
