PDS_VERSION_ID = PDS3
/* FILE DATA ELEMENTS */
RECORD_TYPE = UNDEFINED
/* POINTERS TO DATA OBJECTS */
^IMAGE = ("HC509_0000_S24.TIF")
/* IDENTIFICATION DATA ELEMENTS */
DATA_SET_ID = "MEX-M-HRSC-4-REFDR-MAPPROJECT-EXT4-V4.0"
DATA_SET_NAME = "MARS EXPRESS HRSC MAP PROJECTED REFDR EXTENSION4 V4.0"
DETECTOR_ID = MEX_HRSC_S2
EVENT_TYPE = "MARS-LOCAL-STEREO-Vo-Eo-La"
INSTRUMENT_HOST_ID = MEX
INSTRUMENT_HOST_NAME = "MARS EXPRESS"
INSTRUMENT_ID = HRSC
INSTRUMENT_NAME = "HIGH RESOLUTION STEREO CAMERA"
MISSION_NAME = "MARS EXPRESS"
MISSION_PHASE_NAME = ME_Phase_29
PROCESSING_LEVEL_ID = 4
PRODUCT_CREATION_TIME = 2023-01-31T11:51:40.000Z
PRODUCT_ID = "HC509_0000_S24.TIF"
RELEASE_ID = 0003
REVISION_ID = 0000
/* QUALITY DATA ELEMENTS */
DATA_QUALITY_ID = 1
DATA_QUALITY_DESC = "Data calculated based on original SPICE kernels"
/* TIME DATA ELEMENTS */
SPACECRAFT_CLOCK_START_COUNT = "1/0331630844.08246"
SPACECRAFT_CLOCK_STOP_COUNT = "1/0331630979.09119"
START_TIME = 2013-11-04T07:40:48.586Z
STOP_TIME = 2013-11-04T07:41:39.812Z
/* ORBITAL DATA ELEMENTS */
ASCENDING_NODE_LONGITUDE = 338.94
MAXIMUM_RESOLUTION = 0.0167
FOOTPRINT_POINT_LATITUDE = (-1.55331,-1.55909,-1.5632,-1.5672, -1.57111,-1.57492,-1.57862,-1.5822, -1.58567,-1.58906,-1.59237,-1.59598, -1.59911,-1.59949,-1.57536,-1.47525, -1.37493,-1.30746,-1.24043,-1.14028, -1.0398,-0.97224,-0.870764,-0.802839, -0.735767,-0.635489,-0.469331,-0.334759 ,-0.227011,-0.157377,-0.0902815, 0.00689394,0.0739756,0.141422,0.241687, 0.374795,0.475367,0.63935,0.739416, 0.873035,0.940649,1.00837,1.14175, 1.24159,1.40906,1.51039,1.64384,1.74412 ,1.7782,1.79791,1.80233,1.80574,1.80805 ,1.81095,1.8151,1.8174,1.82243,1.82668, 1.82888,1.83214,1.83568,1.84129,1.84615 ,1.84671,1.84672,1.71169,1.61106, 1.47681,1.40922,1.27582,1.17439,1.10716 ,1.00498,0.90365,0.835876,0.768821, 0.668317,0.569192,0.404307,0.240305, 0.141404,0.00733881,-0.0597929, -0.127564,-0.230942,-0.335595,-0.439095 ,-0.508112,-0.606749,-0.740188, -0.841121,-0.908518,-1.01011,-1.11067, -1.21077,-1.34371,-1.41129,-1.47936, -1.51369,-1.55331)
FOOTPRINT_POINT_LONGITUDE = (196.203,196.052,195.943,195.834, 195.725,195.616,195.508,195.4,195.293, 195.185,195.078,194.957,194.85,194.837, 194.828,194.826,194.823,194.822,194.821 ,194.818,194.816,194.815,194.812, 194.811,194.809,194.807,194.804,194.801 ,194.797,194.796,194.794,194.792, 194.791,194.789,194.787,194.784,194.781 ,194.778,194.776,194.773,194.771, 194.769,194.766,194.764,194.76,194.757, 194.754,194.751,194.751,194.75,194.864, 194.979,195.065,195.18,195.325,195.411, 195.541,195.658,195.745,195.861,195.949 ,196.081,196.199,196.213,196.221,196.22 ,196.22,196.219,196.219,196.219,196.218 ,196.218,196.217,196.216,196.216, 196.215,196.215,196.216,196.217,196.218 ,196.219,196.218,196.218,196.218, 196.216,196.215,196.213,196.212,196.213 ,196.213,196.213,196.213,196.212, 196.212,196.213,196.213,196.213,196.213 ,196.212,196.203)
ORBIT_NUMBER = 12509
ORBITAL_ECCENTRICITY = 0.578
ORBITAL_INCLINATION = 86.89
ORBITAL_SEMIMAJOR_AXIS = 8838.99
PERIAPSIS_ALTITUDE = 337.54
PERIAPSIS_ARGUMENT_ANGLE = 340.42
PERIAPSIS_TIME = 2013-11-04T07:36:46.000Z
SPACECRAFT_ORIENTATION = (0.0,1.0,0.0)
^MEX_ORIENTATION_DESC = "MEX_ORIENTATION_DESC.TXT"
SPACECRAFT_POINTING_MODE = ACROSSTRACK
^MEX_POINTING_DESC = "MEX_POINTING_DESC.TXT"
RIGHT_ASCENSION = -1e+32
DECLINATION = -1e+32
OFFSET_ANGLE = -0.4
SPACECRAFT_SOLAR_DISTANCE = 2.4662e+08
TARGET_NAME = MARS
/* CAMERA DATA ELEMENTS */
DETECTOR_TEMPERATURE = 18.7783
FOCAL_PLANE_TEMPERATURE = 8.1755
INST_CMPRS_NAME = "DISCRETE COSINE TRANSFORMATION (DCT)"
INST_CMPRS_RATIO = 4.92077
INST_CMPRS_QUALITY = 0
INST_CMPRS_QUANTZ_TBL_ID = 0
INSTRUMENT_TEMPERATURE = 11.4379
LENS_TEMPERATURE = 8.7872
MACROPIXEL_SIZE = 1
MISSING_FRAMES = 0
PIXEL_SUBSAMPLING_FLAG = N
SIGNAL_CHAIN_ID = 1
/* RADIOMETRIC DATA ELEMENTS */
BANDWIDTH = 178.0
CENTER_FILTER_WAVELENGTH = 679.0
RADIANCE_OFFSET = 1.88251
RADIANCE_SCALING_FACTOR = 0.012304
REFLECTANCE_SCALING_FACTOR = 0.000396309
MEX:REFLECTANCE_OFFSET = 0.0606353
/* IMAGE OBJECT DEFINITIONS */
OBJECT = IMAGE
  INTERCHANGE_FORMAT = BINARY
  LINES = 16094
  LINE_SAMPLES = 7241
  SAMPLE_TYPE = UNSIGNED_INTEGER
  SAMPLE_BITS = 8
  BANDS = 1
  BAND_STORAGE_TYPE = BAND_SEQUENTIAL
  MAXIMUM = 255
  MEAN = 96.4421
  MINIMUM = 1
  STANDARD_DEVIATION = 29.384
END_OBJECT = IMAGE
/* MAP OBJECT DEFINITIONS */
OBJECT = IMAGE_MAP_PROJECTION
  ^DATA_SET_MAP_PROJECTION_CATALOG= "DSMAP.CAT"
  A_AXIS_RADIUS = 3396.0
  B_AXIS_RADIUS = 3396.0
  C_AXIS_RADIUS = 3396.0
  CENTER_LATITUDE = 0.0
  CENTER_LONGITUDE = 195.0
  COORDINATE_SYSTEM_NAME = PLANETOGRAPHIC
  COORDINATE_SYSTEM_TYPE = "BODY-FIXED ROTATING"
  EASTERNMOST_LONGITUDE = 196.221
  FIRST_STANDARD_PARALLEL = "N/A"
  LINE_FIRST_PIXEL = 1
  LINE_LAST_PIXEL = 16094
  LINE_PROJECTION_OFFSET = 8557.0
  MAP_PROJECTION_ROTATION = 0.0
  MAP_PROJECTION_TYPE = SINUSOIDAL
  MAP_RESOLUTION = 4741.71043093333
  MAP_SCALE = 0.0125
  MAXIMUM_LATITUDE = 1.84672
  MINIMUM_LATITUDE = -1.59949
  POSITIVE_LONGITUDE_DIRECTION = EAST
  REFERENCE_LATITUDE = "N/A"
  REFERENCE_LONGITUDE = "N/A"
  SAMPLE_FIRST_PIXEL = 1
  SAMPLE_LAST_PIXEL = 7241
  SAMPLE_PROJECTION_OFFSET = 1327.0
  SECOND_STANDARD_PARALLEL = "N/A"
  WESTERNMOST_LONGITUDE = 194.75
END_OBJECT = IMAGE_MAP_PROJECTION
END
