PDS_VERSION_ID = PDS3
/* FILE DATA ELEMENTS */
RECORD_TYPE = UNDEFINED
/* POINTERS TO DATA OBJECTS */
^IMAGE = ("HC509_0000_S14.TIF")
/* IDENTIFICATION DATA ELEMENTS */
DATA_SET_ID = "MEX-M-HRSC-4-REFDR-MAPPROJECT-EXT4-V4.0"
DATA_SET_NAME = "MARS EXPRESS HRSC MAP PROJECTED REFDR EXTENSION4 V4.0"
DETECTOR_ID = MEX_HRSC_S1
EVENT_TYPE = "MARS-LOCAL-STEREO-Vo-Eo-La"
INSTRUMENT_HOST_ID = MEX
INSTRUMENT_HOST_NAME = "MARS EXPRESS"
INSTRUMENT_ID = HRSC
INSTRUMENT_NAME = "HIGH RESOLUTION STEREO CAMERA"
MISSION_NAME = "MARS EXPRESS"
MISSION_PHASE_NAME = ME_Phase_29
PROCESSING_LEVEL_ID = 4
PRODUCT_CREATION_TIME = 2023-01-31T11:51:40.000Z
PRODUCT_ID = "HC509_0000_S14.TIF"
RELEASE_ID = 0003
REVISION_ID = 0000
/* QUALITY DATA ELEMENTS */
DATA_QUALITY_ID = 1
DATA_QUALITY_DESC = "Data calculated based on original SPICE kernels"
/* TIME DATA ELEMENTS */
SPACECRAFT_CLOCK_START_COUNT = "1/0331630844.08246"
SPACECRAFT_CLOCK_STOP_COUNT = "1/0331630979.09119"
START_TIME = 2013-11-04T07:42:03.817Z
STOP_TIME = 2013-11-04T07:43:01.561Z
/* ORBITAL DATA ELEMENTS */
ASCENDING_NODE_LONGITUDE = 338.94
MAXIMUM_RESOLUTION = 0.0182
FOOTPRINT_POINT_LATITUDE = (-1.58549,-1.58283,-1.58114,-1.57949, -1.57794,-1.57646,-1.5751,-1.57379, -1.57257,-1.57144,-1.5704,-1.56939, -1.56848,-1.56837,-1.5918,-1.4609, -1.29726,-1.19877,-1.03626,-0.873565, -0.773887,-0.640041,-0.540485,-0.440128 ,-0.339981,-0.174917,-0.010296,0.188687 ,0.256685,0.324463,0.392375,0.493831, 0.561638,0.663231,0.764809,0.832299, 0.966141,1.03411,1.1019,1.20518,1.2738, 1.3428,1.41166,1.48043,1.54913,1.65614, 1.72494,1.75923,1.77794,1.77626,1.77559 ,1.77494,1.77417,1.77386,1.77408, 1.77321,1.77097,1.76982,1.76958,1.76821 ,1.76642,1.76475,1.76188,1.76164, 1.76126,1.6583,1.55208,1.48395,1.41518, 1.31225,1.20937,1.14106,1.04142, 0.973688,0.905698,0.804328,0.704973, 0.638229,0.571125,0.467762,0.398708, 0.292504,0.223299,0.0887904,-0.040746, -0.202977,-0.302528,-0.435133,-0.502211 ,-0.603,-0.703262,-0.802969,-0.901477, -1.03167,-1.19534,-1.29443,-1.39143, -1.55411,-1.58684,-1.58549)
FOOTPRINT_POINT_LONGITUDE = (196.266,196.087,195.968,195.849, 195.731,195.613,195.495,195.377,195.26, 195.143,195.026,194.909,194.792,194.778 ,194.768,194.764,194.76,194.758,194.753 ,194.749,194.746,194.743,194.74,194.737 ,194.735,194.73,194.725,194.719,194.717 ,194.715,194.714,194.711,194.709, 194.706,194.703,194.701,194.697,194.695 ,194.693,194.69,194.688,194.686,194.684 ,194.682,194.679,194.676,194.674, 194.673,194.672,194.783,194.911,195.038 ,195.182,195.31,195.389,195.47,195.598, 195.679,195.824,195.937,196.034,196.115 ,196.278,196.294,196.302,196.301,196.3, 196.299,196.299,196.297,196.296,196.295 ,196.294,196.293,196.293,196.292,196.29 ,196.289,196.289,196.289,196.289,196.29 ,196.29,196.29,196.287,196.284,196.284, 196.282,196.282,196.282,196.281,196.281 ,196.28,196.279,196.278,196.278,196.277 ,196.276,196.276,196.266)
ORBIT_NUMBER = 12509
ORBITAL_ECCENTRICITY = 0.578
ORBITAL_INCLINATION = 86.89
ORBITAL_SEMIMAJOR_AXIS = 8838.99
PERIAPSIS_ALTITUDE = 337.54
PERIAPSIS_ARGUMENT_ANGLE = 340.42
PERIAPSIS_TIME = 2013-11-04T07:36:46.000Z
SPACECRAFT_ORIENTATION = (0.0,1.0,0.0)
^MEX_ORIENTATION_DESC = "MEX_ORIENTATION_DESC.TXT"
SPACECRAFT_POINTING_MODE = ACROSSTRACK
^MEX_POINTING_DESC = "MEX_POINTING_DESC.TXT"
RIGHT_ASCENSION = -1e+32
DECLINATION = -1e+32
OFFSET_ANGLE = -0.4
SPACECRAFT_SOLAR_DISTANCE = 2.4662e+08
TARGET_NAME = MARS
/* CAMERA DATA ELEMENTS */
DETECTOR_TEMPERATURE = 17.7588
FOCAL_PLANE_TEMPERATURE = 8.1755
INST_CMPRS_NAME = "DISCRETE COSINE TRANSFORMATION (DCT)"
INST_CMPRS_RATIO = 5.13289
INST_CMPRS_QUALITY = 0
INST_CMPRS_QUANTZ_TBL_ID = 0
INSTRUMENT_TEMPERATURE = 11.4379
LENS_TEMPERATURE = 8.7872
MACROPIXEL_SIZE = 1
MISSING_FRAMES = 2
PIXEL_SUBSAMPLING_FLAG = N
SIGNAL_CHAIN_ID = 2
/* RADIOMETRIC DATA ELEMENTS */
BANDWIDTH = 180.0
CENTER_FILTER_WAVELENGTH = 677.0
RADIANCE_OFFSET = 1.81692
RADIANCE_SCALING_FACTOR = 0.0113642
REFLECTANCE_SCALING_FACTOR = 0.000360611
MEX:REFLECTANCE_OFFSET = 0.0576549
/* IMAGE OBJECT DEFINITIONS */
OBJECT = IMAGE
  INTERCHANGE_FORMAT = BINARY
  LINES = 16094
  LINE_SAMPLES = 7241
  SAMPLE_TYPE = UNSIGNED_INTEGER
  SAMPLE_BITS = 8
  BANDS = 1
  BAND_STORAGE_TYPE = BAND_SEQUENTIAL
  MAXIMUM = 255
  MEAN = 97.5318
  MINIMUM = 1
  STANDARD_DEVIATION = 30.0197
END_OBJECT = IMAGE
/* MAP OBJECT DEFINITIONS */
OBJECT = IMAGE_MAP_PROJECTION
  ^DATA_SET_MAP_PROJECTION_CATALOG= "DSMAP.CAT"
  A_AXIS_RADIUS = 3396.0
  B_AXIS_RADIUS = 3396.0
  C_AXIS_RADIUS = 3396.0
  CENTER_LATITUDE = 0.0
  CENTER_LONGITUDE = 195.0
  COORDINATE_SYSTEM_NAME = PLANETOGRAPHIC
  COORDINATE_SYSTEM_TYPE = "BODY-FIXED ROTATING"
  EASTERNMOST_LONGITUDE = 196.302
  FIRST_STANDARD_PARALLEL = "N/A"
  LINE_FIRST_PIXEL = 1
  LINE_LAST_PIXEL = 16094
  LINE_PROJECTION_OFFSET = 8557.0
  MAP_PROJECTION_ROTATION = 0.0
  MAP_PROJECTION_TYPE = SINUSOIDAL
  MAP_RESOLUTION = 4741.71043093333
  MAP_SCALE = 0.0125
  MAXIMUM_LATITUDE = 1.77794
  MINIMUM_LATITUDE = -1.5918
  POSITIVE_LONGITUDE_DIRECTION = EAST
  REFERENCE_LATITUDE = "N/A"
  REFERENCE_LONGITUDE = "N/A"
  SAMPLE_FIRST_PIXEL = 1
  SAMPLE_LAST_PIXEL = 7241
  SAMPLE_PROJECTION_OFFSET = 1327.0
  SECOND_STANDARD_PARALLEL = "N/A"
  WESTERNMOST_LONGITUDE = 194.672
END_OBJECT = IMAGE_MAP_PROJECTION
END
